From mboxrd@z Thu Jan 1 00:00:00 1970 Return-Path: Received: from mails.dpdk.org (mails.dpdk.org [217.70.189.124]) by inbox.dpdk.org (Postfix) with ESMTP id 6C5134618C for ; Tue, 4 Feb 2025 11:15:25 +0100 (CET) Received: from mails.dpdk.org (localhost [127.0.0.1]) by mails.dpdk.org (Postfix) with ESMTP id 470B540661; Tue, 4 Feb 2025 11:15:25 +0100 (CET) Received: from mail-oa1-f100.google.com (mail-oa1-f100.google.com [209.85.160.100]) by mails.dpdk.org (Postfix) with ESMTP id 4E1CF40265 for ; Tue, 4 Feb 2025 11:15:24 +0100 (CET) Received: by mail-oa1-f100.google.com with SMTP id 586e51a60fabf-29fb532b668so1378570fac.0 for ; Tue, 04 Feb 2025 02:15:24 -0800 (PST) DKIM-Signature: v=1; a=rsa-sha256; c=relaxed/relaxed; d=iol.unh.edu; s=unh-iol; t=1738664123; x=1739268923; darn=dpdk.org; h=cc:to:from:subject:message-id:date:from:to:cc:subject:date :message-id:reply-to; bh=Q8e4wjiZrPwLsQ3LI25GaTNzSrEzUsvk0VHie49z5Xw=; b=hJTLpdfnxrp/QPD039hoEh4e7f/jlJlHCUfnVKs+NpmjyMXTPF1AZZsnHpwvDrKJbU aHuEIsJs1hlJpEc7LbE6FXVdicZPpCvyq7L5qb4+TWftiDdjiGTrSMu1cQ+sjd/GkiSo o9vlvHsHOUgqfX2+3LreprYr42CgDlOHn40AE= X-Google-DKIM-Signature: v=1; a=rsa-sha256; c=relaxed/relaxed; d=1e100.net; s=20230601; t=1738664123; x=1739268923; h=cc:to:from:subject:message-id:date:x-gm-message-state:from:to:cc :subject:date:message-id:reply-to; bh=Q8e4wjiZrPwLsQ3LI25GaTNzSrEzUsvk0VHie49z5Xw=; b=UPx6XTwOItzLKD37z6sYC6XOQg/bYXcQXJgt9fWWUzgHqT0mzV2XoKN0xsodiKtgbq nphHn6nbiiaFC+58yzMxgnkrMNRv4NW6YOFIFp3eHCTJxkj4ZKqtEoTWvIXxrtWPKquB 8FnXCwZ3n6jtyYOVomTk6i+D8jBBPCPFu36HhX4uo2DKNqu8jC71XgpoqVhfHeoDg/Ts bQMswbB6hXC178ZL0bLfKLbM/r2IW2wJ9S5qFyKGhgTLNptz3Z0Eh4Z6SHvcVhKQLL9P 6aJ+5OfP0hkc7xB10bdnEUo7m81qOwpB6r9hcUfPqYZWpQqsZ5mZ5Ij8oH6sLUCArAAg QZkw== X-Gm-Message-State: AOJu0YwEvhtRfwIx/ZtcVQ5eSehXCdkYW8nYu2u26gyL22o9K8BTjP8L gin0uzg/w3IaK4NenMdJ7yb1Z+QynehicWLzNMO/9HqrJwyLaLEHd+uQqUY84FjRhy0luaLZtPy u80cD8sDLF2ih+1sz74NsYx/rifZN3kL/xU0+GGWN2OTE9LlO X-Gm-Gg: ASbGnctf0OE2iuymhpgEPxuuTY8f0Ke7/AGeVbW3EcxSHwr31LPjdq6TjQffdVnCm5l Kcjt7Uy2R4mbOk+vGqfuy5dqPtJCFRWFrZmBA9AySyKPACvER7kdFVhg4kFiblBmNWMepJuFoK2 nOraE4QH9E7qtQwEMdorFXfJgFPtufXmY0R4QRwo7+K6ghmXZuTKweKGtSjPQoAJrpZ4wrgmOnC yKgpy789bxFpcELfJNIBYhrwhPMLm3f41S7z7q2x5v9l+L/yutSSGnLlKunqZSwymKGKsC62JXU yrS8/CbNPrf8IPzWfbM57evB8zjPnczq71DOWK5JMQ== X-Google-Smtp-Source: AGHT+IF6Zfb+ZnThfJT8PScefWJSlZGfEYlJO4lgjwtwaLOUAyGR1otjh+hcAJVunWHKEmEMit2gRJlsQarH X-Received: by 2002:a05:6870:df42:b0:2b7:d3f1:dc72 with SMTP id 586e51a60fabf-2b7d3f1eaa9mr354872fac.29.1738664123297; Tue, 04 Feb 2025 02:15:23 -0800 (PST) Received: from postal.iol.unh.edu (postal.iol.unh.edu. [2606:4100:3880:1234::84]) by smtp-relay.gmail.com with ESMTPS id 586e51a60fabf-2b3562f6407sm808094fac.24.2025.02.04.02.15.23 (version=TLS1_2 cipher=ECDHE-ECDSA-AES128-GCM-SHA256 bits=128/128); Tue, 04 Feb 2025 02:15:23 -0800 (PST) X-Relaying-Domain: iol.unh.edu Date: Tue, 04 Feb 2025 02:15:23 -0800 (PST) Message-ID: <67a1e8bb.050a0220.f9de9.5983SMTPIN_ADDED_MISSING@mx.google.com> Received: from [172.17.0.4] (unknown [172.18.0.217]) by postal.iol.unh.edu (Postfix) with ESMTP id 5F6196052471; Tue, 4 Feb 2025 05:15:21 -0500 (EST) Subject: |SUCCESS| [GIT MASTER] c66daa12e76d7b4912cfb7109a761856a7a873ab From: dpdklab@iol.unh.edu To: Test Report Cc: dpdk-test-reports@iol.unh.edu, Xueming Li , Christian Ehrhardt , Kevin Traynor , Luca Boccassi Content-Type: text/plain X-BeenThere: test-report@dpdk.org X-Mailman-Version: 2.1.29 Precedence: list List-Id: automatic DPDK test reports List-Unsubscribe: , List-Archive: List-Post: List-Help: List-Subscribe: , Errors-To: test-report-bounces@dpdk.org _Testing PASS_ Branch: tags/v23.11 c66daa12e76d7b4912cfb7109a761856a7a873ab --> testing pass Upstream job id: Generic-DPDK-Compile-Meson#357527 Test environment and result as below: +------------------------------------+--------------------+ | Environment | dpdk_meson_compile | +====================================+====================+ | RHEL9 (ARM) | PASS | +------------------------------------+--------------------+ | Ubuntu 20.04 ARM GCC Cross Compile | PASS | +------------------------------------+--------------------+ | Ubuntu 20.04 ARM SVE | PASS | +------------------------------------+--------------------+ | Debian 12 with MUSDK | PASS | +------------------------------------+--------------------+ | Fedora 40 (ARM) | PASS | +------------------------------------+--------------------+ | Fedora 40 (ARM Clang) | PASS | +------------------------------------+--------------------+ | Fedora 41 (ARM) | PASS | +------------------------------------+--------------------+ | Fedora 41 (ARM Clang) | PASS | +------------------------------------+--------------------+ | Ubuntu 20.04 (ARM) | PASS | +------------------------------------+--------------------+ | Ubuntu 22.04 (ARM) | PASS | +------------------------------------+--------------------+ | Ubuntu 24.04 (ARM) | PASS | +------------------------------------+--------------------+ | CentOS Stream 9 (ARM) | PASS | +------------------------------------+--------------------+ | Debian 11 (Buster) (ARM) | PASS | +------------------------------------+--------------------+ | Debian 12 (arm) | PASS | +------------------------------------+--------------------+ RHEL9 (ARM) Kernel: Depends on container host Compiler: gcc 11.5.0 20240719 (Red Hat 11.5.0-2) Ubuntu 20.04 ARM GCC Cross Compile Kernel: Depends on container host Compiler: aarch64-linux-gnu-gcc (Ubuntu 9.4.0-1ubuntu1~20.04.2) 9.4.0 Ubuntu 20.04 ARM SVE Kernel: Depends on container host Compiler: gcc (Ubuntu 10.5.0-1ubuntu1~20.04) 10.5.0 Debian 12 with MUSDK Kernel: Depends on container host Compiler: gcc (Debian 12.2.0-14) 12.2.0 Fedora 40 (ARM) Kernel: Depends on container host Compiler: gcc 14.2.1 20240912 (Red Hat 14.2.1-3) Fedora 40 (ARM Clang) Kernel: Depends on container host Compiler: clang 18.1.8 (Fedora 18.1.8-1.fc40) Fedora 41 (ARM) Kernel: Depends on container host Compiler: gcc 14.2.1 20240912 (Red Hat 14.2.1-3) Fedora 41 (ARM Clang) Kernel: Depends on container host Compiler: clang 19.1.5 (Fedora 19.1.5-1.fc41) Ubuntu 20.04 (ARM) Kernel: Depends on container host Compiler: gcc (Ubuntu 9.4.0-1ubuntu1~20.04.2) 9.4.0 Ubuntu 22.04 (ARM) Kernel: Depends on container host Compiler: gcc (Ubuntu 11.4.0-1ubuntu1~22.04) 11.4.0 Ubuntu 24.04 (ARM) Kernel: Depends on container host Compiler: gcc (Ubuntu 13.3.0-6ubuntu2~24.04) 13.3.0 CentOS Stream 9 (ARM) Kernel: Depends on container host Compiler: gcc 11.5.0 20240719 (Red Hat 11.5.0-2) Debian 11 (Buster) (ARM) Kernel: Depends on container host Compiler: gcc (Debian 10.2.1-6) 10.2.1 20210110 Debian 12 (arm) Kernel: Depends on container host Compiler: gcc (Debian 12.2.0-14) 12.2.0 To view detailed results, visit: https://lab.dpdk.org/results/dashboard/tarballs/32431/ UNH-IOL DPDK Community Lab To manage your email subscriptions, visit: https://lab.dpdk.org/results/dashboard/preferences/subscriptions/