From mboxrd@z Thu Jan 1 00:00:00 1970 Return-Path: Received: from mails.dpdk.org (mails.dpdk.org [217.70.189.124]) by inbox.dpdk.org (Postfix) with ESMTP id 5B70F46190 for ; Tue, 4 Feb 2025 17:19:35 +0100 (CET) Received: from mails.dpdk.org (localhost [127.0.0.1]) by mails.dpdk.org (Postfix) with ESMTP id 451F9402DF; Tue, 4 Feb 2025 17:19:35 +0100 (CET) Received: from mail-il1-f226.google.com (mail-il1-f226.google.com [209.85.166.226]) by mails.dpdk.org (Postfix) with ESMTP id 8F0C9400D6 for ; Tue, 4 Feb 2025 17:19:34 +0100 (CET) Received: by mail-il1-f226.google.com with SMTP id e9e14a558f8ab-3ce868498d3so16873475ab.3 for ; Tue, 04 Feb 2025 08:19:34 -0800 (PST) DKIM-Signature: v=1; a=rsa-sha256; c=relaxed/relaxed; d=iol.unh.edu; s=unh-iol; t=1738685973; x=1739290773; darn=dpdk.org; h=references:in-reply-to:cc:to:from:subject:message-id:date:from:to :cc:subject:date:message-id:reply-to; bh=5U6uhuWHGBckmnhFT97UMqrvrOtZpMFM19jGCJJFe8c=; b=jBMVnF5h24jOv0P3xe7lmTCxp5Mmxm9h727lJy4fjN0btMnJdEILfSn49jjeSxPsc9 dEYwQSILw/WY5Sa5UpCwVAPW8uiD8yZlV4sR3NEa3SDgCU/HF7icnrnCfIk0voXKjOfa OWXieXEP2LxSo1zvSGyboDFGYmVP9hpDiQkaA= X-Google-DKIM-Signature: v=1; a=rsa-sha256; c=relaxed/relaxed; d=1e100.net; s=20230601; t=1738685973; x=1739290773; h=references:in-reply-to:cc:to:from:subject:message-id:date :x-gm-message-state:from:to:cc:subject:date:message-id:reply-to; bh=5U6uhuWHGBckmnhFT97UMqrvrOtZpMFM19jGCJJFe8c=; b=MB3fu8y4tscjNWLGnmRLOgbJeSD8UsAha7brznVmcEF4NzNLVBU9b4y9Jh2mELI2Hp EUP1GVPJ5XrJnKiWgGlXWUs5uakgyQGy7u8qCMe11jzsRWHRdEA6UPD1bmpqjGUD3hG2 LFjQNQ2LalQhOUtP+TI4xrPixzOW3rTMVe4Dc+3ar39/vGkDTKZZ0iLDzHomcV1LqydC XYqZzzYUvJFBpAI7Lag+liuQ0szIOrqdT28etNsqEeWF+TGmBC2L2gqO7xY1aH/CZYR2 JQfNI8nph1ILI1n3DjbFAdcSc7rOdFetr2qJAlx+VvA61Sn6gxmoR/GC+v5Jkdfcq3Se MPog== X-Gm-Message-State: AOJu0Yz1+uy6AjVcp5nDXh5qVmnlCWduMN4gAu/O5dkqq5AZVhQHnyLi Qxg091JPJP9CrhBoSapoRwjDg9qTAR1RNjXR1eTaQWhChkU6VKCL5JsumwTMrBxM91w4R3CiiPf NxdPGYKOY82cZNsUy5ZUSjAdWhd5Ja4d5iqmmWA3g2m5KmKEXq7Jp+j7h X-Gm-Gg: ASbGnct+5DIUiNxGbUJpKf1hoVRHp1PRqvTpd3bFnWSst6vrUjmeEgPzQFUX1ZPuwkf dsqTov5LM61NtHMcRRVI6GtTe4NEjt6hV8tMguo7KIGsrVBpb/3skv7D5s2Bnu70/8okt19XYvY 6KTTlEg1dNGo3WGx0WO/jLehOVRZNJRk7lMw6z836VqJuwTi8WgnzcEZsavZA5CSxePXKx5aAZF M+m3Gz5deVp+tdsuy5qLFV1kvdPIgApKHHBGh3AyWUEL3G0jr/9WwwDtCm8quZZZWHuyKOOIYsh 9mxPkPNpkWDGAbknrbwqS+69MXE+VG+WlYSIyP+etw== X-Google-Smtp-Source: AGHT+IHzlXYr7BYyrhg+bAyukpaHCL0PRO8m+U4rv2BCuhZFVzuk3F/ztqgkSv1hvF92NgSWHc2qcwRtvetR X-Received: by 2002:a05:6e02:98:b0:3d0:2fcb:e7f with SMTP id e9e14a558f8ab-3d02fcb0e94mr85047475ab.0.1738685973687; Tue, 04 Feb 2025 08:19:33 -0800 (PST) Received: from postal.iol.unh.edu (postal.iol.unh.edu. [2606:4100:3880:1234::84]) by smtp-relay.gmail.com with ESMTPS id 8926c6da1cb9f-4ec745d18e2sm701806173.43.2025.02.04.08.19.33 (version=TLS1_2 cipher=ECDHE-ECDSA-AES128-GCM-SHA256 bits=128/128); Tue, 04 Feb 2025 08:19:33 -0800 (PST) X-Relaying-Domain: iol.unh.edu Date: Tue, 04 Feb 2025 08:19:33 -0800 (PST) Message-ID: <67a23e15.050a0220.3bafe9.0af0SMTPIN_ADDED_MISSING@mx.google.com> Received: from [172.17.0.5] (unknown [172.18.0.217]) by postal.iol.unh.edu (Postfix) with ESMTP id 33E346052472; Tue, 4 Feb 2025 11:19:33 -0500 (EST) Subject: |SUCCESS| pw150796-150797 [PATCH] [v5,2/2] common/idpf: enable AVX2 From: dpdklab@iol.unh.edu To: Test Report Cc: dpdk-test-reports@iol.unh.edu In-Reply-To: <20250203075508.1304702-3-shaiq.wani@intel.com> References: <20250203075508.1304702-3-shaiq.wani@intel.com> Content-Type: text/plain X-BeenThere: test-report@dpdk.org X-Mailman-Version: 2.1.29 Precedence: list List-Id: automatic DPDK test reports List-Unsubscribe: , List-Archive: List-Post: List-Help: List-Subscribe: , Errors-To: test-report-bounces@dpdk.org Test-Label: iol-sample-apps-testing Test-Status: SUCCESS http://dpdk.org/patch/150797 _Testing PASS_ Submitter: Shaiq Wani Date: Monday, February 03 2025 07:55:08 DPDK git baseline: Repo:dpdk Branch: master CommitID:abf3b7b7b361f8aa8d75ae00d449b588a0cdcda3 150796-150797 --> testing pass Upstream job id: ACVP-FIPS-testing#8774 Test environment and result as below: +--------------------+----------------------+----------------------+ | Environment | dpdk_fips_validation | compressdev_zlib_pmd | +====================+======================+======================+ | Ubuntu 20.04 | PASS | SKIPPED | +--------------------+----------------------+----------------------+ | Ubuntu 22.04 (ARM) | SKIPPED | PASS | +--------------------+----------------------+----------------------+ | Ubuntu 22.04 | SKIPPED | PASS | +--------------------+----------------------+----------------------+ Ubuntu 20.04 Kernel: Depends on container host Compiler: gcc (Ubuntu 9.4.0-1ubuntu1~20.04.2) 9.4.0 Ubuntu 22.04 (ARM) Kernel: 5.15.0-97-generic Compiler: gcc gcc (Ubuntu 11.4.0-1ubuntu1~22.04) 11.4.0 Ubuntu 22.04 Kernel: 5.15.0-100-generic Compiler: gcc gcc (Ubuntu 11.4.0-1ubuntu1~22.04) 11.4.0 To view detailed results, visit: https://lab.dpdk.org/results/dashboard/patchsets/32481/ UNH-IOL DPDK Community Lab To manage your email subscriptions, visit: https://lab.dpdk.org/results/dashboard/preferences/subscriptions/