From mboxrd@z Thu Jan 1 00:00:00 1970 Return-Path: Received: from mails.dpdk.org (mails.dpdk.org [217.70.189.124]) by inbox.dpdk.org (Postfix) with ESMTP id 5A1634618E for ; Tue, 4 Feb 2025 17:19:35 +0100 (CET) Received: from mails.dpdk.org (localhost [127.0.0.1]) by mails.dpdk.org (Postfix) with ESMTP id 37BEA400D7; Tue, 4 Feb 2025 17:19:35 +0100 (CET) Received: from mail-qv1-f99.google.com (mail-qv1-f99.google.com [209.85.219.99]) by mails.dpdk.org (Postfix) with ESMTP id 0116F400D6 for ; Tue, 4 Feb 2025 17:19:33 +0100 (CET) Received: by mail-qv1-f99.google.com with SMTP id 6a1803df08f44-6e429a885f6so9274116d6.0 for ; Tue, 04 Feb 2025 08:19:33 -0800 (PST) DKIM-Signature: v=1; a=rsa-sha256; c=relaxed/relaxed; d=iol.unh.edu; s=unh-iol; t=1738685973; x=1739290773; darn=dpdk.org; h=references:in-reply-to:cc:to:from:subject:message-id:date:from:to :cc:subject:date:message-id:reply-to; bh=OSQhqFAa/qRIpUdpWZP7PP/VCFp7rLqSLhTMXUZM6Dk=; b=COZ1bKpJjzcfYAQNuzRs45Z7SmTt/9mzOi6tvwPGZPC8HGsfeAuYndoab7Y7WjOxnh vpU4qODyXOXHpVp+2D+uxKskf/pG+UZlYIzobtKCWuhfyvOyAkzGNFAHMmPQ7/BT7Uom ep59lrnsv5yTQNwsAjz7/7UJS+pPBsd2zXRII= X-Google-DKIM-Signature: v=1; a=rsa-sha256; c=relaxed/relaxed; d=1e100.net; s=20230601; t=1738685973; x=1739290773; h=references:in-reply-to:cc:to:from:subject:message-id:date :x-gm-message-state:from:to:cc:subject:date:message-id:reply-to; bh=OSQhqFAa/qRIpUdpWZP7PP/VCFp7rLqSLhTMXUZM6Dk=; b=rupI0z+/GGMsaVHLAhEA8NkZWSGSmMtaMSGmUqlyLkGLbZ3bAlN46MCHgCwSPwQ4uT mYaphpFt/FhAYguf600hsne8NyOll+kAPjxS64ed52/IYSQHz/egZmo+sBdnyl6vfWp3 W4nTcAxSUloCNNNwIPJw4ZhQB/6/iXIFGqTWbpp0uRJxcJI8vQrZcMDLbm4WsySVHo7M 7NlUJ8zfoTQb1UqFaa8K4e6GqOgK2YH4gwPVQYgBHlkhhS+G5oPmMvxkEssyOnYgb7vt R+9R82mIbvwBJpzkfX8qPTCh7Y+ygCnwC30j0NVQTc0gP8ql5sLuo+JjE6UyYnwHYhVy Q3lQ== X-Gm-Message-State: AOJu0YxBo0pLDsPmYqM5mBiV18J8YrInTKX4sB946l7ozPpa4/0/zQIB BJVIwM3HWq9/n1irELQP20TPaeGf8TmMJLfENseo+NAredX3XYP3ulwVClMENIwXvjQ9UCLn5dR 5iafafzvsPM5WzzHJ4Av31CKrPiJV32GmCd5ZjksaRfVN7FilrRv4K9Aw X-Gm-Gg: ASbGncujdzMLxEk/kjVw4DyYjPeJQmrGahcWlk9ZmLSN9b6FQZAxxQ6sVqIoy3jOHHY QWb63q4gwzF8yeEQGquCSnetdZEYSE0jp0RDOCjw4ttVlMOQY4Yaho/bKrfcP2rlLkY8zsQTiaB J5EFJm70H2bz01prGWwy2hjVbycoP6vAU8bgRAX68CJG4atvBdid8mk5DDP3fDtwIzi8L3/AfVh jIWs8hkENBF3tki8dx0wWckrSmUifmUvBkDSKcnNuY0yaYSLvb5rMHPLzIjpFGxwfFeXlgjZYSV 3XnJoOqYfQphXN0DlDpAhBH8Zhht4PJ56UgC7qIjhQ== X-Google-Smtp-Source: AGHT+IHFOT/vZwelC0glvyxUjB8saZA7Yce/Eb+oxeiAKUas/hFUWn7HyfhxD0DZrR2/jpvjKFIblDexR2A5 X-Received: by 2002:a05:6214:568e:b0:6d8:8466:d205 with SMTP id 6a1803df08f44-6e243b94141mr320061856d6.6.1738685973383; Tue, 04 Feb 2025 08:19:33 -0800 (PST) Received: from postal.iol.unh.edu (postal.iol.unh.edu. [2606:4100:3880:1234::84]) by smtp-relay.gmail.com with ESMTPS id 6a1803df08f44-6e254858966sm8025406d6.42.2025.02.04.08.19.33 (version=TLS1_2 cipher=ECDHE-ECDSA-AES128-GCM-SHA256 bits=128/128); Tue, 04 Feb 2025 08:19:33 -0800 (PST) X-Relaying-Domain: iol.unh.edu Date: Tue, 04 Feb 2025 08:19:33 -0800 (PST) Message-ID: <67a23e15.050a0220.fe0b6.4a78SMTPIN_ADDED_MISSING@mx.google.com> Received: from [172.17.0.6] (unknown [172.18.0.217]) by postal.iol.unh.edu (Postfix) with ESMTP id 18E056052471; Tue, 4 Feb 2025 11:19:33 -0500 (EST) Subject: |SUCCESS| pw150796-150797 [PATCH] [v5,2/2] common/idpf: enable AVX2 From: dpdklab@iol.unh.edu To: Test Report Cc: dpdk-test-reports@iol.unh.edu In-Reply-To: <20250203075508.1304702-3-shaiq.wani@intel.com> References: <20250203075508.1304702-3-shaiq.wani@intel.com> Content-Type: text/plain X-BeenThere: test-report@dpdk.org X-Mailman-Version: 2.1.29 Precedence: list List-Id: automatic DPDK test reports List-Unsubscribe: , List-Archive: List-Post: List-Help: List-Subscribe: , Errors-To: test-report-bounces@dpdk.org Test-Label: iol-sample-apps-testing Test-Status: SUCCESS http://dpdk.org/patch/150797 _Testing PASS_ Submitter: Shaiq Wani Date: Monday, February 03 2025 07:55:08 DPDK git baseline: Repo:dpdk Branch: master CommitID:abf3b7b7b361f8aa8d75ae00d449b588a0cdcda3 150796-150797 --> testing pass Upstream job id: Template-DTS-Pipeline#210458 Test environment and result as below: +--------------------+----------------------+----------------------+ | Environment | dpdk_fips_validation | compressdev_zlib_pmd | +====================+======================+======================+ | Ubuntu 20.04 | PASS | SKIPPED | +--------------------+----------------------+----------------------+ | Ubuntu 22.04 (ARM) | SKIPPED | PASS | +--------------------+----------------------+----------------------+ | Ubuntu 22.04 | SKIPPED | PASS | +--------------------+----------------------+----------------------+ Ubuntu 20.04 Kernel: Depends on container host Compiler: gcc (Ubuntu 9.4.0-1ubuntu1~20.04.2) 9.4.0 Ubuntu 22.04 (ARM) Kernel: 5.15.0-97-generic Compiler: gcc gcc (Ubuntu 11.4.0-1ubuntu1~22.04) 11.4.0 Ubuntu 22.04 Kernel: 5.15.0-100-generic Compiler: gcc gcc (Ubuntu 11.4.0-1ubuntu1~22.04) 11.4.0 To view detailed results, visit: https://lab.dpdk.org/results/dashboard/patchsets/32481/ UNH-IOL DPDK Community Lab To manage your email subscriptions, visit: https://lab.dpdk.org/results/dashboard/preferences/subscriptions/