From mboxrd@z Thu Jan 1 00:00:00 1970 Return-Path: Received: from mails.dpdk.org (mails.dpdk.org [217.70.189.124]) by inbox.dpdk.org (Postfix) with ESMTP id 82BE346190 for ; Tue, 4 Feb 2025 18:03:16 +0100 (CET) Received: from mails.dpdk.org (localhost [127.0.0.1]) by mails.dpdk.org (Postfix) with ESMTP id 74A9D4029F; Tue, 4 Feb 2025 18:03:16 +0100 (CET) Received: from mail-il1-f228.google.com (mail-il1-f228.google.com [209.85.166.228]) by mails.dpdk.org (Postfix) with ESMTP id 63C6A400EF for ; Tue, 4 Feb 2025 18:03:15 +0100 (CET) Received: by mail-il1-f228.google.com with SMTP id e9e14a558f8ab-3d03ac846a7so6152145ab.2 for ; Tue, 04 Feb 2025 09:03:15 -0800 (PST) DKIM-Signature: v=1; a=rsa-sha256; c=relaxed/relaxed; d=iol.unh.edu; s=unh-iol; t=1738688594; x=1739293394; darn=dpdk.org; h=references:in-reply-to:cc:to:from:subject:message-id:date:from:to :cc:subject:date:message-id:reply-to; bh=6iNPM0YYhShYtS8v39/r4bmTqNrFuRkXTtNl5igcAW8=; b=emfFnr5Oo31bC8t1ZQP8ghyJWHuypKvyzY2zO0RDEd8u+2eYbyUJIivwJrTBVODvGu F+oC6dBZ3U7fU+8LkgRCxPnLpBE2NWxePnyzHq8KuDEtt5ozb8LqQmviQhlHONNVGo6N pkMO3DeWItuJ0Obg+9QyyF5RfDExmjC3oF6Yw= X-Google-DKIM-Signature: v=1; a=rsa-sha256; c=relaxed/relaxed; d=1e100.net; s=20230601; t=1738688594; x=1739293394; h=references:in-reply-to:cc:to:from:subject:message-id:date :x-gm-message-state:from:to:cc:subject:date:message-id:reply-to; bh=6iNPM0YYhShYtS8v39/r4bmTqNrFuRkXTtNl5igcAW8=; b=mKMhTHUJBQGww4l55FhblKeGStGqxFcCWCLwKIc9qn82N9cWr7gnZhkMzDRtF/8ruW IWX8slZAuiOD0g1VEmGroQe5ikkufm3+grOGX6wF/SxA8wkYl1Wf5xrtWD/TK+Hw+862 7t8xyd2NYyqcyJDg2LqCXgD4fMblGa4kFD5BMvBL3hgHdsUg24W3ajRbJenXXv0LU10D 7duyWebF2lRuZYxv2mw51CVHN9CyHaJW4hU/X2f0ff+A0/L3d9fPt/9kPxO7Zgsdx+AR XW48IYV6h0Gl0ksJVH6dFgqMmFOAf+n83wuYdR/58PWdgzRPg/EGZ109DlI1wXXpOyWY eCQQ== X-Gm-Message-State: AOJu0YyrCk4aZ/U5yRFXkQvYB840H25xDMq0uKtzQMnCbzWqP4hJe72u uGSysDCZ1UwmJKvEwSElQyxG1l4XD+NSZIEroVtWiNvOW7LAjQW7vRNrq4Rm/QIIi4Pjv8vFzJY rDCukTv6V0lj7QiqIyTJtXT8FX4jZTVkhOjUi5r7c1J7qwlK4ODl5dBU7 X-Gm-Gg: ASbGncspwa2lpTfP51HHCYISNipLgyLTrNHYvPF4ne9OQ0XO7PHeW9sxLouFDaDoiRf sdY6zDTk9Ijvc5w/BButTrrMG4AIDFZ6uZy/ebKMgcXvNDZI7mwxKXo0SSSVhFZn6DK3LZj1Q3q fFjWHd04bCWtGnvu73YZzPr/ziOf1tKqtZvmFjW1AYtkJbeHMewOiWqpSYe77eLrYYY76NrjK9R ZUrrrCpH66l3LFnFEc64vx3bgcfRVzS3KoOl0FtfoT2d5qMnELVQJbjstORtmt2ar8OvLN5tjNL n98JvT08sZugo0v9iodxeHhMw4opanDtnYN7vqpKEw== X-Google-Smtp-Source: AGHT+IGWIpR1beNinH1vawTW3/ENtcKBI2YSs4tSkuTuEFTHh9GTQkf3Wi/ZE3pUqBQJDXaE5AzPjlUdb4ud X-Received: by 2002:a05:6e02:138b:b0:3d0:443d:a5c3 with SMTP id e9e14a558f8ab-3d0443daa50mr17415585ab.3.1738688594679; Tue, 04 Feb 2025 09:03:14 -0800 (PST) Received: from postal.iol.unh.edu (postal.iol.unh.edu. [2606:4100:3880:1234::84]) by smtp-relay.gmail.com with ESMTPS id e9e14a558f8ab-3d04bd4f574sm249905ab.67.2025.02.04.09.03.14 (version=TLS1_2 cipher=ECDHE-ECDSA-AES128-GCM-SHA256 bits=128/128); Tue, 04 Feb 2025 09:03:14 -0800 (PST) X-Relaying-Domain: iol.unh.edu Date: Tue, 04 Feb 2025 09:03:14 -0800 (PST) Message-ID: <67a24852.050a0220.f83d7.173cSMTPIN_ADDED_MISSING@mx.google.com> Received: from [172.21.0.5] (unknown [172.18.0.240]) by postal.iol.unh.edu (Postfix) with ESMTP id 1E5296052471; Tue, 4 Feb 2025 12:03:14 -0500 (EST) Subject: |SUCCESS| pw150796-150797 [PATCH] [v5,2/2] common/idpf: enable AVX2 From: dpdklab@iol.unh.edu To: Test Report Cc: dpdk-test-reports@iol.unh.edu In-Reply-To: <20250203075508.1304702-3-shaiq.wani@intel.com> References: <20250203075508.1304702-3-shaiq.wani@intel.com> Content-Type: text/plain X-BeenThere: test-report@dpdk.org X-Mailman-Version: 2.1.29 Precedence: list List-Id: automatic DPDK test reports List-Unsubscribe: , List-Archive: List-Post: List-Help: List-Subscribe: , Errors-To: test-report-bounces@dpdk.org Test-Label: iol-unit-arm64-testing Test-Status: SUCCESS http://dpdk.org/patch/150797 _Testing PASS_ Submitter: Shaiq Wani Date: Monday, February 03 2025 07:55:08 DPDK git baseline: Repo:dpdk Branch: master CommitID:abf3b7b7b361f8aa8d75ae00d449b588a0cdcda3 150796-150797 --> testing pass Upstream job id: Generic-Unit-Test-DPDK#311418 Test environment and result as below: +-----------------------------+----------------+---------------------------+--------------+------------------------------+ | Environment | dpdk_unit_test | cryptodev_sw_zuc_autotest | lpm_autotest | cryptodev_sw_snow3g_autotest | +=============================+================+===========================+==============+==============================+ | Debian 12 (arm) | PASS | PASS | SKIPPED | PASS | +-----------------------------+----------------+---------------------------+--------------+------------------------------+ | Debian 11 (Buster) (ARM) | PASS | SKIPPED | SKIPPED | SKIPPED | +-----------------------------+----------------+---------------------------+--------------+------------------------------+ | Fedora 41 (ARM Clang) | PASS | SKIPPED | SKIPPED | SKIPPED | +-----------------------------+----------------+---------------------------+--------------+------------------------------+ | Fedora 41 (ARM) | PASS | SKIPPED | SKIPPED | SKIPPED | +-----------------------------+----------------+---------------------------+--------------+------------------------------+ | Ubuntu 20.04 (ARM) | PASS | SKIPPED | SKIPPED | SKIPPED | +-----------------------------+----------------+---------------------------+--------------+------------------------------+ | Fedora 40 (ARM Clang) | PASS | SKIPPED | SKIPPED | SKIPPED | +-----------------------------+----------------+---------------------------+--------------+------------------------------+ | Ubuntu 24.04 (ARM) | PASS | SKIPPED | SKIPPED | SKIPPED | +-----------------------------+----------------+---------------------------+--------------+------------------------------+ | RHEL9 (ARM) | PASS | SKIPPED | SKIPPED | SKIPPED | +-----------------------------+----------------+---------------------------+--------------+------------------------------+ | CentOS Stream 9 (ARM) | PASS | SKIPPED | SKIPPED | SKIPPED | +-----------------------------+----------------+---------------------------+--------------+------------------------------+ | 32-bit Ubuntu 22.04.4 (ARM) | PASS | SKIPPED | SKIPPED | SKIPPED | +-----------------------------+----------------+---------------------------+--------------+------------------------------+ | Fedora 40 (ARM) | PASS | SKIPPED | SKIPPED | SKIPPED | +-----------------------------+----------------+---------------------------+--------------+------------------------------+ | Ubuntu 22.04 (ARM) | PASS | SKIPPED | SKIPPED | SKIPPED | +-----------------------------+----------------+---------------------------+--------------+------------------------------+ | Ubuntu 20.04 ARM SVE | SKIPPED | SKIPPED | PASS | SKIPPED | +-----------------------------+----------------+---------------------------+--------------+------------------------------+ Debian 12 (arm) Kernel: Depends on container host Compiler: gcc (Debian 12.2.0-14) 12.2.0 Debian 11 (Buster) (ARM) Kernel: Depends on container host Compiler: gcc (Debian 10.2.1-6) 10.2.1 20210110 Fedora 41 (ARM Clang) Kernel: Depends on container host Compiler: clang 19.1.5 (Fedora 19.1.5-1.fc41) Fedora 41 (ARM) Kernel: Depends on container host Compiler: gcc 14.2.1 20240912 (Red Hat 14.2.1-3) Ubuntu 20.04 (ARM) Kernel: Depends on container host Compiler: gcc (Ubuntu 9.4.0-1ubuntu1~20.04.2) 9.4.0 Fedora 40 (ARM Clang) Kernel: Depends on container host Compiler: clang 18.1.8 (Fedora 18.1.8-1.fc40) Ubuntu 24.04 (ARM) Kernel: Depends on container host Compiler: gcc (Ubuntu 13.3.0-6ubuntu2~24.04) 13.3.0 RHEL9 (ARM) Kernel: Depends on container host Compiler: gcc 11.5.0 20240719 (Red Hat 11.5.0-2) CentOS Stream 9 (ARM) Kernel: Depends on container host Compiler: gcc 11.5.0 20240719 (Red Hat 11.5.0-2) 32-bit Ubuntu 22.04.4 (ARM) Kernel: 5.15.83+ aarch64 Compiler: gcc (Ubuntu 11.4.0-1ubuntu1~22.04) 11.4.0 Fedora 40 (ARM) Kernel: Depends on container host Compiler: gcc 14.2.1 20240912 (Red Hat 14.2.1-3) Ubuntu 22.04 (ARM) Kernel: Depends on container host Compiler: gcc (Ubuntu 11.4.0-1ubuntu1~22.04) 11.4.0 Ubuntu 20.04 ARM SVE Kernel: Depends on container host Compiler: gcc (Ubuntu 10.5.0-1ubuntu1~20.04) 10.5.0 To view detailed results, visit: https://lab.dpdk.org/results/dashboard/patchsets/32481/ UNH-IOL DPDK Community Lab To manage your email subscriptions, visit: https://lab.dpdk.org/results/dashboard/preferences/subscriptions/