From mboxrd@z Thu Jan 1 00:00:00 1970 Return-Path: Received: from mails.dpdk.org (mails.dpdk.org [217.70.189.124]) by inbox.dpdk.org (Postfix) with ESMTP id 649C546190 for ; Tue, 4 Feb 2025 18:26:05 +0100 (CET) Received: from mails.dpdk.org (localhost [127.0.0.1]) by mails.dpdk.org (Postfix) with ESMTP id 42262400EF; Tue, 4 Feb 2025 18:26:05 +0100 (CET) Received: from mail-oa1-f100.google.com (mail-oa1-f100.google.com [209.85.160.100]) by mails.dpdk.org (Postfix) with ESMTP id E96C5400D7 for ; Tue, 4 Feb 2025 18:26:03 +0100 (CET) Received: by mail-oa1-f100.google.com with SMTP id 586e51a60fabf-2aa17010cbcso2252902fac.3 for ; Tue, 04 Feb 2025 09:26:03 -0800 (PST) DKIM-Signature: v=1; a=rsa-sha256; c=relaxed/relaxed; d=iol.unh.edu; s=unh-iol; t=1738689963; x=1739294763; darn=dpdk.org; h=references:in-reply-to:cc:to:from:subject:message-id:date:from:to :cc:subject:date:message-id:reply-to; bh=E6FqCI0mR6D29MNu7Me/Le1uthMDt9AfvQnEL3po32w=; b=emeWvoQWTUs5SAzrD9oYR9UUrfr20x3eto8aLwd9s3sfV1GHL/xCPw58aZluubO4xu gvvBMQtI7j6Xzkw4nmw9O7QIc43fndlwi/E3krvCpuQPE7CmPotsGeFxtBEksXR2pfHT ksi2pMBRMrGA+iPci42Mde1/dUBQ/ibCTmrAw= X-Google-DKIM-Signature: v=1; a=rsa-sha256; c=relaxed/relaxed; d=1e100.net; s=20230601; t=1738689963; x=1739294763; h=references:in-reply-to:cc:to:from:subject:message-id:date :x-gm-message-state:from:to:cc:subject:date:message-id:reply-to; bh=E6FqCI0mR6D29MNu7Me/Le1uthMDt9AfvQnEL3po32w=; b=LB8LokFiIsIu5C+fUb4Hty9Q/itaeUJtA3qUHhZGAcETU9T5GgFTxw0MuR6R2jq9Bh zKVlHk8UIJVlnrWDId7elstbKOSJCWlC9EHyUQ/XvGW98ZGaYe8FANQbC05kmIKK3pM5 KdfyK7GItGbBpA6s7ExpoBKorO9R6q/AemdF6pKZQ/fsUWkutPLNSnFqFMdeGSvBBOX+ nkgpLHg8r8NyP6x/QCHkzXgPDxn339xO35gFLT7vhx+oShnmCTpmQvUPppF/qmwd79Y/ EZy2GDfKvTGjivTHhXOfTqjU7udO0LbMg3RYiLWqWHlCK1CERg5sD/zWd5/W2HTKFWFy R/Vw== X-Gm-Message-State: AOJu0YzEhqZvLRbLfqcKpiYZrHvEa8MHj5QoItSWN0vMcieFpmfs3v/2 5LldYEh7wu4IJYBeXh4Kcqcw+CXaTotXKrAbiaUzTl1dvxxquq+BCrgQFqOByYtpy48h5+LmbXx qz/nvPRPXvWbu3pmck+EyZetHCW2CDlECiqN8gMZRmxHvB/rz1lZY7BpJ X-Gm-Gg: ASbGncuW2L0SiQKHprgWMcVUzAf17OXTnMbxzNoO/4znuatvCw1E37Jr9s6Eq8SOkKm T5eggOUNP+Ve3BomIGE4vmJF465qrHo8ZPi/jqFSNKxbqY0AuUU/ILgkZILvaVtyxnvp/3LHCvR 74N29hsz7rzZd712FENwF7V5x6AH4ga6Er0goIzvrRyxAkjlTQytaT1beO5Aakg5uvs2Xs2g4nV 4lI0orshweT1Q7OikroS+YDAckQd1tWRDFwox8cTFAX20mB7oys+zsrNxfjz7dZvENBKj/FJPUq I3g8WE/ryemcSaCyaHCYeUAoq7h1ufY/xq4O/tvCBw== X-Google-Smtp-Source: AGHT+IE9o4HPFNR42HDGqkJ2r8x0ukLdHUlTD2mBRZucdIvtPc/vwBC33jVDKQGawQapJjoxXJcQgcfzNQy9 X-Received: by 2002:a05:6870:6b0b:b0:29e:34ef:bd7d with SMTP id 586e51a60fabf-2b32ef53eebmr16873280fac.2.1738689962918; Tue, 04 Feb 2025 09:26:02 -0800 (PST) Received: from postal.iol.unh.edu (postal.iol.unh.edu. [2606:4100:3880:1234::84]) by smtp-relay.gmail.com with ESMTPS id 586e51a60fabf-2b3561a8376sm840866fac.16.2025.02.04.09.26.02 (version=TLS1_2 cipher=ECDHE-ECDSA-AES128-GCM-SHA256 bits=128/128); Tue, 04 Feb 2025 09:26:02 -0800 (PST) X-Relaying-Domain: iol.unh.edu Date: Tue, 04 Feb 2025 09:26:02 -0800 (PST) Message-ID: <67a24daa.050a0220.3214dc.75d2SMTPIN_ADDED_MISSING@mx.google.com> Received: from [172.21.0.7] (unknown [172.18.0.240]) by postal.iol.unh.edu (Postfix) with ESMTP id 670756052471; Tue, 4 Feb 2025 12:26:02 -0500 (EST) Subject: |SUCCESS| pw150809-150808 [PATCH] [v3,2/2] stack: enable build with From: dpdklab@iol.unh.edu To: Test Report Cc: dpdk-test-reports@iol.unh.edu In-Reply-To: <1738634318-12876-3-git-send-email-andremue@linux.microsoft.com> References: <1738634318-12876-3-git-send-email-andremue@linux.microsoft.com> Content-Type: text/plain X-BeenThere: test-report@dpdk.org X-Mailman-Version: 2.1.29 Precedence: list List-Id: automatic DPDK test reports List-Unsubscribe: , List-Archive: List-Post: List-Help: List-Subscribe: , Errors-To: test-report-bounces@dpdk.org Test-Label: iol-unit-amd64-testing Test-Status: SUCCESS http://dpdk.org/patch/150808 _Testing PASS_ Submitter: Andre Muezerie Date: Tuesday, February 04 2025 01:58:38 DPDK git baseline: Repo:dpdk Branch: master CommitID:dc4ce7c2538b713e16887eb598da309bc7b4d528 150809-150808 --> testing pass Upstream job id: Generic-Unit-Test-DPDK#311449 Test environment and result as below: +---------------------+----------------+ | Environment | dpdk_unit_test | +=====================+================+ | Debian 12 | PASS | +---------------------+----------------+ | Debian Bullseye | PASS | +---------------------+----------------+ | Fedora 40 | PASS | +---------------------+----------------+ | Fedora 41 | PASS | +---------------------+----------------+ | Ubuntu 20.04 | PASS | +---------------------+----------------+ | RHEL8 | PASS | +---------------------+----------------+ | Fedora 40 (Clang) | PASS | +---------------------+----------------+ | CentOS Stream 9 | PASS | +---------------------+----------------+ | Fedora 41 (Clang) | PASS | +---------------------+----------------+ | RHEL9 | PASS | +---------------------+----------------+ | Ubuntu 24.04 | PASS | +---------------------+----------------+ | Ubuntu 22.04 | PASS | +---------------------+----------------+ | Windows Server 2022 | PASS | +---------------------+----------------+ Debian 12 Kernel: Depends on container host Compiler: gcc (Debian 12.2.0-14) 12.2.0 Debian Bullseye Kernel: Depends on container host Compiler: gcc (Debian 10.2.1-6) 10.2.1 20210110 Fedora 40 Kernel: Depends on container host Compiler: gcc 14.2.1 20240912 (Red Hat 14.2.1-3) Fedora 41 Kernel: Depends on container host Compiler: gcc 14.2.1 20240912 (Red Hat 14.2.1-3) Ubuntu 20.04 Kernel: Depends on container host Compiler: gcc (Ubuntu 9.4.0-1ubuntu1~20.04.2) 9.4.0 RHEL8 Kernel: Depends on container host Compiler: gcc 8.5.0 20210514 (Red Hat 8.5.0-22) Fedora 40 (Clang) Kernel: Depends on container host Compiler: clang 18.1.8 (Fedora 18.1.8-1.fc40) CentOS Stream 9 Kernel: Depends on container host Compiler: gcc 11.5.0 20240719 (Red Hat 11.5.0-2) Fedora 41 (Clang) Kernel: Depends on container host Compiler: clang 19.1.5 (Fedora 19.1.5-1.fc41) RHEL9 Kernel: Depends on container host Compiler: gcc 11.5.0 20240719 (Red Hat 11.5.0-2) Ubuntu 24.04 Kernel: Depends on container host Compiler: gcc (Ubuntu 13.3.0-6ubuntu2~24.04) 13.3.0 Ubuntu 22.04 Kernel: Depends on container host Compiler: gcc (Ubuntu 11.4.0-1ubuntu1~22.04) 11.4.0 Windows Server 2022 Kernel: 10.0.20348.2031 Compiler: clang 15.0.7, gcc 14.1.0 (MinGW), and MSVC VS 19.39.33521 To view detailed results, visit: https://lab.dpdk.org/results/dashboard/patchsets/32485/ UNH-IOL DPDK Community Lab To manage your email subscriptions, visit: https://lab.dpdk.org/results/dashboard/preferences/subscriptions/