From mboxrd@z Thu Jan 1 00:00:00 1970 Return-Path: Received: from mails.dpdk.org (mails.dpdk.org [217.70.189.124]) by inbox.dpdk.org (Postfix) with ESMTP id 8344246190 for ; Tue, 4 Feb 2025 18:35:41 +0100 (CET) Received: from mails.dpdk.org (localhost [127.0.0.1]) by mails.dpdk.org (Postfix) with ESMTP id 5FE9F400EF; Tue, 4 Feb 2025 18:35:41 +0100 (CET) Received: from mail-yw1-f227.google.com (mail-yw1-f227.google.com [209.85.128.227]) by mails.dpdk.org (Postfix) with ESMTP id EE338400D7 for ; Tue, 4 Feb 2025 18:35:39 +0100 (CET) Received: by mail-yw1-f227.google.com with SMTP id 00721157ae682-6f4bc408e49so34844627b3.1 for ; Tue, 04 Feb 2025 09:35:39 -0800 (PST) DKIM-Signature: v=1; a=rsa-sha256; c=relaxed/relaxed; d=iol.unh.edu; s=unh-iol; t=1738690539; x=1739295339; darn=dpdk.org; h=references:in-reply-to:cc:to:from:subject:message-id:date:from:to :cc:subject:date:message-id:reply-to; bh=OP3JYg78+uAT2Px2sEGgASBVavk0tsQsO0QlWLN8aPw=; b=W3t3YnPx0kS5ACU/i5Z56bVahMceHejoHOoymCLEod/c1I28p/ATHJuPoyLNbtnLUM J7Ci3Gxd8Vpa1eBbOZloGQNZTs6zhJbmFXVJVwwSfzc3sJnR3N11Gyol908SSfJxGX9L M+x8PAe1WGc8OUcNFOJCRUfMRrs3aQ915Tx4Q= X-Google-DKIM-Signature: v=1; a=rsa-sha256; c=relaxed/relaxed; d=1e100.net; s=20230601; t=1738690539; x=1739295339; h=references:in-reply-to:cc:to:from:subject:message-id:date :x-gm-message-state:from:to:cc:subject:date:message-id:reply-to; bh=OP3JYg78+uAT2Px2sEGgASBVavk0tsQsO0QlWLN8aPw=; b=PuJOXz5aByKiHl7oX2VOjnNZvneFt/DMf8hw3gye4xOXI3bMLlfED+JxnXHbuEFwAP TkWbhppVQveHU2IcW4QrP/A4vVww28PlIpUKkgCaJI19GAEFcrkxCw3jwlb61Gbvp9WY aOPKhPemLtDrReNuBnCMw6TfKn4W+lzM+oYm7W84k3k21WSVHIpgUmjuU0+3LLvox/mF 0DyTXSXhJCpX1K9itYBdo3PyR8ucUiodLAk/fd6wb1aEFl2vj2SuoOIQI3pPyevRSnA1 0jXVMINchuR35n3QBqOoWWA2/KoQ2WrtaPnhW6lc6oFcik+jEgMkEYdC4sonVJDYzDwX hBHg== X-Gm-Message-State: AOJu0Yxxv5iSWiS9HL1nfOcWdUfhF2fqTn1XMf4j/iu7ynj3OjhmQB0w TCp3At5kMceVzZtmZKX5ZfjblVzdZV2CyPCDmEQXkKUh7MrUT54z7DzPRoHmJSSbaVbJXOBxqEE UTxyJAmIsnfphgZJO1eUQQzvhNxuDyWeyETQwCCYq X-Gm-Gg: ASbGncvCNOCj3nAnboxHYzV2lV3hYRiCDfXSLAJjZs3IJiOIF6DmkSt4GdVf9ox8Jyc Yzth9UH4dECj6DEAAEa9haWIGzo5sRqQ+4MNR5Iqmw0LzTSKH06IGOfWH0pgE82jmpYMvPHq+J1 hPhBcunJe4SiaRgbKKuFJTWTkcRAS1dx/sPpI2Uf/ckrlqlawQWpdpGqpqEM4loC7jb17hLhJ7d u4OLyhZrMwFvN+VW4dYXcnmNFSn60IiQAVdp6++NJ0bNuAywbLtMhFRC02FijZrUOa8i20PkMhe 2IGKHhBlozHRuB07Tyhv5KC/wIjvaw== X-Google-Smtp-Source: AGHT+IFGIMXT6W/bcF2OT3FGPuIsQNDCCDwOMIsKLr+WBVVcdeNXtQys1w4cEMJOaIRS6HKXxCrGP84XrHKt X-Received: by 2002:a05:690c:4a04:b0:6f7:406e:48c with SMTP id 00721157ae682-6f7a84244e5mr220523677b3.36.1738690539325; Tue, 04 Feb 2025 09:35:39 -0800 (PST) Received: from postal.iol.unh.edu (postal.iol.unh.edu. [132.177.123.84]) by smtp-relay.gmail.com with ESMTPS id 00721157ae682-6f8c47c91d8sm9747997b3.34.2025.02.04.09.35.39 (version=TLS1_2 cipher=ECDHE-ECDSA-AES128-GCM-SHA256 bits=128/128); Tue, 04 Feb 2025 09:35:39 -0800 (PST) X-Relaying-Domain: iol.unh.edu Date: Tue, 04 Feb 2025 09:35:39 -0800 (PST) Message-ID: <67a24feb.810a0220.25f1e8.1fe8SMTPIN_ADDED_MISSING@mx.google.com> Received: from [172.21.0.7] (unknown [172.18.0.240]) by postal.iol.unh.edu (Postfix) with ESMTP id F33146052471; Tue, 4 Feb 2025 12:35:38 -0500 (EST) Subject: |SUCCESS| pw150809-150808 [PATCH] [v3,2/2] stack: enable build with From: dpdklab@iol.unh.edu To: Test Report Cc: dpdk-test-reports@iol.unh.edu In-Reply-To: <1738634318-12876-3-git-send-email-andremue@linux.microsoft.com> References: <1738634318-12876-3-git-send-email-andremue@linux.microsoft.com> Content-Type: text/plain X-BeenThere: test-report@dpdk.org X-Mailman-Version: 2.1.29 Precedence: list List-Id: automatic DPDK test reports List-Unsubscribe: , List-Archive: List-Post: List-Help: List-Subscribe: , Errors-To: test-report-bounces@dpdk.org Test-Label: iol-abi-testing Test-Status: SUCCESS http://dpdk.org/patch/150808 _Testing PASS_ Submitter: Andre Muezerie Date: Tuesday, February 04 2025 01:58:38 DPDK git baseline: Repo:dpdk Branch: master CommitID:dc4ce7c2538b713e16887eb598da309bc7b4d528 150809-150808 --> testing pass Upstream job id: Generic-DPDK-Compile-ABI#114685 Test environment and result as below: +-------------------+----------+ | Environment | abi_test | +===================+==========+ | CentOS Stream 9 | PASS | +-------------------+----------+ | Debian Bullseye | PASS | +-------------------+----------+ | Fedora 41 (Clang) | PASS | +-------------------+----------+ | Fedora 40 | PASS | +-------------------+----------+ | Fedora 40 (Clang) | PASS | +-------------------+----------+ | Debian 12 | PASS | +-------------------+----------+ | Ubuntu 22.04 | PASS | +-------------------+----------+ | openSUSE Leap 15 | PASS | +-------------------+----------+ | RHEL8 | PASS | +-------------------+----------+ | RHEL9 | PASS | +-------------------+----------+ | Ubuntu 24.04 | PASS | +-------------------+----------+ | Fedora 41 | PASS | +-------------------+----------+ CentOS Stream 9 Kernel: Depends on container host Compiler: gcc 11.5.0 20240719 (Red Hat 11.5.0-2) Debian Bullseye Kernel: Depends on container host Compiler: gcc (Debian 10.2.1-6) 10.2.1 20210110 Fedora 41 (Clang) Kernel: Depends on container host Compiler: clang 19.1.5 (Fedora 19.1.5-1.fc41) Fedora 40 Kernel: Depends on container host Compiler: gcc 14.2.1 20240912 (Red Hat 14.2.1-3) Fedora 40 (Clang) Kernel: Depends on container host Compiler: clang 18.1.8 (Fedora 18.1.8-1.fc40) Debian 12 Kernel: Depends on container host Compiler: gcc (Debian 12.2.0-14) 12.2.0 Ubuntu 22.04 Kernel: Depends on container host Compiler: gcc (Ubuntu 11.4.0-1ubuntu1~22.04) 11.4.0 openSUSE Leap 15 Kernel: Depends on container host Compiler: gcc (SUSE Linux) 7.5.0 RHEL8 Kernel: Depends on container host Compiler: gcc 8.5.0 20210514 (Red Hat 8.5.0-22) RHEL9 Kernel: Depends on container host Compiler: gcc 11.5.0 20240719 (Red Hat 11.5.0-2) Ubuntu 24.04 Kernel: Depends on container host Compiler: gcc (Ubuntu 13.3.0-6ubuntu2~24.04) 13.3.0 Fedora 41 Kernel: Depends on container host Compiler: gcc 14.2.1 20240912 (Red Hat 14.2.1-3) To view detailed results, visit: https://lab.dpdk.org/results/dashboard/patchsets/32485/ UNH-IOL DPDK Community Lab To manage your email subscriptions, visit: https://lab.dpdk.org/results/dashboard/preferences/subscriptions/