From mboxrd@z Thu Jan 1 00:00:00 1970 Return-Path: Received: from mails.dpdk.org (mails.dpdk.org [217.70.189.124]) by inbox.dpdk.org (Postfix) with ESMTP id 7A95746190 for ; Tue, 4 Feb 2025 19:19:50 +0100 (CET) Received: from mails.dpdk.org (localhost [127.0.0.1]) by mails.dpdk.org (Postfix) with ESMTP id 6169040261; Tue, 4 Feb 2025 19:19:50 +0100 (CET) Received: from mail-yw1-f228.google.com (mail-yw1-f228.google.com [209.85.128.228]) by mails.dpdk.org (Postfix) with ESMTP id 5D7F4400D6 for ; Tue, 4 Feb 2025 19:19:48 +0100 (CET) Received: by mail-yw1-f228.google.com with SMTP id 00721157ae682-6f8c58229f1so651347b3.0 for ; Tue, 04 Feb 2025 10:19:48 -0800 (PST) DKIM-Signature: v=1; a=rsa-sha256; c=relaxed/relaxed; d=iol.unh.edu; s=unh-iol; t=1738693187; x=1739297987; darn=dpdk.org; h=references:in-reply-to:cc:to:from:subject:message-id:date:from:to :cc:subject:date:message-id:reply-to; bh=UkgF9GomrBhfqfjEJ/085dVKMntbz1G5RkhRPbc+Uac=; b=evocBS05LwHLvWOhMnKFPww0kQz0UsLpwb1tyAHIhsI7UE1BgRGpyCSnpqU89xvhPX ijw5he1sR0pFddE6KCftZ87ApeBhQEqO4/uhoOLiKD0ZGZA1755Eagapr01YZdwxHsVV xGpwqWqc4Sa+Ccx+m/ak1l0pUzHKdbE+yJOHs= X-Google-DKIM-Signature: v=1; a=rsa-sha256; c=relaxed/relaxed; d=1e100.net; s=20230601; t=1738693187; x=1739297987; h=references:in-reply-to:cc:to:from:subject:message-id:date :x-gm-message-state:from:to:cc:subject:date:message-id:reply-to; bh=UkgF9GomrBhfqfjEJ/085dVKMntbz1G5RkhRPbc+Uac=; b=lGOe21WmdFmsZ7Wx2xhPcZ+ZxurS1riVyIe2AUUnXPyp4I26HcOegLBx19s8Yc8AT7 7/oCRgjSj3T5gRwxvjErNo7NNP/1H0OkDpI2cdX4DGrwTINDlv3vDLibtoohDrTl5t9p tDSrOMYswHUP6cjNbMxzJg4VTNVUAmPZzYxyKCVgALCkgnSef95rJXHvbe+1mHhQEkwx ZwNVPp3/p4heGkZDlXBvleLyhhBP5ZUgSz+jcMA7Gko7f/BV2v/JUAJPjVryzpqOqKmV t/5f2ML16KI9SLfCcARez+DV2yIcwLWzN8LvsMsg7/1rnht4Vwzpc7jEuMIrsLW9GLcq sijg== X-Gm-Message-State: AOJu0YzhG75KprQ50wJWEgEcuO9fMF1/OtNUVuDYsUELmhUg1j4xri+O ielibSLozExi9ggKAoiEOW9G9TXYj95u++Wb9krd3eLIwcprmkEyRCzSN3gLcobTD5NHPhcW4AW lkuzzViOTI8wOM7+/jOxCr7+mQe5rnnkFD9yK4viS X-Gm-Gg: ASbGncsN/8IVJXvH1FNFJQfofx85ft7tm9ilA7GVg7kVdpbMfk0iAsCnV0f5aNDizwB wkiudsDh8KSepl2qcCAErspKTPVsIzCdWAGrqtrYZ2r/iwJGWbICccUed9s6PXb/NAlySDVKaSC OwfSvmJtMWaSUfXY1OvlpY2jESc79VA4noQ+KMPdnZBm8Ish2jDGBPx7WntJOYB0zBFpWSMS0/5 lkzTa0ki2B8SyzwG+gV1xh8xq1KyiJNDCdOfk+2xm+yllNN50HVoCrwTphKiSr9nC/vcDrhGrJK j63Aw/zFXa6O4xPfXV7qfJEQxWBE+Q== X-Google-Smtp-Source: AGHT+IFzuWNpPKWACwz7W9C5G6Q7IbAtir8ofO7U5tpKh4HNffZIVCZEC+Om5F/Pn8no6cFGjBwXcuH7Qsyh X-Received: by 2002:a05:690c:6a05:b0:6ea:86ae:cbc with SMTP id 00721157ae682-6f97752a470mr43545127b3.13.1738693187699; Tue, 04 Feb 2025 10:19:47 -0800 (PST) Received: from postal.iol.unh.edu (postal.iol.unh.edu. [132.177.123.84]) by smtp-relay.gmail.com with ESMTPS id 00721157ae682-6f976d4a26asm1035157b3.54.2025.02.04.10.19.47 (version=TLS1_2 cipher=ECDHE-ECDSA-AES128-GCM-SHA256 bits=128/128); Tue, 04 Feb 2025 10:19:47 -0800 (PST) X-Relaying-Domain: iol.unh.edu Date: Tue, 04 Feb 2025 10:19:47 -0800 (PST) Message-ID: <67a25a43.050a0220.79e98.506fSMTPIN_ADDED_MISSING@mx.google.com> Received: from [172.21.0.5] (unknown [172.18.0.240]) by postal.iol.unh.edu (Postfix) with ESMTP id 5A9016052471; Tue, 4 Feb 2025 13:19:47 -0500 (EST) Subject: |SUCCESS| pw150809-150808 [PATCH] [v3,2/2] stack: enable build with From: dpdklab@iol.unh.edu To: Test Report Cc: dpdk-test-reports@iol.unh.edu In-Reply-To: <1738634318-12876-3-git-send-email-andremue@linux.microsoft.com> References: <1738634318-12876-3-git-send-email-andremue@linux.microsoft.com> Content-Type: text/plain X-BeenThere: test-report@dpdk.org X-Mailman-Version: 2.1.29 Precedence: list List-Id: automatic DPDK test reports List-Unsubscribe: , List-Archive: List-Post: List-Help: List-Subscribe: , Errors-To: test-report-bounces@dpdk.org Test-Label: iol-unit-arm64-testing Test-Status: SUCCESS http://dpdk.org/patch/150808 _Testing PASS_ Submitter: Andre Muezerie Date: Tuesday, February 04 2025 01:58:38 DPDK git baseline: Repo:dpdk Branch: master CommitID:dc4ce7c2538b713e16887eb598da309bc7b4d528 150809-150808 --> testing pass Upstream job id: Generic-Unit-Test-DPDK#311462 Test environment and result as below: +-----------------------------+----------------+--------------+---------------------------+------------------------------+ | Environment | dpdk_unit_test | lpm_autotest | cryptodev_sw_zuc_autotest | cryptodev_sw_snow3g_autotest | +=============================+================+==============+===========================+==============================+ | 32-bit Ubuntu 22.04.4 (ARM) | PASS | SKIPPED | SKIPPED | SKIPPED | +-----------------------------+----------------+--------------+---------------------------+------------------------------+ | Fedora 41 (ARM) | PASS | SKIPPED | SKIPPED | SKIPPED | +-----------------------------+----------------+--------------+---------------------------+------------------------------+ | Fedora 41 (ARM Clang) | PASS | SKIPPED | SKIPPED | SKIPPED | +-----------------------------+----------------+--------------+---------------------------+------------------------------+ | Debian 11 (Buster) (ARM) | PASS | SKIPPED | SKIPPED | SKIPPED | +-----------------------------+----------------+--------------+---------------------------+------------------------------+ | Debian 12 (arm) | PASS | SKIPPED | PASS | PASS | +-----------------------------+----------------+--------------+---------------------------+------------------------------+ | Fedora 40 (ARM Clang) | PASS | SKIPPED | SKIPPED | SKIPPED | +-----------------------------+----------------+--------------+---------------------------+------------------------------+ | CentOS Stream 9 (ARM) | PASS | SKIPPED | SKIPPED | SKIPPED | +-----------------------------+----------------+--------------+---------------------------+------------------------------+ | Fedora 40 (ARM) | PASS | SKIPPED | SKIPPED | SKIPPED | +-----------------------------+----------------+--------------+---------------------------+------------------------------+ | Ubuntu 20.04 (ARM) | PASS | SKIPPED | SKIPPED | SKIPPED | +-----------------------------+----------------+--------------+---------------------------+------------------------------+ | Ubuntu 22.04 (ARM) | PASS | SKIPPED | SKIPPED | SKIPPED | +-----------------------------+----------------+--------------+---------------------------+------------------------------+ | RHEL9 (ARM) | PASS | SKIPPED | SKIPPED | SKIPPED | +-----------------------------+----------------+--------------+---------------------------+------------------------------+ | Ubuntu 24.04 (ARM) | PASS | SKIPPED | SKIPPED | SKIPPED | +-----------------------------+----------------+--------------+---------------------------+------------------------------+ | Ubuntu 20.04 ARM SVE | SKIPPED | PASS | SKIPPED | SKIPPED | +-----------------------------+----------------+--------------+---------------------------+------------------------------+ 32-bit Ubuntu 22.04.4 (ARM) Kernel: 5.15.83+ aarch64 Compiler: gcc (Ubuntu 11.4.0-1ubuntu1~22.04) 11.4.0 Fedora 41 (ARM) Kernel: Depends on container host Compiler: gcc 14.2.1 20240912 (Red Hat 14.2.1-3) Fedora 41 (ARM Clang) Kernel: Depends on container host Compiler: clang 19.1.5 (Fedora 19.1.5-1.fc41) Debian 11 (Buster) (ARM) Kernel: Depends on container host Compiler: gcc (Debian 10.2.1-6) 10.2.1 20210110 Debian 12 (arm) Kernel: Depends on container host Compiler: gcc (Debian 12.2.0-14) 12.2.0 Fedora 40 (ARM Clang) Kernel: Depends on container host Compiler: clang 18.1.8 (Fedora 18.1.8-1.fc40) CentOS Stream 9 (ARM) Kernel: Depends on container host Compiler: gcc 11.5.0 20240719 (Red Hat 11.5.0-2) Fedora 40 (ARM) Kernel: Depends on container host Compiler: gcc 14.2.1 20240912 (Red Hat 14.2.1-3) Ubuntu 20.04 (ARM) Kernel: Depends on container host Compiler: gcc (Ubuntu 9.4.0-1ubuntu1~20.04.2) 9.4.0 Ubuntu 22.04 (ARM) Kernel: Depends on container host Compiler: gcc (Ubuntu 11.4.0-1ubuntu1~22.04) 11.4.0 RHEL9 (ARM) Kernel: Depends on container host Compiler: gcc 11.5.0 20240719 (Red Hat 11.5.0-2) Ubuntu 24.04 (ARM) Kernel: Depends on container host Compiler: gcc (Ubuntu 13.3.0-6ubuntu2~24.04) 13.3.0 Ubuntu 20.04 ARM SVE Kernel: Depends on container host Compiler: gcc (Ubuntu 10.5.0-1ubuntu1~20.04) 10.5.0 To view detailed results, visit: https://lab.dpdk.org/results/dashboard/patchsets/32485/ UNH-IOL DPDK Community Lab To manage your email subscriptions, visit: https://lab.dpdk.org/results/dashboard/preferences/subscriptions/