From mboxrd@z Thu Jan 1 00:00:00 1970 Return-Path: Received: from mails.dpdk.org (mails.dpdk.org [217.70.189.124]) by inbox.dpdk.org (Postfix) with ESMTP id 8D3A046190 for ; Tue, 4 Feb 2025 19:25:02 +0100 (CET) Received: from mails.dpdk.org (localhost [127.0.0.1]) by mails.dpdk.org (Postfix) with ESMTP id A2E8B4025F; Tue, 4 Feb 2025 19:25:01 +0100 (CET) Received: from mail-il1-f225.google.com (mail-il1-f225.google.com [209.85.166.225]) by mails.dpdk.org (Postfix) with ESMTP id 01283400D6 for ; Tue, 4 Feb 2025 19:24:59 +0100 (CET) Received: by mail-il1-f225.google.com with SMTP id e9e14a558f8ab-3d00a6b26e4so47275845ab.2 for ; Tue, 04 Feb 2025 10:24:59 -0800 (PST) DKIM-Signature: v=1; a=rsa-sha256; c=relaxed/relaxed; d=iol.unh.edu; s=unh-iol; t=1738693499; x=1739298299; darn=dpdk.org; h=references:in-reply-to:cc:to:from:subject:message-id:date:from:to :cc:subject:date:message-id:reply-to; bh=9gGfq8mQxUy2m+PYBIqc+Fic6iDT9SyKDCQMxdgvc2k=; b=bbaSRopyaIBjDQ+jqCr/8DtLjvzvG4duWkWntw7LZyj/Ls96tT3ZZP/NYZbae6Ia8m i28YwtiMM38aPzecDTf6OkifY0kcoo2LPy5B2sVftLYMM+gA/BibxvEgsghlXYxcshru HG0CA+f6Cqg2qdx4SWFM5JeSD2dfn38LJRQ2Q= X-Google-DKIM-Signature: v=1; a=rsa-sha256; c=relaxed/relaxed; d=1e100.net; s=20230601; t=1738693499; x=1739298299; h=references:in-reply-to:cc:to:from:subject:message-id:date :x-gm-message-state:from:to:cc:subject:date:message-id:reply-to; bh=9gGfq8mQxUy2m+PYBIqc+Fic6iDT9SyKDCQMxdgvc2k=; b=HcZRaA2kO5J7//+FxzHWjCLCH+gT8Os7ifQhQyDfb5z69TZbqghLPF+7lbm/YDLsL+ fii71R5zVsmV3c0X1KFHNLANLZguhkqiM+TnJt8YYTYGmHQVbaGfZAcxOmDdV6wJMjQS 2786L64h/UXbK4Tv0zkAUbHuGHMHe/QBTazB42EGuyexd6VMpNuPAD4RhpVYaZxyY9xz t7hOcnY0oGNI+j3iCT4SkHb1Wdjh4rGhmD9USMNjBuhl0doRN3Dcq1tP1QlwnfBHje+9 oS2/8/LeISPDVolLz5VnyAKhxNtOOSErnXRhwgC0amPk2plKhDGWmk+wgftVX0LBfZpw BM4Q== X-Gm-Message-State: AOJu0Yy9UzctbpW7+HOBMGs45HbLq1xCnLrQPkWcOfftAzL1YciVJyFN /RnHy7ZQDlb8UG1x53RveaIOIo914W816TVZxuU9P/x8qYM0IrrYPn96Wc+/f2YicpghvqHW7qQ wxijm3xomMO7f6Gr6MKA6Tw3dCSXUsL/V33OsjAby X-Gm-Gg: ASbGnct3bqxxjbLxLaNidqSKE6O/3P8vLfgijGKLlJe2PU3ckpHOTU6lXn7OeAmy5Xo Xe2R6tCPBkntMEHUeT96doWYsjsBiRm7Zh8UzKCBSQce/nxc6Gastss7asTLLl3tbjjpng0E/2D FOGonjh2Hn3Q2HuoqXL7Y/FHvNUBO7OzRwxTDnBaZ5a9nKAZSfcjvn6ND8wjGBUb76c/Dhsqvzr pspmlNWls4ODRoJ2JOKlBmqXZEe7b6efCZbUIn6TX5FRN+2clfZsnQpatrQid5fi+uaedEw6t8o BfZDHHcdHsdkN5wvtGFoFa8r7xZ8rw== X-Google-Smtp-Source: AGHT+IHgaQNeS666m9FcOaG6NqfQClJEVrOZlT5JnTZ4dgfJ0+QxEpMTUGK0sK4yfCdezcJeedEOaT4wGA2N X-Received: by 2002:a92:cda7:0:b0:3cf:b5d2:cf44 with SMTP id e9e14a558f8ab-3cffe467a89mr252288375ab.15.1738693499258; Tue, 04 Feb 2025 10:24:59 -0800 (PST) Received: from postal.iol.unh.edu (postal.iol.unh.edu. [132.177.123.84]) by smtp-relay.gmail.com with ESMTPS id e9e14a558f8ab-3d047cf6767sm584065ab.66.2025.02.04.10.24.59 (version=TLS1_2 cipher=ECDHE-ECDSA-AES128-GCM-SHA256 bits=128/128); Tue, 04 Feb 2025 10:24:59 -0800 (PST) X-Relaying-Domain: iol.unh.edu Date: Tue, 04 Feb 2025 10:24:59 -0800 (PST) Message-ID: <67a25b7b.050a0220.19a7ce.30f8SMTPIN_ADDED_MISSING@mx.google.com> Received: from [172.21.0.5] (unknown [172.18.0.240]) by postal.iol.unh.edu (Postfix) with ESMTP id D85266052471; Tue, 4 Feb 2025 13:24:58 -0500 (EST) Subject: |SUCCESS| pw150809-150808 [PATCH] [v3,2/2] stack: enable build with From: dpdklab@iol.unh.edu To: Test Report Cc: dpdk-test-reports@iol.unh.edu In-Reply-To: <1738634318-12876-3-git-send-email-andremue@linux.microsoft.com> References: <1738634318-12876-3-git-send-email-andremue@linux.microsoft.com> Content-Type: text/plain X-BeenThere: test-report@dpdk.org X-Mailman-Version: 2.1.29 Precedence: list List-Id: automatic DPDK test reports List-Unsubscribe: , List-Archive: List-Post: List-Help: List-Subscribe: , Errors-To: test-report-bounces@dpdk.org Test-Label: iol-unit-amd64-testing Test-Status: SUCCESS http://dpdk.org/patch/150808 _Testing PASS_ Submitter: Andre Muezerie Date: Tuesday, February 04 2025 01:58:38 DPDK git baseline: Repo:dpdk Branch: master CommitID:dc4ce7c2538b713e16887eb598da309bc7b4d528 150809-150808 --> testing pass Upstream job id: Generic-Unit-Test-DPDK#311475 Test environment and result as below: +---------------------+----------------+ | Environment | dpdk_unit_test | +=====================+================+ | Fedora 40 (Clang) | PASS | +---------------------+----------------+ | Fedora 40 | PASS | +---------------------+----------------+ | Debian Bullseye | PASS | +---------------------+----------------+ | CentOS Stream 9 | PASS | +---------------------+----------------+ | Fedora 41 | PASS | +---------------------+----------------+ | Fedora 41 (Clang) | PASS | +---------------------+----------------+ | Debian 12 | PASS | +---------------------+----------------+ | RHEL8 | PASS | +---------------------+----------------+ | RHEL9 | PASS | +---------------------+----------------+ | Ubuntu 22.04 | PASS | +---------------------+----------------+ | Ubuntu 24.04 | PASS | +---------------------+----------------+ | Ubuntu 20.04 | PASS | +---------------------+----------------+ | Windows Server 2022 | PASS | +---------------------+----------------+ Fedora 40 (Clang) Kernel: Depends on container host Compiler: clang 18.1.8 (Fedora 18.1.8-1.fc40) Fedora 40 Kernel: Depends on container host Compiler: gcc 14.2.1 20240912 (Red Hat 14.2.1-3) Debian Bullseye Kernel: Depends on container host Compiler: gcc (Debian 10.2.1-6) 10.2.1 20210110 CentOS Stream 9 Kernel: Depends on container host Compiler: gcc 11.5.0 20240719 (Red Hat 11.5.0-2) Fedora 41 Kernel: Depends on container host Compiler: gcc 14.2.1 20240912 (Red Hat 14.2.1-3) Fedora 41 (Clang) Kernel: Depends on container host Compiler: clang 19.1.5 (Fedora 19.1.5-1.fc41) Debian 12 Kernel: Depends on container host Compiler: gcc (Debian 12.2.0-14) 12.2.0 RHEL8 Kernel: Depends on container host Compiler: gcc 8.5.0 20210514 (Red Hat 8.5.0-22) RHEL9 Kernel: Depends on container host Compiler: gcc 11.5.0 20240719 (Red Hat 11.5.0-2) Ubuntu 22.04 Kernel: Depends on container host Compiler: gcc (Ubuntu 11.4.0-1ubuntu1~22.04) 11.4.0 Ubuntu 24.04 Kernel: Depends on container host Compiler: gcc (Ubuntu 13.3.0-6ubuntu2~24.04) 13.3.0 Ubuntu 20.04 Kernel: Depends on container host Compiler: gcc (Ubuntu 9.4.0-1ubuntu1~20.04.2) 9.4.0 Windows Server 2022 Kernel: 10.0.20348.2031 Compiler: clang 15.0.7, gcc 14.1.0 (MinGW), and MSVC VS 19.39.33521 To view detailed results, visit: https://lab.dpdk.org/results/dashboard/patchsets/32485/ UNH-IOL DPDK Community Lab To manage your email subscriptions, visit: https://lab.dpdk.org/results/dashboard/preferences/subscriptions/