From mboxrd@z Thu Jan  1 00:00:00 1970
Return-Path: <test-report-bounces@dpdk.org>
Received: from mails.dpdk.org (mails.dpdk.org [217.70.189.124])
	by inbox.dpdk.org (Postfix) with ESMTP id BA79B46190
	for <public@inbox.dpdk.org>; Tue,  4 Feb 2025 19:33:39 +0100 (CET)
Received: from mails.dpdk.org (localhost [127.0.0.1])
	by mails.dpdk.org (Postfix) with ESMTP id 95BDE4025F;
	Tue,  4 Feb 2025 19:33:39 +0100 (CET)
Received: from mail-yw1-f227.google.com (mail-yw1-f227.google.com
 [209.85.128.227])
 by mails.dpdk.org (Postfix) with ESMTP id D13EB400D6
 for <test-report@dpdk.org>; Tue,  4 Feb 2025 19:33:37 +0100 (CET)
Received: by mail-yw1-f227.google.com with SMTP id
 00721157ae682-6f754678c29so40761537b3.0
 for <test-report@dpdk.org>; Tue, 04 Feb 2025 10:33:37 -0800 (PST)
DKIM-Signature: v=1; a=rsa-sha256; c=relaxed/relaxed;
 d=iol.unh.edu; s=unh-iol; t=1738694017; x=1739298817; darn=dpdk.org;
 h=references:in-reply-to:cc:to:from:subject:message-id:date:from:to
 :cc:subject:date:message-id:reply-to;
 bh=5LMkVD1UveccTJF9YJ56PLieOrS+5NBMSdBWbf+t2Vw=;
 b=dyLsrlzFeh4Yx2BkMhmmI2ZZ3nYB/khdPpZL78KgrF3LQ4f0GQH+Z2svXXOLFlqJqL
 S0xSlHNiuFaxBix28jS83VkgIKqFBxX1v6K+yVb67YDdvvyYGizBLJZ14CXxvoEXxhQw
 f+GThenFUZEKqjS9A/AaWGsylUjUpVtyOPNEo=
X-Google-DKIM-Signature: v=1; a=rsa-sha256; c=relaxed/relaxed;
 d=1e100.net; s=20230601; t=1738694017; x=1739298817;
 h=references:in-reply-to:cc:to:from:subject:message-id:date
 :x-gm-message-state:from:to:cc:subject:date:message-id:reply-to;
 bh=5LMkVD1UveccTJF9YJ56PLieOrS+5NBMSdBWbf+t2Vw=;
 b=bhZWx68WXN8NGeHze7q7EGGVqJMtsPLoVFa14YDc42YQMssR1Rfyu/Q990loSzRb5r
 rpW0WHBz9aqO2TZT1s+WDWIs1D1nRd1EXtAMA5Ben+XPHoFzNg0dBxCEZkztHWKFbzD8
 FERFGoPYze2DohaRw0w1uBO1ueaEPxagio5hbvcEhZ1zy/TM2puEsDnKvVprPQ5WpfcG
 zpuhrC0pWAU3GeiN42C4BmwWY+6c9s1k+W0syjwznIk2N2aUPMYOrMQU8ikluW1yWDI0
 Ycy4Hv+WgwJJzkB9XPqJlKdk5MIrVkdKWHS5TAiElPCwnseIyFrXzSno0FBEutXpUzDg
 YYuw==
X-Gm-Message-State: AOJu0Yzrn8OBsaVzMZtjDTDkP344pgFPggY2NrhRQhr3NSQRsIhVLIg+
 +Ke5681EXiau8iUdae/deGySBdaPFNldN5EN3kOZZuJBmdzCXaeUEOqkQUfBk8cZYcLLadLVQvH
 Gfqi9prDJQaiftJ96oR+MLR4lL8+02o7yvH6VG/im
X-Gm-Gg: ASbGncvupks2lZtYduTKeTNrImN74sffR3WQhEChQqfK39JQnPzaUJjWzxme/lVd+KW
 C/KivsSh9PD50XKtm1nDSJ/LSmrdVbEWrK5aVtNjxd+ObzvXbudxF48QCP6N6LUsBRSqaU720FL
 QUgqmjSyzF3nxazu6DZ1d1UxR7Eox3DUX5NhyJCHQGXusWUz/xZKEiKpbJPZ+lG7aCVW4nmi8ID
 JloEfMecUzpZM+SvFUinOnB+iiYzhYO3Svid8TCGxwH3fWaUwX/KcOmxiFHF1Wx0CwO2pu0MNDT
 /NN+Thjcb71scCu/CjhbqQatuPXxzQ==
X-Google-Smtp-Source: AGHT+IHAHO5K8MJ0v3SZH0rW7YZ9+REFE0FVKZXtJJOzZ+HQkYdClRBsTGmq9f4wQnkHvr7xL8pl20l+g0l1
X-Received: by 2002:a05:690c:7088:b0:6f9:50ed:e6eb with SMTP id
 00721157ae682-6f950ede7c2mr103459707b3.27.1738694015661; 
 Tue, 04 Feb 2025 10:33:35 -0800 (PST)
Received: from postal.iol.unh.edu (postal.iol.unh.edu. [132.177.123.84])
 by smtp-relay.gmail.com with ESMTPS id
 00721157ae682-6f8c4b9416fsm10063867b3.64.2025.02.04.10.33.35
 (version=TLS1_2 cipher=ECDHE-ECDSA-AES128-GCM-SHA256 bits=128/128);
 Tue, 04 Feb 2025 10:33:35 -0800 (PST)
X-Relaying-Domain: iol.unh.edu
Date: Tue, 04 Feb 2025 10:33:35 -0800 (PST)
Message-ID: <67a25d7f.0d0a0220.2fb1f7.277cSMTPIN_ADDED_MISSING@mx.google.com>
Received: from [172.21.0.5] (unknown [172.18.0.240])
 by postal.iol.unh.edu (Postfix) with ESMTP id 4F3596052471;
 Tue,  4 Feb 2025 13:33:35 -0500 (EST)
Subject: |SUCCESS| pw150809-150808 [PATCH] [v3,2/2] stack: enable build with 
From: dpdklab@iol.unh.edu
To: Test Report <test-report@dpdk.org>
Cc: dpdk-test-reports@iol.unh.edu
In-Reply-To: <1738634318-12876-3-git-send-email-andremue@linux.microsoft.com>
References: <1738634318-12876-3-git-send-email-andremue@linux.microsoft.com>
Content-Type: text/plain
X-BeenThere: test-report@dpdk.org
X-Mailman-Version: 2.1.29
Precedence: list
List-Id: automatic DPDK test reports <test-report.dpdk.org>
List-Unsubscribe: <https://mails.dpdk.org/options/test-report>,
 <mailto:test-report-request@dpdk.org?subject=unsubscribe>
List-Archive: <http://mails.dpdk.org/archives/test-report/>
List-Post: <mailto:test-report@dpdk.org>
List-Help: <mailto:test-report-request@dpdk.org?subject=help>
List-Subscribe: <https://mails.dpdk.org/listinfo/test-report>,
 <mailto:test-report-request@dpdk.org?subject=subscribe>
Errors-To: test-report-bounces@dpdk.org

Test-Label: iol-compile-amd64-testing
Test-Status: SUCCESS
http://dpdk.org/patch/150808

_Testing PASS_

Submitter: Andre Muezerie <andremue@linux.microsoft.com>
Date: Tuesday, February 04 2025 01:58:38 
DPDK git baseline: Repo:dpdk
  Branch: master
  CommitID:dc4ce7c2538b713e16887eb598da309bc7b4d528

150809-150808 --> testing pass

Upstream job id: Generic-DPDK-Compile-Meson#357568

Test environment and result as below:

+---------------------+--------------------+------------------+-------------------+-------------------+----------------------+
|     Environment     | dpdk_meson_compile | dpdk_compile_ovs | dpdk_compile_spdk | dpdk_msvc_compile | dpdk_mingw64_compile |
+=====================+====================+==================+===================+===================+======================+
| CentOS Stream 9     | PASS               | PASS             | PASS              | SKIPPED           | SKIPPED              |
+---------------------+--------------------+------------------+-------------------+-------------------+----------------------+
| Debian Bullseye     | PASS               | PASS             | PASS              | SKIPPED           | SKIPPED              |
+---------------------+--------------------+------------------+-------------------+-------------------+----------------------+
| Fedora 40 (Clang)   | PASS               | PASS             | PASS              | SKIPPED           | SKIPPED              |
+---------------------+--------------------+------------------+-------------------+-------------------+----------------------+
| Fedora 40           | PASS               | PASS             | PASS              | SKIPPED           | SKIPPED              |
+---------------------+--------------------+------------------+-------------------+-------------------+----------------------+
| Debian 12           | PASS               | PASS             | PASS              | SKIPPED           | SKIPPED              |
+---------------------+--------------------+------------------+-------------------+-------------------+----------------------+
| Fedora 41 (Clang)   | PASS               | PASS             | PASS              | SKIPPED           | SKIPPED              |
+---------------------+--------------------+------------------+-------------------+-------------------+----------------------+
| RHEL8               | PASS               | PASS             | SKIPPED           | SKIPPED           | SKIPPED              |
+---------------------+--------------------+------------------+-------------------+-------------------+----------------------+
| RHEL9               | PASS               | PASS             | SKIPPED           | SKIPPED           | SKIPPED              |
+---------------------+--------------------+------------------+-------------------+-------------------+----------------------+
| openSUSE Leap 15    | PASS               | SKIPPED          | SKIPPED           | SKIPPED           | SKIPPED              |
+---------------------+--------------------+------------------+-------------------+-------------------+----------------------+
| Ubuntu 20.04        | PASS               | SKIPPED          | SKIPPED           | SKIPPED           | SKIPPED              |
+---------------------+--------------------+------------------+-------------------+-------------------+----------------------+
| Ubuntu 22.04        | PASS               | PASS             | PASS              | SKIPPED           | SKIPPED              |
+---------------------+--------------------+------------------+-------------------+-------------------+----------------------+
| Ubuntu 24.04        | PASS               | PASS             | PASS              | SKIPPED           | SKIPPED              |
+---------------------+--------------------+------------------+-------------------+-------------------+----------------------+
| Alpine              | PASS               | PASS             | SKIPPED           | SKIPPED           | SKIPPED              |
+---------------------+--------------------+------------------+-------------------+-------------------+----------------------+
| FreeBSD 13.4        | PASS               | SKIPPED          | SKIPPED           | SKIPPED           | SKIPPED              |
+---------------------+--------------------+------------------+-------------------+-------------------+----------------------+
| Fedora 41           | PASS               | PASS             | PASS              | SKIPPED           | SKIPPED              |
+---------------------+--------------------+------------------+-------------------+-------------------+----------------------+
| FreeBSD 14.2        | PASS               | SKIPPED          | SKIPPED           | SKIPPED           | SKIPPED              |
+---------------------+--------------------+------------------+-------------------+-------------------+----------------------+
| Windows Server 2022 | SKIPPED            | SKIPPED          | SKIPPED           | PASS              | PASS                 |
+---------------------+--------------------+------------------+-------------------+-------------------+----------------------+


CentOS Stream 9
	Kernel: Depends on container host
	Compiler: gcc 11.5.0 20240719 (Red Hat 11.5.0-2)

Debian Bullseye
	Kernel: Depends on container host
	Compiler: gcc (Debian 10.2.1-6) 10.2.1 20210110

Fedora 40 (Clang)
	Kernel: Depends on container host
	Compiler: clang 18.1.8 (Fedora 18.1.8-1.fc40)

Fedora 40
	Kernel: Depends on container host
	Compiler: gcc 14.2.1 20240912 (Red Hat 14.2.1-3)

Debian 12
	Kernel: Depends on container host
	Compiler: gcc (Debian 12.2.0-14) 12.2.0

Fedora 41 (Clang)
	Kernel: Depends on container host
	Compiler: clang 19.1.5 (Fedora 19.1.5-1.fc41)

RHEL8
	Kernel: Depends on container host
	Compiler: gcc 8.5.0 20210514 (Red Hat 8.5.0-22)

RHEL9
	Kernel: Depends on container host
	Compiler: gcc 11.5.0 20240719 (Red Hat 11.5.0-2)

openSUSE Leap 15
	Kernel: Depends on container host
	Compiler: gcc (SUSE Linux) 7.5.0

Ubuntu 20.04
	Kernel: Depends on container host
	Compiler: gcc (Ubuntu 9.4.0-1ubuntu1~20.04.2) 9.4.0

Ubuntu 22.04
	Kernel: Depends on container host
	Compiler: gcc (Ubuntu 11.4.0-1ubuntu1~22.04) 11.4.0

Ubuntu 24.04
	Kernel: Depends on container host
	Compiler: gcc (Ubuntu 13.3.0-6ubuntu2~24.04) 13.3.0

Alpine
	Kernel: Depends on container host
	Compiler: gcc (Alpine 14.2.0) 14.2.0

FreeBSD 13.4
	Kernel: 13.4-RELEASE-p1
	Compiler: clang 18.1.6

Fedora 41
	Kernel: Depends on container host
	Compiler: gcc 14.2.1 20240912 (Red Hat 14.2.1-3)

FreeBSD 14.2
	Kernel: 14.2-RELEASE
	Compiler: clang 18.1.6

Windows Server 2022
	Kernel: 10.0.20348.2031
	Compiler: clang 15.0.7, gcc 14.1.0 (MinGW), and MSVC VS 19.39.33521

To view detailed results, visit:
https://lab.dpdk.org/results/dashboard/patchsets/32485/

UNH-IOL DPDK Community Lab

To manage your email subscriptions, visit: 
https://lab.dpdk.org/results/dashboard/preferences/subscriptions/