From mboxrd@z Thu Jan 1 00:00:00 1970 Return-Path: Received: from mails.dpdk.org (mails.dpdk.org [217.70.189.124]) by inbox.dpdk.org (Postfix) with ESMTP id 194FF46190 for ; Tue, 4 Feb 2025 19:47:05 +0100 (CET) Received: from mails.dpdk.org (localhost [127.0.0.1]) by mails.dpdk.org (Postfix) with ESMTP id E629C4025F; Tue, 4 Feb 2025 19:47:04 +0100 (CET) Received: from mail-il1-f226.google.com (mail-il1-f226.google.com [209.85.166.226]) by mails.dpdk.org (Postfix) with ESMTP id F1246400D6 for ; Tue, 4 Feb 2025 19:47:03 +0100 (CET) Received: by mail-il1-f226.google.com with SMTP id e9e14a558f8ab-3cfcf8b7455so44640425ab.3 for ; Tue, 04 Feb 2025 10:47:03 -0800 (PST) DKIM-Signature: v=1; a=rsa-sha256; c=relaxed/relaxed; d=iol.unh.edu; s=unh-iol; t=1738694823; x=1739299623; darn=dpdk.org; h=references:in-reply-to:cc:to:from:subject:message-id:date:from:to :cc:subject:date:message-id:reply-to; bh=dwAOW+6c7euJYD6rUxvBUaAENNBWBWB1lymevXbWGeY=; b=VdWBHKwTWRr0MkaN/BJ/fO9JpNtts50WJl/p+0g5uon0ZT9fRhR84tvPGjFux2QNsK g0yt8F4uvUPpekcIWzKi9OVGX1/zUFaSA+AHx0fBTTkU5yyHl3roa8dzfMZLBKW4E3nU lftUUw4VB71zFCPo+riQ9gYHaAB7PahY8wOBQ= X-Google-DKIM-Signature: v=1; a=rsa-sha256; c=relaxed/relaxed; d=1e100.net; s=20230601; t=1738694823; x=1739299623; h=references:in-reply-to:cc:to:from:subject:message-id:date :x-gm-message-state:from:to:cc:subject:date:message-id:reply-to; bh=dwAOW+6c7euJYD6rUxvBUaAENNBWBWB1lymevXbWGeY=; b=KBNNe7HwHp3SBujcEr6QHdCYU9gedI3q75cqS3IjFrZ/Kk9Aovm2tYNv+dyeB17ND3 qBGj4Sp97TLGmDCv7EE5950ePqKUUwFDhP9s3p3VSQAr6XFFbj8hgwkyvJ/o/CMjgWFt SoWY/BtedCnfuhteE7TZSMWTPLYszrTwB21eETg6nj+JXJVxsRUnGe08i4mnRH8SBGyw 0nktAYT3FQmWQdFNUy+hvgKh719Z8CFHWK/7T/OP/Zkg3/KZhzw5xOX4kLd1bGVwbHdc uAolqA9DUuOwJSvxx/LGOTt7TNLxp39q/3ZM6XrNg8yIocIKfT1Motau9rKS5LclqDqa ACJg== X-Gm-Message-State: AOJu0YwF8nIGm3dZ3e6nongFXXcyYCw3R4x2ktMsnIROKX6kh0uVUF18 oQFXgngXf6UG6rleLtjVh+2vw/Wi76eaD/6qLdpBH3QcBlUfEwZ1+t8oNDlY6W8L3+Iuz7YDG1g A+Ki8PJw0s7t7BNwK39GXQA0XYiQduuX/beXPVVOY X-Gm-Gg: ASbGncvYgvqBM6gbPpHz/NJpnMhtcKoDLc08kqhczmlRGBXDoXGqOi2GlXPZIgLin4o vZmal9pYkSDP7auR/s1EeAcbYocRH9Dou7Q4+3BSsRVaWShKfZPdnTzJDoUgs6HlbdDjC9Vy+46 J4M+a+2uQB6ZHO45N4/oRrhMwhsgtegS2F5MffOLSKPq77mfe2kvaJbdWtHKVNKpgd9LF0JKBcX QWJoCosqGIfObsGeXsW+LJA3FBaSOQAuDBwQjW/++WpOBWJrmkviRTBrFTwtPjHwQUQrwP4ggUf gpAwjjRF2VdZpOxOH8NouBCgrD71yw== X-Google-Smtp-Source: AGHT+IERKb240boRd0QWSAONqwAtYriu2U3ri/jgzZk+ldUpCGdwUj73hRcjM+Seu5aeBNCClLGqKPVpMfGu X-Received: by 2002:a05:6e02:19ca:b0:3cf:ce7c:b8b7 with SMTP id e9e14a558f8ab-3d04f439b37mr136345ab.10.1738694823147; Tue, 04 Feb 2025 10:47:03 -0800 (PST) Received: from postal.iol.unh.edu (postal.iol.unh.edu. [132.177.123.84]) by smtp-relay.gmail.com with ESMTPS id e9e14a558f8ab-3d00a4f7501sm8649475ab.11.2025.02.04.10.47.03 (version=TLS1_2 cipher=ECDHE-ECDSA-AES128-GCM-SHA256 bits=128/128); Tue, 04 Feb 2025 10:47:03 -0800 (PST) X-Relaying-Domain: iol.unh.edu Date: Tue, 04 Feb 2025 10:47:03 -0800 (PST) Message-ID: <67a260a7.050a0220.325ecc.9705SMTPIN_ADDED_MISSING@mx.google.com> Received: from [172.21.0.6] (unknown [172.18.0.240]) by postal.iol.unh.edu (Postfix) with ESMTP id A63E76052471; Tue, 4 Feb 2025 13:47:02 -0500 (EST) Subject: |SUCCESS| pw150809-150808 [PATCH] [v3,2/2] stack: enable build with From: dpdklab@iol.unh.edu To: Test Report Cc: dpdk-test-reports@iol.unh.edu In-Reply-To: <1738634318-12876-3-git-send-email-andremue@linux.microsoft.com> References: <1738634318-12876-3-git-send-email-andremue@linux.microsoft.com> Content-Type: text/plain X-BeenThere: test-report@dpdk.org X-Mailman-Version: 2.1.29 Precedence: list List-Id: automatic DPDK test reports List-Unsubscribe: , List-Archive: List-Post: List-Help: List-Subscribe: , Errors-To: test-report-bounces@dpdk.org Test-Label: iol-abi-testing Test-Status: SUCCESS http://dpdk.org/patch/150808 _Testing PASS_ Submitter: Andre Muezerie Date: Tuesday, February 04 2025 01:58:38 DPDK git baseline: Repo:dpdk Branch: master CommitID:dc4ce7c2538b713e16887eb598da309bc7b4d528 150809-150808 --> testing pass Upstream job id: Generic-DPDK-Compile-ABI#114699 Test environment and result as below: +-------------------+----------+ | Environment | abi_test | +===================+==========+ | CentOS Stream 9 | PASS | +-------------------+----------+ | Debian Bullseye | PASS | +-------------------+----------+ | Debian 12 | PASS | +-------------------+----------+ | Fedora 40 (Clang) | PASS | +-------------------+----------+ | Fedora 41 (Clang) | PASS | +-------------------+----------+ | Fedora 40 | PASS | +-------------------+----------+ | openSUSE Leap 15 | PASS | +-------------------+----------+ | Fedora 41 | PASS | +-------------------+----------+ | RHEL8 | PASS | +-------------------+----------+ | Ubuntu 22.04 | PASS | +-------------------+----------+ | Ubuntu 24.04 | PASS | +-------------------+----------+ | RHEL9 | PASS | +-------------------+----------+ CentOS Stream 9 Kernel: Depends on container host Compiler: gcc 11.5.0 20240719 (Red Hat 11.5.0-2) Debian Bullseye Kernel: Depends on container host Compiler: gcc (Debian 10.2.1-6) 10.2.1 20210110 Debian 12 Kernel: Depends on container host Compiler: gcc (Debian 12.2.0-14) 12.2.0 Fedora 40 (Clang) Kernel: Depends on container host Compiler: clang 18.1.8 (Fedora 18.1.8-1.fc40) Fedora 41 (Clang) Kernel: Depends on container host Compiler: clang 19.1.5 (Fedora 19.1.5-1.fc41) Fedora 40 Kernel: Depends on container host Compiler: gcc 14.2.1 20240912 (Red Hat 14.2.1-3) openSUSE Leap 15 Kernel: Depends on container host Compiler: gcc (SUSE Linux) 7.5.0 Fedora 41 Kernel: Depends on container host Compiler: gcc 14.2.1 20240912 (Red Hat 14.2.1-3) RHEL8 Kernel: Depends on container host Compiler: gcc 8.5.0 20210514 (Red Hat 8.5.0-22) Ubuntu 22.04 Kernel: Depends on container host Compiler: gcc (Ubuntu 11.4.0-1ubuntu1~22.04) 11.4.0 Ubuntu 24.04 Kernel: Depends on container host Compiler: gcc (Ubuntu 13.3.0-6ubuntu2~24.04) 13.3.0 RHEL9 Kernel: Depends on container host Compiler: gcc 11.5.0 20240719 (Red Hat 11.5.0-2) To view detailed results, visit: https://lab.dpdk.org/results/dashboard/patchsets/32485/ UNH-IOL DPDK Community Lab To manage your email subscriptions, visit: https://lab.dpdk.org/results/dashboard/preferences/subscriptions/