From mboxrd@z Thu Jan 1 00:00:00 1970 Return-Path: Received: from mails.dpdk.org (mails.dpdk.org [217.70.189.124]) by inbox.dpdk.org (Postfix) with ESMTP id AA77446191 for ; Tue, 4 Feb 2025 20:25:40 +0100 (CET) Received: from mails.dpdk.org (localhost [127.0.0.1]) by mails.dpdk.org (Postfix) with ESMTP id 840C540261; Tue, 4 Feb 2025 20:25:40 +0100 (CET) Received: from mail-pl1-f228.google.com (mail-pl1-f228.google.com [209.85.214.228]) by mails.dpdk.org (Postfix) with ESMTP id E56FF4025F for ; Tue, 4 Feb 2025 20:25:38 +0100 (CET) Received: by mail-pl1-f228.google.com with SMTP id d9443c01a7336-21f01fe1ce8so17203995ad.2 for ; Tue, 04 Feb 2025 11:25:38 -0800 (PST) DKIM-Signature: v=1; a=rsa-sha256; c=relaxed/relaxed; d=iol.unh.edu; s=unh-iol; t=1738697138; x=1739301938; darn=dpdk.org; h=references:in-reply-to:cc:to:from:subject:message-id:date:from:to :cc:subject:date:message-id:reply-to; bh=mwGMfNoYJDedxqXdyZnzgfczSiiYcAauDXIP/QrIotU=; b=h/QDxdITZj6q/Zt5W2OzSN5TRP3WgUcWY00Pu4PfbkNKaFb9I9XJfWW4WKdqeRJ9jF LhBh4GPkeJt8yBb/tBnJxmwgzlVPbkNdudWFzmMq81GbnMu71dA2KD8Dzy3QNPebxLtZ wu0nmq2YxUrjk89uzzhDMlsiAO8JNwnYb9ugU= X-Google-DKIM-Signature: v=1; a=rsa-sha256; c=relaxed/relaxed; d=1e100.net; s=20230601; t=1738697138; x=1739301938; h=references:in-reply-to:cc:to:from:subject:message-id:date :x-gm-message-state:from:to:cc:subject:date:message-id:reply-to; bh=mwGMfNoYJDedxqXdyZnzgfczSiiYcAauDXIP/QrIotU=; b=Sx7Eyo2TfEalINcoVxxEK2r52ud+a5h2jPorazG92LC22eHRU9EKpu4WRvOIAKqXeD N0KgxQD071mXU2IOaCs77jwbpcU5bV6YPT30Eyso5x2F1NPWZQ915kc9+UiVYIdmzYZ0 46HVjT2htT3pLlH0rpzlLlZi1klugx8gFM7vBdtxrdJ/uR9EI4oOu5zTjsMe+/3qJLvc aY4OM8WJSDY3fU3StvRmV/2ekEuWNRtPV3dKwOv5v4ZqPf3x10SFbBo0p+ycWN40qtaN wkX0JNzY4RkQrshopzjY7xK8n4X0HvwIwECa3Vf09hAThs9PDrl3Vcw7f92N8XJgYWN+ hgwA== X-Gm-Message-State: AOJu0YzfqFQJBgVQjd3aj6wkAe1WfPk5WX52QwHN7ebZ9AxvlaexN09J C1EFNyNdFx3wvDXUq9T4vOL/1mXi9dUuk0iEWmtNTh+ByQRMrsgrmLw/UuaoUHcbSKguKJ/Oxd+ kijxJxgQOZDMdymLAsFSapFzdGz/9+plu+of8ZYzT3HPXbDM4WRnlPheV X-Gm-Gg: ASbGncvhC7trD66IKobqxJquPvp4EnWQpj7TT8snKyj9ebp2Opi6rmD31P98hckMd4T 4Q+ny1pQRt1G7FAcK8YI4beOvz0Nk9nwiaZdzyhr8I9bjEWmJ0bmiG6cv78H/wMdslLE5fFSaqL Z5ps5FjM8tdZg1L0Igu5JzMxSDek/dJLXMig7UeydjBrj+EkJnKh7G995d9GJ/zr4dUocpR86FA 3LJ/QL2JAiP/TBbogQtrcSzT1q2ER8733I9ji5Kyaf5daa97Y+UzP9sd8jxb2bcikt1BSoFMgII 2C0LtZy17Qv5oQ+JY8Z7QETI+cax2Pkhc6M77lY0KQ== X-Google-Smtp-Source: AGHT+IFf26/uNhj4Tpx+9w0N+GdBTHlh5fCziMwvbkpl/N1Ctcwa88C8pjLINjpAqD2mWso8x0EjXYVHIULb X-Received: by 2002:a17:902:f64d:b0:216:6f1a:1c81 with SMTP id d9443c01a7336-21f17e27177mr423115ad.2.1738697137955; Tue, 04 Feb 2025 11:25:37 -0800 (PST) Received: from postal.iol.unh.edu (postal.iol.unh.edu. [2606:4100:3880:1234::84]) by smtp-relay.gmail.com with ESMTPS id d9443c01a7336-21de321aa57sm5761895ad.20.2025.02.04.11.25.37 (version=TLS1_2 cipher=ECDHE-ECDSA-AES128-GCM-SHA256 bits=128/128); Tue, 04 Feb 2025 11:25:37 -0800 (PST) X-Relaying-Domain: iol.unh.edu Date: Tue, 04 Feb 2025 11:25:37 -0800 (PST) Message-ID: <67a269b1.170a0220.28b056.b707SMTPIN_ADDED_MISSING@mx.google.com> Received: from [172.21.0.5] (unknown [172.18.0.240]) by postal.iol.unh.edu (Postfix) with ESMTP id 40A696052471; Tue, 4 Feb 2025 14:25:37 -0500 (EST) Subject: |SUCCESS| pw150809-150808 [PATCH] [v3,2/2] stack: enable build with From: dpdklab@iol.unh.edu To: Test Report Cc: dpdk-test-reports@iol.unh.edu In-Reply-To: <1738634318-12876-3-git-send-email-andremue@linux.microsoft.com> References: <1738634318-12876-3-git-send-email-andremue@linux.microsoft.com> Content-Type: text/plain X-BeenThere: test-report@dpdk.org X-Mailman-Version: 2.1.29 Precedence: list List-Id: automatic DPDK test reports List-Unsubscribe: , List-Archive: List-Post: List-Help: List-Subscribe: , Errors-To: test-report-bounces@dpdk.org Test-Label: iol-sample-apps-testing Test-Status: SUCCESS http://dpdk.org/patch/150808 _Testing PASS_ Submitter: Andre Muezerie Date: Tuesday, February 04 2025 01:58:38 DPDK git baseline: Repo:dpdk Branch: master CommitID:dc4ce7c2538b713e16887eb598da309bc7b4d528 150809-150808 --> testing pass Upstream job id: ACVP-FIPS-testing#8776 Test environment and result as below: +--------------------+----------------------+----------------------+ | Environment | compressdev_zlib_pmd | dpdk_fips_validation | +====================+======================+======================+ | Ubuntu 22.04 (ARM) | PASS | SKIPPED | +--------------------+----------------------+----------------------+ | Ubuntu 22.04 | PASS | SKIPPED | +--------------------+----------------------+----------------------+ | Ubuntu 20.04 | SKIPPED | PASS | +--------------------+----------------------+----------------------+ Ubuntu 22.04 (ARM) Kernel: 5.15.0-97-generic Compiler: gcc gcc (Ubuntu 11.4.0-1ubuntu1~22.04) 11.4.0 Ubuntu 22.04 Kernel: 5.15.0-100-generic Compiler: gcc gcc (Ubuntu 11.4.0-1ubuntu1~22.04) 11.4.0 Ubuntu 20.04 Kernel: Depends on container host Compiler: gcc (Ubuntu 9.4.0-1ubuntu1~20.04.2) 9.4.0 To view detailed results, visit: https://lab.dpdk.org/results/dashboard/patchsets/32485/ UNH-IOL DPDK Community Lab To manage your email subscriptions, visit: https://lab.dpdk.org/results/dashboard/preferences/subscriptions/