From mboxrd@z Thu Jan 1 00:00:00 1970 Return-Path: Received: from mails.dpdk.org (mails.dpdk.org [217.70.189.124]) by inbox.dpdk.org (Postfix) with ESMTP id E867746191 for ; Tue, 4 Feb 2025 20:29:16 +0100 (CET) Received: from mails.dpdk.org (localhost [127.0.0.1]) by mails.dpdk.org (Postfix) with ESMTP id 0D44B40261; Tue, 4 Feb 2025 20:29:16 +0100 (CET) Received: from mail-pl1-f227.google.com (mail-pl1-f227.google.com [209.85.214.227]) by mails.dpdk.org (Postfix) with ESMTP id DD9CF4025F for ; Tue, 4 Feb 2025 20:29:14 +0100 (CET) Received: by mail-pl1-f227.google.com with SMTP id d9443c01a7336-2167141dfa1so2029805ad.1 for ; Tue, 04 Feb 2025 11:29:14 -0800 (PST) DKIM-Signature: v=1; a=rsa-sha256; c=relaxed/relaxed; d=iol.unh.edu; s=unh-iol; t=1738697354; x=1739302154; darn=dpdk.org; h=references:in-reply-to:cc:to:from:subject:message-id:date:from:to :cc:subject:date:message-id:reply-to; bh=QBnw+pDVqXn3B81RRf/7B6cwtPEi/Tl+4+XmrImlFjo=; b=OtXE+Y39w4gIIQQqwoHMnWgltjMwHlB12HsciM2o7teybhh2ZRyfZgcK+LES80eDFV rznepPYSWBEwWB55Q82JP/L7786mqPFfauDtXhFalg1u6AsHsLNJM0Hk/4k85UXe1SSR B133VeX3cya/g16rWXvPf5dI4Y1y1ElpjrjFo= X-Google-DKIM-Signature: v=1; a=rsa-sha256; c=relaxed/relaxed; d=1e100.net; s=20230601; t=1738697354; x=1739302154; h=references:in-reply-to:cc:to:from:subject:message-id:date :x-gm-message-state:from:to:cc:subject:date:message-id:reply-to; bh=QBnw+pDVqXn3B81RRf/7B6cwtPEi/Tl+4+XmrImlFjo=; b=l0OFHugzCTKw/E3BbWcHGpS6H5QOJTqFIJ5tRFXqyavaiUscHpQPgNs+uLTDBQEr2Y 4+qthEjzQNIVrnyZC7sYeZceD4GPtG2rGmHpYXQqCe8XpaF65D/mziyRH/MAOpOaZt93 FKCDo3sYt1NDxcMCvWWAZ6BA8nWCpilvre/KKSV0E2pRqrmHbsar/Cks7zJ2bayuU1dB zGHKtaH7s659bmBviAupuYR2u1v5Ypk5IyuqPRBhvcxQIhDgPUJ9XeacAS3rRpdgr0UG uPmpY+1K0/plT2KxxO0a11LHBRM8YauqeDVq1XgsGhGRCUbN3B3pGTO877knnCT23gSX omUA== X-Gm-Message-State: AOJu0YxIKr4G2rgb8h+tGlRuEWgg3kagg8EZEtgFwgt7iVVjBWKARbHX meJmSldc3ErTfRoUNsHMn/uEFDk0naXDdfe1rSwWuBpPpBdOHT/IyKB9STh1cEk2BZmF/VMyuMW zFsPLouTr8SyRnzr40gKHzwOYXnc9QS8sL8srsWvF0ygJegd4VEL+mNP5 X-Gm-Gg: ASbGncuCq/RhWUqCGFEAStKDJtqrVisl5bgZ3jYFp9YHf7gKTmvQYvtE/SZtCOGO4kG ad/Q5NjbIXUG6EATgf7sHA451fmNCdHF7k8y5KdPzz4YgiL26Jgnvmqg02zR8xk66osnebHXW1z 54u3/YodyMCWxl6GsnW94Lt3dA8VeqFhOkpTffU8Le+tj/javd/kIyp2LosDAt7tfhqTH6r8xMY jCVC9LWnXIbcDRnqpbN0FZwpcdAAsGREX7j1KcXbt+NG2q5GfCf7vZPd1+bODOtkP4Tg9hKSlCj WufBOZRK2EjzQrQKwskZlM2BEDVRU0L6BadBjr48IA== X-Google-Smtp-Source: AGHT+IEimbO3J3UP+0w4gITqnb8EOOm4DxP5IlwAcgTKMhxg+8LxOzAJKSYrGtLxxoR4igwEQvCjDBVAfOzR X-Received: by 2002:a17:902:ce86:b0:216:5db1:5dc1 with SMTP id d9443c01a7336-21f1795cb84mr2318375ad.1.1738697353101; Tue, 04 Feb 2025 11:29:13 -0800 (PST) Received: from postal.iol.unh.edu (postal.iol.unh.edu. [2606:4100:3880:1234::84]) by smtp-relay.gmail.com with ESMTPS id d9443c01a7336-21de3361bc9sm5541445ad.121.2025.02.04.11.29.12 (version=TLS1_2 cipher=ECDHE-ECDSA-AES128-GCM-SHA256 bits=128/128); Tue, 04 Feb 2025 11:29:13 -0800 (PST) X-Relaying-Domain: iol.unh.edu Date: Tue, 04 Feb 2025 11:29:13 -0800 (PST) Message-ID: <67a26a89.170a0220.1455e1.8fa6SMTPIN_ADDED_MISSING@mx.google.com> Received: from [172.21.0.5] (unknown [172.18.0.240]) by postal.iol.unh.edu (Postfix) with ESMTP id 41B816052471; Tue, 4 Feb 2025 14:29:12 -0500 (EST) Subject: |SUCCESS| pw150809-150808 [PATCH] [v3,2/2] stack: enable build with From: dpdklab@iol.unh.edu To: Test Report Cc: dpdk-test-reports@iol.unh.edu In-Reply-To: <1738634318-12876-3-git-send-email-andremue@linux.microsoft.com> References: <1738634318-12876-3-git-send-email-andremue@linux.microsoft.com> Content-Type: text/plain X-BeenThere: test-report@dpdk.org X-Mailman-Version: 2.1.29 Precedence: list List-Id: automatic DPDK test reports List-Unsubscribe: , List-Archive: List-Post: List-Help: List-Subscribe: , Errors-To: test-report-bounces@dpdk.org Test-Label: iol-compile-arm64-testing Test-Status: SUCCESS http://dpdk.org/patch/150808 _Testing PASS_ Submitter: Andre Muezerie Date: Tuesday, February 04 2025 01:58:38 DPDK git baseline: Repo:dpdk Branch: master CommitID:dc4ce7c2538b713e16887eb598da309bc7b4d528 150809-150808 --> testing pass Upstream job id: Generic-DPDK-Compile-Meson#357622 Test environment and result as below: +----------------------------------------+--------------------+ | Environment | dpdk_meson_compile | +========================================+====================+ | RHEL9 (ARM) | PASS | +----------------------------------------+--------------------+ | Ubuntu 20.04 ARM GCC Cross Compile | PASS | +----------------------------------------+--------------------+ | Ubuntu 20.04 ARM SVE | PASS | +----------------------------------------+--------------------+ | Fedora 40 (ARM) | PASS | +----------------------------------------+--------------------+ | Debian 12 with MUSDK | PASS | +----------------------------------------+--------------------+ | Fedora 41 (ARM) | PASS | +----------------------------------------+--------------------+ | Fedora 40 (ARM Clang) | PASS | +----------------------------------------+--------------------+ | Ubuntu 20.04 (ARM) | PASS | +----------------------------------------+--------------------+ | Ubuntu 22.04 (ARM) | PASS | +----------------------------------------+--------------------+ | Fedora 41 (ARM Clang) | PASS | +----------------------------------------+--------------------+ | Ubuntu 24.04 (ARM) | PASS | +----------------------------------------+--------------------+ | CentOS Stream 9 (ARM) | PASS | +----------------------------------------+--------------------+ | Debian 11 (Buster) (ARM) | PASS | +----------------------------------------+--------------------+ | Debian 12 (arm) | PASS | +----------------------------------------+--------------------+ | Ubuntu 20.04 ARM Clang Cross Compile | PASS | +----------------------------------------+--------------------+ | Ubuntu 20.04 aarch32 GCC Cross Compile | PASS | +----------------------------------------+--------------------+ RHEL9 (ARM) Kernel: Depends on container host Compiler: gcc 11.5.0 20240719 (Red Hat 11.5.0-2) Ubuntu 20.04 ARM GCC Cross Compile Kernel: Depends on container host Compiler: aarch64-linux-gnu-gcc (Ubuntu 9.4.0-1ubuntu1~20.04.2) 9.4.0 Ubuntu 20.04 ARM SVE Kernel: Depends on container host Compiler: gcc (Ubuntu 10.5.0-1ubuntu1~20.04) 10.5.0 Fedora 40 (ARM) Kernel: Depends on container host Compiler: gcc 14.2.1 20240912 (Red Hat 14.2.1-3) Debian 12 with MUSDK Kernel: Depends on container host Compiler: gcc (Debian 12.2.0-14) 12.2.0 Fedora 41 (ARM) Kernel: Depends on container host Compiler: gcc 14.2.1 20240912 (Red Hat 14.2.1-3) Fedora 40 (ARM Clang) Kernel: Depends on container host Compiler: clang 18.1.8 (Fedora 18.1.8-1.fc40) Ubuntu 20.04 (ARM) Kernel: Depends on container host Compiler: gcc (Ubuntu 9.4.0-1ubuntu1~20.04.2) 9.4.0 Ubuntu 22.04 (ARM) Kernel: Depends on container host Compiler: gcc (Ubuntu 11.4.0-1ubuntu1~22.04) 11.4.0 Fedora 41 (ARM Clang) Kernel: Depends on container host Compiler: clang 19.1.5 (Fedora 19.1.5-1.fc41) Ubuntu 24.04 (ARM) Kernel: Depends on container host Compiler: gcc (Ubuntu 13.3.0-6ubuntu2~24.04) 13.3.0 CentOS Stream 9 (ARM) Kernel: Depends on container host Compiler: gcc 11.5.0 20240719 (Red Hat 11.5.0-2) Debian 11 (Buster) (ARM) Kernel: Depends on container host Compiler: gcc (Debian 10.2.1-6) 10.2.1 20210110 Debian 12 (arm) Kernel: Depends on container host Compiler: gcc (Debian 12.2.0-14) 12.2.0 Ubuntu 20.04 ARM Clang Cross Compile Kernel: Depends on container host Compiler: clang 10.0.0-4ubuntu1 Ubuntu 20.04 aarch32 GCC Cross Compile Kernel: Depends on container host Compiler: gcc 9.4.0 To view detailed results, visit: https://lab.dpdk.org/results/dashboard/patchsets/32485/ UNH-IOL DPDK Community Lab To manage your email subscriptions, visit: https://lab.dpdk.org/results/dashboard/preferences/subscriptions/