From mboxrd@z Thu Jan 1 00:00:00 1970 Return-Path: Received: from mails.dpdk.org (mails.dpdk.org [217.70.189.124]) by inbox.dpdk.org (Postfix) with ESMTP id 0A1AE46191 for ; Tue, 4 Feb 2025 20:36:38 +0100 (CET) Received: from mails.dpdk.org (localhost [127.0.0.1]) by mails.dpdk.org (Postfix) with ESMTP id DAAC340261; Tue, 4 Feb 2025 20:36:37 +0100 (CET) Received: from mail-qv1-f99.google.com (mail-qv1-f99.google.com [209.85.219.99]) by mails.dpdk.org (Postfix) with ESMTP id 9EF004025F for ; Tue, 4 Feb 2025 20:36:36 +0100 (CET) Received: by mail-qv1-f99.google.com with SMTP id 6a1803df08f44-6d8e8445219so50890016d6.0 for ; Tue, 04 Feb 2025 11:36:36 -0800 (PST) DKIM-Signature: v=1; a=rsa-sha256; c=relaxed/relaxed; d=iol.unh.edu; s=unh-iol; t=1738697796; x=1739302596; darn=dpdk.org; h=references:in-reply-to:cc:to:from:subject:message-id:date:from:to :cc:subject:date:message-id:reply-to; bh=IJCQKo/6l3yFhpah5hxE0Q4fPeJ8QzH4NxtIgDMWgo0=; b=iqjoytIbybiMu85tR3nYCVMolMOR1cjSW2QasxDU+5YCqgJ5Jq1W/dg6XP8U4YNyzG OUFliugqRCb1UgKeoYd1tx1uqQCPUoHaJziE3TWnw2VFNPzOUyBih2LURpDxDb5M4diQ CUzFnUdY9N1t5EVYr078bKDSfORsTGFE3UXsM= X-Google-DKIM-Signature: v=1; a=rsa-sha256; c=relaxed/relaxed; d=1e100.net; s=20230601; t=1738697796; x=1739302596; h=references:in-reply-to:cc:to:from:subject:message-id:date :x-gm-message-state:from:to:cc:subject:date:message-id:reply-to; bh=IJCQKo/6l3yFhpah5hxE0Q4fPeJ8QzH4NxtIgDMWgo0=; b=wdndOVEDrNOkM9llAjJcuki+jUooSKCLjAsR4xa0bT7+mS6RfFpE7CMaqCUiABJ+TU Xvl3zZD0WIob/u3Yzb+d5bd6y4ZD0s1HzLcSVfFnWT0Xtq7S3d2Uj3L7siKKMkgUb9Sf gjj1r5xdaWu/etCPBRaoDj6ivTTGp776feYyfzFpccJP2O7xuJzZT7CcZWgt/jV0iiPs NnNiJSNn1WfVvvataBNZuTioj9VhYgFKsUDUWyqVNiAQPIo9Oq6wLNnb2Q7XCKMqUgqn EtKrQvyvk7zlXJVwIIaVoqdY6WVycacZqL055wOSyhLxnoFBZ10w3F3XZr69DJNK/z1C XQ8g== X-Gm-Message-State: AOJu0YzQeOmyyIYv4nQEbirBvVJPxeJqLSfAihdoeBr4uUiD8FRfKG3O ZCI7wRJkPYzdZcE41qoGTSCBVeWUxKju9hhlEU3gvk5HTHTFUmdxdhHZFRg7gGQ/xve1KceXyJQ 2LsDEHHRpvGVmHnj713Uigy+UYI//xWeKHwegi4+v X-Gm-Gg: ASbGncuT2xi3QbO/M4CNG9bDDhDhqtpIwIzYLjLda4Mm+BBAWsdeQSmAumg6E+TeVoJ f3PwzQwTika3I0O4MXwNu9auiCm7/rsv2cJce3evaOmOM92xYpwDqJdpORHJu3n47TpFtMP4pAF 3Jdm7UBS7TsEeAPcUkFzc1H4kvGn2OrFY32tHf1EzhYFVeXU4YrTU9H4p1+a+9eRytpUpB0hHQY M6XEZV+SUCHNrCu0QfAKsAlm4tt162Rp5Rt9hdER4lNBy1CAALZOD/h5UmUsaSCDYdLsa73hUzi fqDxVEoijzx3U1uu3QFGjKFZpxQMgw== X-Google-Smtp-Source: AGHT+IGSLpziNTMwV4elVqEcbeQm0vDVs6DI7SPtSih3mqtURWLhweU4ih94ICYjvSv3cM8tbh8y2YVRkR2Y X-Received: by 2002:a05:6214:1cc7:b0:6df:ba24:2af2 with SMTP id 6a1803df08f44-6e243c1e888mr435037686d6.25.1738697796032; Tue, 04 Feb 2025 11:36:36 -0800 (PST) Received: from postal.iol.unh.edu (postal.iol.unh.edu. [132.177.123.84]) by smtp-relay.gmail.com with ESMTPS id 6a1803df08f44-6e2549346e9sm8808406d6.45.2025.02.04.11.36.35 (version=TLS1_2 cipher=ECDHE-ECDSA-AES128-GCM-SHA256 bits=128/128); Tue, 04 Feb 2025 11:36:36 -0800 (PST) X-Relaying-Domain: iol.unh.edu Date: Tue, 04 Feb 2025 11:36:36 -0800 (PST) Message-ID: <67a26c44.d40a0220.28f13b.8c7aSMTPIN_ADDED_MISSING@mx.google.com> Received: from [172.21.0.5] (unknown [172.18.0.240]) by postal.iol.unh.edu (Postfix) with ESMTP id B2D956052471; Tue, 4 Feb 2025 14:36:35 -0500 (EST) Subject: |SUCCESS| pw150809-150808 [PATCH] [v3,2/2] stack: enable build with From: dpdklab@iol.unh.edu To: Test Report Cc: dpdk-test-reports@iol.unh.edu In-Reply-To: <1738634318-12876-3-git-send-email-andremue@linux.microsoft.com> References: <1738634318-12876-3-git-send-email-andremue@linux.microsoft.com> Content-Type: text/plain X-BeenThere: test-report@dpdk.org X-Mailman-Version: 2.1.29 Precedence: list List-Id: automatic DPDK test reports List-Unsubscribe: , List-Archive: List-Post: List-Help: List-Subscribe: , Errors-To: test-report-bounces@dpdk.org Test-Label: iol-unit-arm64-testing Test-Status: SUCCESS http://dpdk.org/patch/150808 _Testing PASS_ Submitter: Andre Muezerie Date: Tuesday, February 04 2025 01:58:38 DPDK git baseline: Repo:dpdk Branch: master CommitID:dc4ce7c2538b713e16887eb598da309bc7b4d528 150809-150808 --> testing pass Upstream job id: Generic-Unit-Test-DPDK#311487 Test environment and result as below: +-----------------------------+----------------+---------------------------+------------------------------+--------------+ | Environment | dpdk_unit_test | cryptodev_sw_zuc_autotest | cryptodev_sw_snow3g_autotest | lpm_autotest | +=============================+================+===========================+==============================+==============+ | CentOS Stream 9 (ARM) | PASS | SKIPPED | SKIPPED | SKIPPED | +-----------------------------+----------------+---------------------------+------------------------------+--------------+ | Fedora 40 (ARM) | PASS | SKIPPED | SKIPPED | SKIPPED | +-----------------------------+----------------+---------------------------+------------------------------+--------------+ | Debian 11 (Buster) (ARM) | PASS | SKIPPED | SKIPPED | SKIPPED | +-----------------------------+----------------+---------------------------+------------------------------+--------------+ | Debian 12 (arm) | PASS | PASS | PASS | SKIPPED | +-----------------------------+----------------+---------------------------+------------------------------+--------------+ | 32-bit Ubuntu 22.04.4 (ARM) | PASS | SKIPPED | SKIPPED | SKIPPED | +-----------------------------+----------------+---------------------------+------------------------------+--------------+ | Fedora 41 (ARM Clang) | PASS | SKIPPED | SKIPPED | SKIPPED | +-----------------------------+----------------+---------------------------+------------------------------+--------------+ | Fedora 40 (ARM Clang) | PASS | SKIPPED | SKIPPED | SKIPPED | +-----------------------------+----------------+---------------------------+------------------------------+--------------+ | Fedora 41 (ARM) | PASS | SKIPPED | SKIPPED | SKIPPED | +-----------------------------+----------------+---------------------------+------------------------------+--------------+ | RHEL9 (ARM) | PASS | SKIPPED | SKIPPED | SKIPPED | +-----------------------------+----------------+---------------------------+------------------------------+--------------+ | Ubuntu 20.04 (ARM) | PASS | SKIPPED | SKIPPED | SKIPPED | +-----------------------------+----------------+---------------------------+------------------------------+--------------+ | Ubuntu 22.04 (ARM) | PASS | SKIPPED | SKIPPED | SKIPPED | +-----------------------------+----------------+---------------------------+------------------------------+--------------+ | Ubuntu 24.04 (ARM) | PASS | SKIPPED | SKIPPED | SKIPPED | +-----------------------------+----------------+---------------------------+------------------------------+--------------+ | Ubuntu 20.04 ARM SVE | SKIPPED | SKIPPED | SKIPPED | PASS | +-----------------------------+----------------+---------------------------+------------------------------+--------------+ CentOS Stream 9 (ARM) Kernel: Depends on container host Compiler: gcc 11.5.0 20240719 (Red Hat 11.5.0-2) Fedora 40 (ARM) Kernel: Depends on container host Compiler: gcc 14.2.1 20240912 (Red Hat 14.2.1-3) Debian 11 (Buster) (ARM) Kernel: Depends on container host Compiler: gcc (Debian 10.2.1-6) 10.2.1 20210110 Debian 12 (arm) Kernel: Depends on container host Compiler: gcc (Debian 12.2.0-14) 12.2.0 32-bit Ubuntu 22.04.4 (ARM) Kernel: 5.15.83+ aarch64 Compiler: gcc (Ubuntu 11.4.0-1ubuntu1~22.04) 11.4.0 Fedora 41 (ARM Clang) Kernel: Depends on container host Compiler: clang 19.1.5 (Fedora 19.1.5-1.fc41) Fedora 40 (ARM Clang) Kernel: Depends on container host Compiler: clang 18.1.8 (Fedora 18.1.8-1.fc40) Fedora 41 (ARM) Kernel: Depends on container host Compiler: gcc 14.2.1 20240912 (Red Hat 14.2.1-3) RHEL9 (ARM) Kernel: Depends on container host Compiler: gcc 11.5.0 20240719 (Red Hat 11.5.0-2) Ubuntu 20.04 (ARM) Kernel: Depends on container host Compiler: gcc (Ubuntu 9.4.0-1ubuntu1~20.04.2) 9.4.0 Ubuntu 22.04 (ARM) Kernel: Depends on container host Compiler: gcc (Ubuntu 11.4.0-1ubuntu1~22.04) 11.4.0 Ubuntu 24.04 (ARM) Kernel: Depends on container host Compiler: gcc (Ubuntu 13.3.0-6ubuntu2~24.04) 13.3.0 Ubuntu 20.04 ARM SVE Kernel: Depends on container host Compiler: gcc (Ubuntu 10.5.0-1ubuntu1~20.04) 10.5.0 To view detailed results, visit: https://lab.dpdk.org/results/dashboard/patchsets/32485/ UNH-IOL DPDK Community Lab To manage your email subscriptions, visit: https://lab.dpdk.org/results/dashboard/preferences/subscriptions/