From mboxrd@z Thu Jan 1 00:00:00 1970 Return-Path: Received: from mails.dpdk.org (mails.dpdk.org [217.70.189.124]) by inbox.dpdk.org (Postfix) with ESMTP id CA8FB46191 for ; Tue, 4 Feb 2025 20:53:26 +0100 (CET) Received: from mails.dpdk.org (localhost [127.0.0.1]) by mails.dpdk.org (Postfix) with ESMTP id C706340261; Tue, 4 Feb 2025 20:53:26 +0100 (CET) Received: from mail-il1-f225.google.com (mail-il1-f225.google.com [209.85.166.225]) by mails.dpdk.org (Postfix) with ESMTP id B39934025F for ; Tue, 4 Feb 2025 20:53:25 +0100 (CET) Received: by mail-il1-f225.google.com with SMTP id e9e14a558f8ab-3cfeff44d94so15376905ab.0 for ; Tue, 04 Feb 2025 11:53:25 -0800 (PST) DKIM-Signature: v=1; a=rsa-sha256; c=relaxed/relaxed; d=iol.unh.edu; s=unh-iol; t=1738698805; x=1739303605; darn=dpdk.org; h=references:in-reply-to:cc:to:from:subject:message-id:date:from:to :cc:subject:date:message-id:reply-to; bh=6pII9hsTweTcNM9q1o4Z4hWKCZyJZNViEWGBOpbmcFA=; b=OIiH5WIGgnKFHyURFc8apB2WEfPpzEE/ZASxfz4468sR9sFIsEr5qLlsbOhcvbdZ5G pl4TuVnyIMtp/6j/aOozsqh7dA0wKSb1iynlLztXlFXxXYqZGoPrAW3hdrBEMcC1FmYm 3ymx1/6XjUqzfx42hW3pbiAmw1uGvX2b1PucQ= X-Google-DKIM-Signature: v=1; a=rsa-sha256; c=relaxed/relaxed; d=1e100.net; s=20230601; t=1738698805; x=1739303605; h=references:in-reply-to:cc:to:from:subject:message-id:date :x-gm-message-state:from:to:cc:subject:date:message-id:reply-to; bh=6pII9hsTweTcNM9q1o4Z4hWKCZyJZNViEWGBOpbmcFA=; b=hpsFDgkdbCKN3wkQkKVd7FIr/JQBNt9ycX6amtk1FWswgjPWWgeFfRwJAG42h3BqXo sdcauMkN60W4ckyATaw652ULT4YatqefQDH8n2KWRWAMjDtqO4xtzCI72WeP4v4ntsdf l+/0DErxHxz1FGy2f2ScwGUOwixitnbGxGRSSYyza7sdy6uVxJkuDYDot8eVGh+HeNtP j79P5h6dhUCIhDi8Ud7XB0c5NXItN/W1PlpFLJ53kfvgFAnA0fXFWyr1K0LiSGb3TkW1 eePANrTVWdpRgWzJigty2o6Nj/7m8qTmPeImYF3r8TqeFq0d3W5QV68lOI3n+lsp7gHn Tawg== X-Gm-Message-State: AOJu0Yz1vXSrF0lls0Q26hn2/x3MfV8wlc/JYbCOTR3/rJ8zdeRosHGV bAB0ckHxVf9dw0gBuk9694Ettkgs6MNma07L7lLN8QB1/ZQCKikIraI8mZAtvcMFK8Ea/VM9HK1 VUKH7qB57z5AZvEiB1UEIuSjE48LhEdzHnrS1+nOnZXIJv8TRQa17SmOO X-Gm-Gg: ASbGncteZr/4rHZtxSkpijKsusFw0plzHK7XrgZ+DwY5BCy3ymBAggRx1KXExOQNikC vqlooIOkVKEA11/Rl6OIiJGIYj5SMjx5msHElwA7ju9KPJQSYH4VvAUk4o91euB3qeol0MaKMom Yp7YyYBrPyqHQFBlHFJEs5KndkZeBI0/RQpE5xRATyl0Hg5XozlFxvIEw927rWBlF48EmadEzjw xzQRLiIRm2rOEU2UQGXAteCMzGkfk5nLPg56sLWQSzsx2lVRbwLtn9KQKsmZKYjFtBGzsGkawqU OLuwD17Ts14UcgIU8mIpTMiI3VZ8BdCZZVik+erkBA== X-Google-Smtp-Source: AGHT+IGu2HGXkBb1NTeQrdbGyzY6/IVP7HTUAUJ7y9Jr0M3sJaFqhMWy2eBCe4OvKqD2t9h5VlRz9DmKoPrl X-Received: by 2002:a05:6e02:349c:b0:3d0:2fcb:e7f with SMTP id e9e14a558f8ab-3d04f2c4786mr2609215ab.0.1738698805058; Tue, 04 Feb 2025 11:53:25 -0800 (PST) Received: from postal.iol.unh.edu (postal.iol.unh.edu. [2606:4100:3880:1234::84]) by smtp-relay.gmail.com with ESMTPS id 8926c6da1cb9f-4ec7469d85csm716162173.55.2025.02.04.11.53.24 (version=TLS1_2 cipher=ECDHE-ECDSA-AES128-GCM-SHA256 bits=128/128); Tue, 04 Feb 2025 11:53:25 -0800 (PST) X-Relaying-Domain: iol.unh.edu Date: Tue, 04 Feb 2025 11:53:25 -0800 (PST) Message-ID: <67a27035.050a0220.191309.23e0SMTPIN_ADDED_MISSING@mx.google.com> Received: from [172.21.0.6] (unknown [172.18.0.240]) by postal.iol.unh.edu (Postfix) with ESMTP id A31436052471; Tue, 4 Feb 2025 14:53:24 -0500 (EST) Subject: |SUCCESS| pw150865 [PATCH] [RFC] ci: Add support for Cirrus-CI servi From: dpdklab@iol.unh.edu To: Test Report Cc: dpdk-test-reports@iol.unh.edu In-Reply-To: <20250204160739.1603197-1-aconole@redhat.com> References: <20250204160739.1603197-1-aconole@redhat.com> Content-Type: text/plain X-BeenThere: test-report@dpdk.org X-Mailman-Version: 2.1.29 Precedence: list List-Id: automatic DPDK test reports List-Unsubscribe: , List-Archive: List-Post: List-Help: List-Subscribe: , Errors-To: test-report-bounces@dpdk.org Test-Label: iol-compile-amd64-testing Test-Status: SUCCESS http://dpdk.org/patch/150865 _Testing PASS_ Submitter: Aaron Conole Date: Tuesday, February 04 2025 16:07:39 DPDK git baseline: Repo:dpdk Branch: master CommitID:dc4ce7c2538b713e16887eb598da309bc7b4d528 150865 --> testing pass Upstream job id: Windows-Compile-DPDK-VS#4808 Test environment and result as below: +---------------------+-------------------+--------------------+ | Environment | dpdk_msvc_compile | dpdk_meson_compile | +=====================+===================+====================+ | Windows Server 2022 | PASS | SKIPPED | +---------------------+-------------------+--------------------+ | FreeBSD 13.4 | SKIPPED | PASS | +---------------------+-------------------+--------------------+ | FreeBSD 14.2 | SKIPPED | PASS | +---------------------+-------------------+--------------------+ Windows Server 2022 Kernel: 10.0.20348.2031 Compiler: clang 15.0.7, gcc 14.1.0 (MinGW), and MSVC VS 19.39.33521 FreeBSD 13.4 Kernel: 13.4-RELEASE-p1 Compiler: clang 18.1.6 FreeBSD 14.2 Kernel: 14.2-RELEASE Compiler: clang 18.1.6 To view detailed results, visit: https://lab.dpdk.org/results/dashboard/patchsets/32488/ UNH-IOL DPDK Community Lab To manage your email subscriptions, visit: https://lab.dpdk.org/results/dashboard/preferences/subscriptions/