From mboxrd@z Thu Jan 1 00:00:00 1970 Return-Path: Received: from mails.dpdk.org (mails.dpdk.org [217.70.189.124]) by inbox.dpdk.org (Postfix) with ESMTP id 643DB46191 for ; Tue, 4 Feb 2025 20:59:02 +0100 (CET) Received: from mails.dpdk.org (localhost [127.0.0.1]) by mails.dpdk.org (Postfix) with ESMTP id 5FEFB40261; Tue, 4 Feb 2025 20:59:02 +0100 (CET) Received: from mail-yw1-f225.google.com (mail-yw1-f225.google.com [209.85.128.225]) by mails.dpdk.org (Postfix) with ESMTP id 7EC924025F for ; Tue, 4 Feb 2025 20:59:00 +0100 (CET) Received: by mail-yw1-f225.google.com with SMTP id 00721157ae682-6f44113c101so55879397b3.1 for ; Tue, 04 Feb 2025 11:59:00 -0800 (PST) DKIM-Signature: v=1; a=rsa-sha256; c=relaxed/relaxed; d=iol.unh.edu; s=unh-iol; t=1738699140; x=1739303940; darn=dpdk.org; h=references:in-reply-to:cc:to:from:subject:message-id:date:from:to :cc:subject:date:message-id:reply-to; bh=ym3+EZY4BIsJkzYGPycuMd0lrtZesR0ahHYKg9k1pUM=; b=bYNlEafQ0NI5xnoufglYMwHoEbbnxWL7RocQsh3BpWYSxVEjHkanuY5SJOA2mq0yQs lUIkwTDlbsW9xX+yyK0EXHtvxlGSxD3epq4tSvOP2NO3iHnmUm2aWejDCVBTPhRFm5jv 1BvE8lyM/sUqpJyURu8Lw7toEBRouAsoIQvUY= X-Google-DKIM-Signature: v=1; a=rsa-sha256; c=relaxed/relaxed; d=1e100.net; s=20230601; t=1738699140; x=1739303940; h=references:in-reply-to:cc:to:from:subject:message-id:date :x-gm-message-state:from:to:cc:subject:date:message-id:reply-to; bh=ym3+EZY4BIsJkzYGPycuMd0lrtZesR0ahHYKg9k1pUM=; b=WBDkGM4AgdEY0Sz7WWSy4UqOZ9STP66GH93Fg36q6KC99af4dJds+Wu9Y6VUTYLNzg krlQMz2gdNDXNwfv0BZVUv91h37q8Jnv2s2VTfFHy3P272lIR/5K6QZhAvkbpA/k4EBz tCMh7uKk4Uq6Obtij2DFVvQ9BgS71PHNcVVr2lIpHl69alK0Nfslpwy96nSoMa2yMiYj GBVcYsSdZhEAJCCq3koivdo3jO49HCWNtobPYOl/y2jW+rpwvCshAvXfpCvfBH1ffoPT +u56nEUpa2gee3EjVKhkR+PwmMMF9exHsUA+kiYrCvtHtS9fXBq2wMna9Cw2i78gbmSb EFEA== X-Gm-Message-State: AOJu0Yz6LCJdIp85JEm3/0fTtuMa9803jjljyT+J6rPlaIZb57sfZxSF EMd1OVeYPzvbL8jeAbXx6/VhR8pnWkCUaBtwwy+F6xmACRC2U0o0Hv4IHde16NKauh9fs3emR0K tZCy6fozhUCukU5sWr3aOoo4fBXASYugOx/Q6aDpusqjvo39hbyRZc5Xh X-Gm-Gg: ASbGncsA4FTwau56wCwRlI5ih9ofE6srBkTF2IQ8ZXm0OGdufHVRi/Ubg7EJAEdp3RF VEEWej981mw6jgaW12b9+jrafmsiSVdzziu/dpemzCaK/mRAYz6conOw1EotSCvV/hoh6cRAi4/ ly7DKyMrhEO/GGXdNbk84hJF4CWxIiHHyTabLdt3+g9dfhQqcR+R4s0zE01+Z433+K2AeHFqIuz FeoVgLQvGb2RY7Q8Gdau5yEnEiQz8hDJNaxkejVfNQ1+5bhNQKgEzXKXQ6dxhbov0s4xyvNFX+x 1fcDrCgD8jz9j4pC7aWUQ7LDD971plELJ8c231SILw== X-Google-Smtp-Source: AGHT+IGDWruL4mIZm08jM5Q3rAEJtNwhOvlRYeXy6Cxhr94Lbzizs8G/v0RB0JjExIoRhW+IA5cTavFN6M4z X-Received: by 2002:a05:690c:6c03:b0:6f9:8845:cfbf with SMTP id 00721157ae682-6f989ee8b80mr1709517b3.22.1738699139853; Tue, 04 Feb 2025 11:58:59 -0800 (PST) Received: from postal.iol.unh.edu (postal.iol.unh.edu. [2606:4100:3880:1234::84]) by smtp-relay.gmail.com with ESMTPS id 00721157ae682-6f8c4b93eb6sm10121677b3.66.2025.02.04.11.58.59 (version=TLS1_2 cipher=ECDHE-ECDSA-AES128-GCM-SHA256 bits=128/128); Tue, 04 Feb 2025 11:58:59 -0800 (PST) X-Relaying-Domain: iol.unh.edu Date: Tue, 04 Feb 2025 11:58:59 -0800 (PST) Message-ID: <67a27183.0d0a0220.145041.3112SMTPIN_ADDED_MISSING@mx.google.com> Received: from [172.21.0.7] (unknown [172.18.0.240]) by postal.iol.unh.edu (Postfix) with ESMTP id 779EC6052471; Tue, 4 Feb 2025 14:58:59 -0500 (EST) Subject: |SUCCESS| pw150809-150808 [PATCH] [v3,2/2] stack: enable build with From: dpdklab@iol.unh.edu To: Test Report Cc: dpdk-test-reports@iol.unh.edu In-Reply-To: <1738634318-12876-3-git-send-email-andremue@linux.microsoft.com> References: <1738634318-12876-3-git-send-email-andremue@linux.microsoft.com> Content-Type: text/plain X-BeenThere: test-report@dpdk.org X-Mailman-Version: 2.1.29 Precedence: list List-Id: automatic DPDK test reports List-Unsubscribe: , List-Archive: List-Post: List-Help: List-Subscribe: , Errors-To: test-report-bounces@dpdk.org Test-Label: iol-compile-arm64-testing Test-Status: SUCCESS http://dpdk.org/patch/150808 _Testing PASS_ Submitter: Andre Muezerie Date: Tuesday, February 04 2025 01:58:38 DPDK git baseline: Repo:dpdk Branch: master CommitID:dc4ce7c2538b713e16887eb598da309bc7b4d528 150809-150808 --> testing pass Upstream job id: Generic-DPDK-Compile-Meson#357585 Test environment and result as below: +----------------------------------------+--------------------+ | Environment | dpdk_meson_compile | +========================================+====================+ | RHEL9 (ARM) | PASS | +----------------------------------------+--------------------+ | Ubuntu 20.04 ARM GCC Cross Compile | PASS | +----------------------------------------+--------------------+ | Debian 12 with MUSDK | PASS | +----------------------------------------+--------------------+ | Ubuntu 20.04 ARM SVE | PASS | +----------------------------------------+--------------------+ | Fedora 40 (ARM) | PASS | +----------------------------------------+--------------------+ | Fedora 40 (ARM Clang) | PASS | +----------------------------------------+--------------------+ | Fedora 41 (ARM) | PASS | +----------------------------------------+--------------------+ | Ubuntu 20.04 (ARM) | PASS | +----------------------------------------+--------------------+ | Fedora 41 (ARM Clang) | PASS | +----------------------------------------+--------------------+ | Ubuntu 24.04 (ARM) | PASS | +----------------------------------------+--------------------+ | CentOS Stream 9 (ARM) | PASS | +----------------------------------------+--------------------+ | Debian 12 (arm) | PASS | +----------------------------------------+--------------------+ | Debian 11 (Buster) (ARM) | PASS | +----------------------------------------+--------------------+ | Ubuntu 20.04 aarch32 GCC Cross Compile | PASS | +----------------------------------------+--------------------+ | Ubuntu 20.04 ARM Clang Cross Compile | PASS | +----------------------------------------+--------------------+ | Ubuntu 22.04 (ARM) | PASS | +----------------------------------------+--------------------+ RHEL9 (ARM) Kernel: Depends on container host Compiler: gcc 11.5.0 20240719 (Red Hat 11.5.0-2) Ubuntu 20.04 ARM GCC Cross Compile Kernel: Depends on container host Compiler: aarch64-linux-gnu-gcc (Ubuntu 9.4.0-1ubuntu1~20.04.2) 9.4.0 Debian 12 with MUSDK Kernel: Depends on container host Compiler: gcc (Debian 12.2.0-14) 12.2.0 Ubuntu 20.04 ARM SVE Kernel: Depends on container host Compiler: gcc (Ubuntu 10.5.0-1ubuntu1~20.04) 10.5.0 Fedora 40 (ARM) Kernel: Depends on container host Compiler: gcc 14.2.1 20240912 (Red Hat 14.2.1-3) Fedora 40 (ARM Clang) Kernel: Depends on container host Compiler: clang 18.1.8 (Fedora 18.1.8-1.fc40) Fedora 41 (ARM) Kernel: Depends on container host Compiler: gcc 14.2.1 20240912 (Red Hat 14.2.1-3) Ubuntu 20.04 (ARM) Kernel: Depends on container host Compiler: gcc (Ubuntu 9.4.0-1ubuntu1~20.04.2) 9.4.0 Fedora 41 (ARM Clang) Kernel: Depends on container host Compiler: clang 19.1.5 (Fedora 19.1.5-1.fc41) Ubuntu 24.04 (ARM) Kernel: Depends on container host Compiler: gcc (Ubuntu 13.3.0-6ubuntu2~24.04) 13.3.0 CentOS Stream 9 (ARM) Kernel: Depends on container host Compiler: gcc 11.5.0 20240719 (Red Hat 11.5.0-2) Debian 12 (arm) Kernel: Depends on container host Compiler: gcc (Debian 12.2.0-14) 12.2.0 Debian 11 (Buster) (ARM) Kernel: Depends on container host Compiler: gcc (Debian 10.2.1-6) 10.2.1 20210110 Ubuntu 20.04 aarch32 GCC Cross Compile Kernel: Depends on container host Compiler: gcc 9.4.0 Ubuntu 20.04 ARM Clang Cross Compile Kernel: Depends on container host Compiler: clang 10.0.0-4ubuntu1 Ubuntu 22.04 (ARM) Kernel: Depends on container host Compiler: gcc (Ubuntu 11.4.0-1ubuntu1~22.04) 11.4.0 To view detailed results, visit: https://lab.dpdk.org/results/dashboard/patchsets/32485/ UNH-IOL DPDK Community Lab To manage your email subscriptions, visit: https://lab.dpdk.org/results/dashboard/preferences/subscriptions/