From mboxrd@z Thu Jan 1 00:00:00 1970 Return-Path: Received: from mails.dpdk.org (mails.dpdk.org [217.70.189.124]) by inbox.dpdk.org (Postfix) with ESMTP id C7D8F46191 for ; Tue, 4 Feb 2025 21:23:05 +0100 (CET) Received: from mails.dpdk.org (localhost [127.0.0.1]) by mails.dpdk.org (Postfix) with ESMTP id C50A740261; Tue, 4 Feb 2025 21:23:05 +0100 (CET) Received: from mail-oa1-f99.google.com (mail-oa1-f99.google.com [209.85.160.99]) by mails.dpdk.org (Postfix) with ESMTP id 5C0FD4025F for ; Tue, 4 Feb 2025 21:23:05 +0100 (CET) Received: by mail-oa1-f99.google.com with SMTP id 586e51a60fabf-29ff039dab2so2982918fac.3 for ; Tue, 04 Feb 2025 12:23:05 -0800 (PST) DKIM-Signature: v=1; a=rsa-sha256; c=relaxed/relaxed; d=iol.unh.edu; s=unh-iol; t=1738700584; x=1739305384; darn=dpdk.org; h=references:in-reply-to:cc:to:from:subject:message-id:date:from:to :cc:subject:date:message-id:reply-to; bh=W4xKLMWXq79hpknXq003tUXMZFeJDB32Fyzw0mot8OE=; b=HNjkPAdgXlNzs8isqa7YnlMSQMcAO6uytvPqQmudg2v6NXpbqzZC748rh0UWZUUP3K 6vsQQrl4/Wicz4uoX52jvQKAt/ScpaNxedMY0PNL7eGj82K5efxi1zomQNPHt94qhDYy kPAiaaf/BOxgH84Q4+Jvn2NfKPlF8shNBDvb8= X-Google-DKIM-Signature: v=1; a=rsa-sha256; c=relaxed/relaxed; d=1e100.net; s=20230601; t=1738700584; x=1739305384; h=references:in-reply-to:cc:to:from:subject:message-id:date :x-gm-message-state:from:to:cc:subject:date:message-id:reply-to; bh=W4xKLMWXq79hpknXq003tUXMZFeJDB32Fyzw0mot8OE=; b=fWxC7tOdSZDzD9U2pzuiJoiRO6SoS4xB0tU9ljpurbntQpmySf5YrLmwn6VKpe8aZM IawbXz1v87GV54p5j9YcLDZz5pxnMQG58U5BFtkCJmBQWe/+CoeRcDaqZDeIyOYkkq0t ykCFAlJtrPa9JDBs0IaitHBKFR9xFGDUVgJyuDI3ATy3sAtGNQWtn7yFTWrxRc8iWWes nawfzf+4xKTNx2RWNHI6l+cqTkqTcgN/tzpWQgk0vn8bfCpOIBN/uOg1SymXV2kI08Ww AKlIIEZrk6QEnuLL3TksNPwh311pJ6K+nJ2U9dFOL4C0+kZirbmTPXTQN1MYYG/VM5tF llWQ== X-Gm-Message-State: AOJu0YwqDmDu8vXlvKMu4UrQEE5MZgocfamczWi/5+sp3hTZT/AooVHG rhd4iPCJ2XUb7XB8AN5JckFBAGJVM/nWcNq8FleHj2BsfK6wqW+SHPd0lY55sbEYSm21zd+q7CX 8qqtKpuK9mTy1tP3xpm/dLw+h2HbOWQIVLdiqp3Bt X-Gm-Gg: ASbGnct4IGSVlrxfmBqXnw6oOP4bXLoN4B0ijeXCAXtSJTc5rvJHWznhii3EEGD1Ryc hmTu3pVRPVmy0K5LE3woxpstV6FGh1istj7Jk4KYWbU/qZUXemxVjbppvoMYDwr01G4vK40jwAj uLOJ0TGBzwPEpFTBJz4hcesEtemwTaZUy/t3NT8An1nM2qPn5gUGMbo+X3AmMCXl4LbAbZolFVY NVOBeAqARUD2LpWfdUu5J8LZ9+E5JlCnJwEie5LMZyzF5L/DmFYDHrtHm/jrDJA3RG6luaFmaGM K+nXyjoG9a/T46t51hOyIAgLbsXriw== X-Google-Smtp-Source: AGHT+IGbHSjSAxoroOw2t5UBH1gWpMniUggY6Qxuc2dYzLfjji8WfXAJlVLC4zlcdy9+y9ZFjSKkqC+pX3BZ X-Received: by 2002:a05:6871:c3c3:b0:29e:3921:b1ea with SMTP id 586e51a60fabf-2b80514453emr179812fac.30.1738700584277; Tue, 04 Feb 2025 12:23:04 -0800 (PST) Received: from postal.iol.unh.edu (postal.iol.unh.edu. [132.177.123.84]) by smtp-relay.gmail.com with ESMTPS id 586e51a60fabf-2b3562ee8e3sm869855fac.23.2025.02.04.12.23.04 (version=TLS1_2 cipher=ECDHE-ECDSA-AES128-GCM-SHA256 bits=128/128); Tue, 04 Feb 2025 12:23:04 -0800 (PST) X-Relaying-Domain: iol.unh.edu Date: Tue, 04 Feb 2025 12:23:04 -0800 (PST) Message-ID: <67a27728.050a0220.1b7535.46b8SMTPIN_ADDED_MISSING@mx.google.com> Received: from [172.21.0.7] (unknown [172.18.0.240]) by postal.iol.unh.edu (Postfix) with ESMTP id 93B906052471; Tue, 4 Feb 2025 15:23:03 -0500 (EST) Subject: |SUCCESS| pw150895-150900 [PATCH] [v4,7/7] mldev: eliminate dependen From: dpdklab@iol.unh.edu To: Test Report Cc: dpdk-test-reports@iol.unh.edu In-Reply-To: <1738695271-29948-8-git-send-email-andremue@linux.microsoft.com> References: <1738695271-29948-8-git-send-email-andremue@linux.microsoft.com> Content-Type: text/plain X-BeenThere: test-report@dpdk.org X-Mailman-Version: 2.1.29 Precedence: list List-Id: automatic DPDK test reports List-Unsubscribe: , List-Archive: List-Post: List-Help: List-Subscribe: , Errors-To: test-report-bounces@dpdk.org Test-Label: iol-compile-amd64-testing Test-Status: SUCCESS http://dpdk.org/patch/150900 _Testing PASS_ Submitter: Andre Muezerie Date: Tuesday, February 04 2025 18:54:31 DPDK git baseline: Repo:dpdk Branch: master CommitID:dc4ce7c2538b713e16887eb598da309bc7b4d528 150895-150900 --> testing pass Upstream job id: Generic-VM-DPDK-Compile-Meson#33034 Test environment and result as below: +---------------------+-------------------+--------------------+ | Environment | dpdk_msvc_compile | dpdk_meson_compile | +=====================+===================+====================+ | Windows Server 2022 | PASS | SKIPPED | +---------------------+-------------------+--------------------+ | FreeBSD 13.4 | SKIPPED | PASS | +---------------------+-------------------+--------------------+ | FreeBSD 14.2 | SKIPPED | PASS | +---------------------+-------------------+--------------------+ Windows Server 2022 Kernel: 10.0.20348.2031 Compiler: clang 15.0.7, gcc 14.1.0 (MinGW), and MSVC VS 19.39.33521 FreeBSD 13.4 Kernel: 13.4-RELEASE-p1 Compiler: clang 18.1.6 FreeBSD 14.2 Kernel: 14.2-RELEASE Compiler: clang 18.1.6 To view detailed results, visit: https://lab.dpdk.org/results/dashboard/patchsets/32492/ UNH-IOL DPDK Community Lab To manage your email subscriptions, visit: https://lab.dpdk.org/results/dashboard/preferences/subscriptions/