From mboxrd@z Thu Jan  1 00:00:00 1970
Return-Path: <test-report-bounces@dpdk.org>
Received: from mails.dpdk.org (mails.dpdk.org [217.70.189.124])
	by inbox.dpdk.org (Postfix) with ESMTP id 0DB9D46191
	for <public@inbox.dpdk.org>; Tue,  4 Feb 2025 21:24:43 +0100 (CET)
Received: from mails.dpdk.org (localhost [127.0.0.1])
	by mails.dpdk.org (Postfix) with ESMTP id 0808140261;
	Tue,  4 Feb 2025 21:24:43 +0100 (CET)
Received: from mail-io1-f99.google.com (mail-io1-f99.google.com
 [209.85.166.99]) by mails.dpdk.org (Postfix) with ESMTP id 7D4E54025F
 for <test-report@dpdk.org>; Tue,  4 Feb 2025 21:24:42 +0100 (CET)
Received: by mail-io1-f99.google.com with SMTP id
 ca18e2360f4ac-8521df70be6so140625839f.1
 for <test-report@dpdk.org>; Tue, 04 Feb 2025 12:24:42 -0800 (PST)
DKIM-Signature: v=1; a=rsa-sha256; c=relaxed/relaxed;
 d=iol.unh.edu; s=unh-iol; t=1738700681; x=1739305481; darn=dpdk.org;
 h=references:in-reply-to:cc:to:from:subject:message-id:date:from:to
 :cc:subject:date:message-id:reply-to;
 bh=uSc9+6RMz6rMmhma/Z7UNhGJRHE1TNEvKVS05EZcDkY=;
 b=AXWlr7E1/FWWETL1vg8AiTxChXGUIPA2EAet+X45mxDlaiCi+o8s4q51qzqLpxxgCR
 9lPIKcX40Azc5KhGqofuZPr2gjzQPeaJa6WcZgvkRrHxbUeYov3fWmDlutP/lsiEW8lt
 nml0js/PNXugzzZjA/GUHy68dOHkdBD1VNkVc=
X-Google-DKIM-Signature: v=1; a=rsa-sha256; c=relaxed/relaxed;
 d=1e100.net; s=20230601; t=1738700681; x=1739305481;
 h=references:in-reply-to:cc:to:from:subject:message-id:date
 :x-gm-message-state:from:to:cc:subject:date:message-id:reply-to;
 bh=uSc9+6RMz6rMmhma/Z7UNhGJRHE1TNEvKVS05EZcDkY=;
 b=rxxK+bJTHZSOY2nEQtvxTxHTXadNQ5D9y1YWp7EIFrk61S046ddM60gE/B89Av5Ef9
 7fraYuDcjlO6TOjEa0l0psFBCtmzBaPO4LNYQgooXqEoBAKfaf+UqpldrEpcBMMU0rSX
 BH1m2+IQOsbLWyAPawYGqPfLWZxFcdgj4/JfNsj58MGLxs7swXaEb5liqDc2vHNqlCUa
 CtcrvOMPyq7E94WJARqCdIkpSx0CzUMwUq/z2esgSemjY2jpkfbCXkrmpOzjdFIM9tLt
 bm+hqPCgJ9Wgc/t9oUxtyo603DiTx3H/QViieOTgZql5pUb20/Ji5ldEQ+7+kAdjLMRQ
 lFvA==
X-Gm-Message-State: AOJu0YyVH19eR+cC4Cw301Idz5Yea54WTb024zpl8p8tAyzgpkY4qIrB
 HyscWwkv/QuQBEU69jNNvUlUu0pdi6G9+UYZxS0pdgbPXNXmsRAddxr7sxkIxCS2MnfYr538caG
 +uHFkfem6pd5TSPM1o2lBHN+p7O9m+1RtErqYLEkAgdQr80PSVZXup+4F
X-Gm-Gg: ASbGncujbFz3Fco73Fc/3imzzaIHQbRj4X+hlK1WQqpJxK9whGwhFeUQERPXA7gctmm
 /rkWtx/vo87M5dh38Z3ZQz1g1GEgwn7NKTctNr3blRgG54YcyFvNa/TddsOauBkWMnOCNoHSOKz
 2JvDLEmPeZ0ud/xvHa5MJMKe68sIusENarJ7UO+xlCGmJB740pVAij35yvJwFicNX2M57LI6u2a
 2zanYIKs91kmbyXb0Cx8yYHvuXRHA1voIX3/Dc+gYi+1AW4NWjFuzo9OyMoFwZ/eXnK3IkhxCAY
 Ag/rlSoxho3mSETTXxg1ZEFTK1bglqlEdltTy9EHdg==
X-Google-Smtp-Source: AGHT+IHHmbHwYzxrAcGSmrZfLKEHk4bAvJkRQCnxBieL2VdTRQaHEcynw7zpIUjzsc7r80aegGWCXmttMb98
X-Received: by 2002:a05:6602:3a17:b0:847:51e2:eb0 with SMTP id
 ca18e2360f4ac-854ea53b85amr39493339f.12.1738700681580; 
 Tue, 04 Feb 2025 12:24:41 -0800 (PST)
Received: from postal.iol.unh.edu (postal.iol.unh.edu.
 [2606:4100:3880:1234::84]) by smtp-relay.gmail.com with ESMTPS id
 ca18e2360f4ac-854a15f8c25sm73960839f.12.2025.02.04.12.24.41
 (version=TLS1_2 cipher=ECDHE-ECDSA-AES128-GCM-SHA256 bits=128/128);
 Tue, 04 Feb 2025 12:24:41 -0800 (PST)
X-Relaying-Domain: iol.unh.edu
Date: Tue, 04 Feb 2025 12:24:41 -0800 (PST)
Message-ID: <67a27789.050a0220.169285.3111SMTPIN_ADDED_MISSING@mx.google.com>
Received: from [172.21.0.8] (unknown [172.18.0.240])
 by postal.iol.unh.edu (Postfix) with ESMTP id E252E6052471;
 Tue,  4 Feb 2025 15:24:40 -0500 (EST)
Subject: |SUCCESS| pw150895-150900 [PATCH] [v4,7/7] mldev: eliminate dependen
From: dpdklab@iol.unh.edu
To: Test Report <test-report@dpdk.org>
Cc: dpdk-test-reports@iol.unh.edu
In-Reply-To: <1738695271-29948-8-git-send-email-andremue@linux.microsoft.com>
References: <1738695271-29948-8-git-send-email-andremue@linux.microsoft.com>
Content-Type: text/plain
X-BeenThere: test-report@dpdk.org
X-Mailman-Version: 2.1.29
Precedence: list
List-Id: automatic DPDK test reports <test-report.dpdk.org>
List-Unsubscribe: <https://mails.dpdk.org/options/test-report>,
 <mailto:test-report-request@dpdk.org?subject=unsubscribe>
List-Archive: <http://mails.dpdk.org/archives/test-report/>
List-Post: <mailto:test-report@dpdk.org>
List-Help: <mailto:test-report-request@dpdk.org?subject=help>
List-Subscribe: <https://mails.dpdk.org/listinfo/test-report>,
 <mailto:test-report-request@dpdk.org?subject=subscribe>
Errors-To: test-report-bounces@dpdk.org

Test-Label: iol-compile-amd64-testing
Test-Status: SUCCESS
http://dpdk.org/patch/150900

_Testing PASS_

Submitter: Andre Muezerie <andremue@linux.microsoft.com>
Date: Tuesday, February 04 2025 18:54:31 
DPDK git baseline: Repo:dpdk
  Branch: master
  CommitID:dc4ce7c2538b713e16887eb598da309bc7b4d528

150895-150900 --> testing pass

Upstream job id: Generic-VM-DPDK-Compile-Meson#33033

Test environment and result as below:

+---------------------+-------------------+--------------------+
|     Environment     | dpdk_msvc_compile | dpdk_meson_compile |
+=====================+===================+====================+
| Windows Server 2022 | PASS              | SKIPPED            |
+---------------------+-------------------+--------------------+
| FreeBSD 13.4        | SKIPPED           | PASS               |
+---------------------+-------------------+--------------------+
| FreeBSD 14.2        | SKIPPED           | PASS               |
+---------------------+-------------------+--------------------+


Windows Server 2022
	Kernel: 10.0.20348.2031
	Compiler: clang 15.0.7, gcc 14.1.0 (MinGW), and MSVC VS 19.39.33521

FreeBSD 13.4
	Kernel: 13.4-RELEASE-p1
	Compiler: clang 18.1.6

FreeBSD 14.2
	Kernel: 14.2-RELEASE
	Compiler: clang 18.1.6

To view detailed results, visit:
https://lab.dpdk.org/results/dashboard/patchsets/32492/

UNH-IOL DPDK Community Lab

To manage your email subscriptions, visit: 
https://lab.dpdk.org/results/dashboard/preferences/subscriptions/