From mboxrd@z Thu Jan 1 00:00:00 1970 Return-Path: Received: from mails.dpdk.org (mails.dpdk.org [217.70.189.124]) by inbox.dpdk.org (Postfix) with ESMTP id 3E8B446191 for ; Tue, 4 Feb 2025 21:25:39 +0100 (CET) Received: from mails.dpdk.org (localhost [127.0.0.1]) by mails.dpdk.org (Postfix) with ESMTP id 2D82340261; Tue, 4 Feb 2025 21:25:39 +0100 (CET) Received: from mail-qt1-f226.google.com (mail-qt1-f226.google.com [209.85.160.226]) by mails.dpdk.org (Postfix) with ESMTP id CF2474025F for ; Tue, 4 Feb 2025 21:25:37 +0100 (CET) Received: by mail-qt1-f226.google.com with SMTP id d75a77b69052e-4679eacf25cso39769291cf.3 for ; Tue, 04 Feb 2025 12:25:37 -0800 (PST) DKIM-Signature: v=1; a=rsa-sha256; c=relaxed/relaxed; d=iol.unh.edu; s=unh-iol; t=1738700737; x=1739305537; darn=dpdk.org; h=references:in-reply-to:cc:to:from:subject:message-id:date:from:to :cc:subject:date:message-id:reply-to; bh=l+C1alvdtg0yakVbRzYpq2/m+pf3Uhd5wOoQtLxpazs=; b=OrYu/tB3h9TP0rf4IZBT+gcj+iU9L47U7oKGl/27gXovgMlb03R7VpAHG6i/5PFqYn BGMMPIsn5rpZnRjGKoe2m1laTHj1ppEB9f5gVu7wnL4k0GRjx85j/GDI7RfDlcGXwU7D D24hM5h4ykwi9CpfgGezrSCPx+CRUcpfmY7G0= X-Google-DKIM-Signature: v=1; a=rsa-sha256; c=relaxed/relaxed; d=1e100.net; s=20230601; t=1738700737; x=1739305537; h=references:in-reply-to:cc:to:from:subject:message-id:date :x-gm-message-state:from:to:cc:subject:date:message-id:reply-to; bh=l+C1alvdtg0yakVbRzYpq2/m+pf3Uhd5wOoQtLxpazs=; b=ZAyr9uSAywFocVW/y+Dkwqr07tiNXIy9KpELHYSsaKgI2yduokQRfusjVGQLKHLXlC JsMkZ6XxEFovG29QpNUm25aAKhwGnRVZ+XArWCO5x1gjeUBLftndNJvB9z9ip3755iOA rsiecls2FuvH+JvLAZvpdChk6qKYZRq2rKU6+iWrjbGJgv2TRjD35mzMGLI1xNs5gA2J ea/vnOWe3Lg+UbQ1Z1WBHMxI/SwmYgcsG3vu2kZKa8uXN/fZ7zIDXt7wRZ8WSSp3M/vT XvFTEo0O6z/iR207d5y0oILtQ7Fp2AcbAhk0hF2Nx5D4pG48+Y7MwFDPYG4qnDeYBwDD 1KJw== X-Gm-Message-State: AOJu0Yzh//bZYxmRtxULGYSAJZKvhhIiAP56q0Is87LpS/6PqODQfZU8 orYic19lUdVoAIT/yvEUZsRnVPQqtPCyGYXxCfhHdQ1w6GhnidrZAI3pqkeTpDv1MvQ29tnzzc2 EpW6Uc/M2napxN3G0n+D4/hs5yZZC4Khgw8oepdgE X-Gm-Gg: ASbGnctso4mB8DCtvreURULalr5lhnDIfTdkmMc8nC/6VrO8tXiIhga3p3bleX2TUbv XDee4SR80OzOsxnW+9pd4M+ZXRCfIF28M76Bwv9Q7SutESnA8L89T0l3lSkWurQdC1zRy05+5Z4 O3rO1HT9r19Qd8vJxQP9uklzYacEMs7vq4ae9IDizzJMnsPadl1dfHojYxUU5xU0MvbwW+UGBrr pMTe4w2iOLMAUiLwLV08KRVFr+9NDrN/fYlP7MglCUwB2K6yWLsLmNNyVSknQzP9QeR6WL/VVAN z3LnY7PRBXNlpmSUSRSsqxKbibTVjw== X-Google-Smtp-Source: AGHT+IFge3DeurOLpsvNOMTDU+E6mfBqchBrDONDz6NScCtXUmBeHbJF9Mu+AbSbxq7mOaV2j0MWIla50LpR X-Received: by 2002:a05:622a:4a07:b0:463:6bc4:2a23 with SMTP id d75a77b69052e-47027ff316dmr1185571cf.0.1738700737243; Tue, 04 Feb 2025 12:25:37 -0800 (PST) Received: from postal.iol.unh.edu (postal.iol.unh.edu. [132.177.123.84]) by smtp-relay.gmail.com with ESMTPS id d75a77b69052e-46fdf1779bfsm3471881cf.24.2025.02.04.12.25.37 (version=TLS1_2 cipher=ECDHE-ECDSA-AES128-GCM-SHA256 bits=128/128); Tue, 04 Feb 2025 12:25:37 -0800 (PST) X-Relaying-Domain: iol.unh.edu Date: Tue, 04 Feb 2025 12:25:37 -0800 (PST) Message-ID: <67a277c1.050a0220.270b67.12b8SMTPIN_ADDED_MISSING@mx.google.com> Received: from [172.21.0.5] (unknown [172.18.0.240]) by postal.iol.unh.edu (Postfix) with ESMTP id B32C46052471; Tue, 4 Feb 2025 15:25:36 -0500 (EST) Subject: |SUCCESS| pw150868-150889 [PATCH] [v20,27/27] config: add -Wvla proj From: dpdklab@iol.unh.edu To: Test Report Cc: dpdk-test-reports@iol.unh.edu In-Reply-To: <1738686124-16173-28-git-send-email-andremue@linux.microsoft.com> References: <1738686124-16173-28-git-send-email-andremue@linux.microsoft.com> Content-Type: text/plain X-BeenThere: test-report@dpdk.org X-Mailman-Version: 2.1.29 Precedence: list List-Id: automatic DPDK test reports List-Unsubscribe: , List-Archive: List-Post: List-Help: List-Subscribe: , Errors-To: test-report-bounces@dpdk.org Test-Label: iol-unit-amd64-testing Test-Status: SUCCESS http://dpdk.org/patch/150889 _Testing PASS_ Submitter: Andre Muezerie Date: Tuesday, February 04 2025 16:22:04 DPDK git baseline: Repo:dpdk Branch: master CommitID:dc4ce7c2538b713e16887eb598da309bc7b4d528 150868-150889 --> testing pass Upstream job id: Generic-Unit-Test-DPDK#311507 Test environment and result as below: +---------------------+----------------+ | Environment | dpdk_unit_test | +=====================+================+ | Fedora 40 | PASS | +---------------------+----------------+ | Debian 12 | PASS | +---------------------+----------------+ | Debian Bullseye | PASS | +---------------------+----------------+ | CentOS Stream 9 | PASS | +---------------------+----------------+ | Fedora 41 | PASS | +---------------------+----------------+ | RHEL8 | PASS | +---------------------+----------------+ | Fedora 41 (Clang) | PASS | +---------------------+----------------+ | Fedora 40 (Clang) | PASS | +---------------------+----------------+ | RHEL9 | PASS | +---------------------+----------------+ | Ubuntu 22.04 | PASS | +---------------------+----------------+ | Ubuntu 24.04 | PASS | +---------------------+----------------+ | Ubuntu 20.04 | PASS | +---------------------+----------------+ | Windows Server 2022 | PASS | +---------------------+----------------+ Fedora 40 Kernel: Depends on container host Compiler: gcc 14.2.1 20240912 (Red Hat 14.2.1-3) Debian 12 Kernel: Depends on container host Compiler: gcc (Debian 12.2.0-14) 12.2.0 Debian Bullseye Kernel: Depends on container host Compiler: gcc (Debian 10.2.1-6) 10.2.1 20210110 CentOS Stream 9 Kernel: Depends on container host Compiler: gcc 11.5.0 20240719 (Red Hat 11.5.0-2) Fedora 41 Kernel: Depends on container host Compiler: gcc 14.2.1 20240912 (Red Hat 14.2.1-3) RHEL8 Kernel: Depends on container host Compiler: gcc 8.5.0 20210514 (Red Hat 8.5.0-22) Fedora 41 (Clang) Kernel: Depends on container host Compiler: clang 19.1.5 (Fedora 19.1.5-1.fc41) Fedora 40 (Clang) Kernel: Depends on container host Compiler: clang 18.1.8 (Fedora 18.1.8-1.fc40) RHEL9 Kernel: Depends on container host Compiler: gcc 11.5.0 20240719 (Red Hat 11.5.0-2) Ubuntu 22.04 Kernel: Depends on container host Compiler: gcc (Ubuntu 11.4.0-1ubuntu1~22.04) 11.4.0 Ubuntu 24.04 Kernel: Depends on container host Compiler: gcc (Ubuntu 13.3.0-6ubuntu2~24.04) 13.3.0 Ubuntu 20.04 Kernel: Depends on container host Compiler: gcc (Ubuntu 9.4.0-1ubuntu1~20.04.2) 9.4.0 Windows Server 2022 Kernel: 10.0.20348.2031 Compiler: clang 15.0.7, gcc 14.1.0 (MinGW), and MSVC VS 19.39.33521 To view detailed results, visit: https://lab.dpdk.org/results/dashboard/patchsets/32489/ UNH-IOL DPDK Community Lab To manage your email subscriptions, visit: https://lab.dpdk.org/results/dashboard/preferences/subscriptions/