From mboxrd@z Thu Jan 1 00:00:00 1970 Return-Path: Received: from mails.dpdk.org (mails.dpdk.org [217.70.189.124]) by inbox.dpdk.org (Postfix) with ESMTP id 661AA46191 for ; Tue, 4 Feb 2025 21:26:52 +0100 (CET) Received: from mails.dpdk.org (localhost [127.0.0.1]) by mails.dpdk.org (Postfix) with ESMTP id 618EE40261; Tue, 4 Feb 2025 21:26:52 +0100 (CET) Received: from mail-oa1-f99.google.com (mail-oa1-f99.google.com [209.85.160.99]) by mails.dpdk.org (Postfix) with ESMTP id D8BCD4025F for ; Tue, 4 Feb 2025 21:26:50 +0100 (CET) Received: by mail-oa1-f99.google.com with SMTP id 586e51a60fabf-2a8690dcb35so1934133fac.3 for ; Tue, 04 Feb 2025 12:26:50 -0800 (PST) DKIM-Signature: v=1; a=rsa-sha256; c=relaxed/relaxed; d=iol.unh.edu; s=unh-iol; t=1738700810; x=1739305610; darn=dpdk.org; h=references:in-reply-to:cc:to:from:subject:message-id:date:from:to :cc:subject:date:message-id:reply-to; bh=QV9BkS3YD756JuoZkuSwZyliGUgtSmJUk8kBNAcIz9U=; b=jYNhO9dInLOcQufq0CSPsV5S+58QcaJkjJlUZHRc8i6si76rXa8QnPDw1UbWDYvL0/ 53vkFwWOxY+IqmSM4Tam7EwEEsfSfkmrgQS44bUa+kR9K1WJ2XIL6If28VwatNSIMXyQ TU9qKqhO4NFOHGRyk9fBNO5YElHwmDQ28AksU= X-Google-DKIM-Signature: v=1; a=rsa-sha256; c=relaxed/relaxed; d=1e100.net; s=20230601; t=1738700810; x=1739305610; h=references:in-reply-to:cc:to:from:subject:message-id:date :x-gm-message-state:from:to:cc:subject:date:message-id:reply-to; bh=QV9BkS3YD756JuoZkuSwZyliGUgtSmJUk8kBNAcIz9U=; b=JQE0/FGcuEb94OSADGbmKJftaDAIbCLL6WzD8KOfk7T1rZDsHSW2Ep7pBoKdiRJHC4 DcTAKIfT7f4Un1VvZd6gTRg4XbcJWcWWxBKW/ZdyEv0dKz7hSRP+Le4y5Z2anVhEO41f vP+x/1kM7XWugvjZbsCEi7Y2zHT4Z3Ro3GzDDmJo3OFaZpRruZ6Zm2I0co9GeOBXkNGb ZXcQdxt1mVpGYYBOgRpfnk9TZtuTm/VdiRJzoADYE+B0rjh8hAeb4XFgo/xxnQqTjyPO ImOwwdGHXlU9BkJaOPKAV/Z1YywNs/1ixojUutNDfflnBA8mU7VoY6j+EV9yNSYfi3iT /PgA== X-Gm-Message-State: AOJu0Yy5XsjuvkAHY7vVEJOpaC+9z3jwaSmBZkuAVg+En6qNrCczAmqb ff1xMqwTFIAqjMnyLfCUh03VfzINne/OHyEImZjuMYeSkeCKAxmb5QsSbOij24BLgFG2XcnhMnE pgkZbVD6Bff6SQxti307IT2LTq22lVZMTzClk8pk9sFf9DSFEVI5XygzR X-Gm-Gg: ASbGncuU+mPj5/tUmr9JgUkRE2RtqijlomXQv7XlHWj4bWZZiBPfPs7Ll53O+vr6/Nz OjXydwUkLfW43NVGtp8O6EZ5KtoszxIGgxI2zb9BdjRcFzvX5V9cpO1pj9z/Q36YkYOEzeGkxQV 7IHFh2iBQwf7/fY2xCg27Khkk6ksvFHCS0SZNBVgCOLxLjTBlFphLUFWJwUGTXKUfOmesaePiGF kU0pLNZ1JAw7rQVfNja/jG52F8BqDiTa79xDbIL/fTb94zjT95La5T9tUYFz34wNVpn2nxIlXko I2i0hQuZ0poUthQFndd+7VJ71j4p367RSXIc87q48Q== X-Google-Smtp-Source: AGHT+IHD0i8AM6O7gPWxl1stGI+r5OhqlctN8ChmYx9xwBlZ3bFa5/N3O66VZhR2A+D13fyQomTvMpNhfTX7 X-Received: by 2002:a05:6870:5589:b0:29d:c870:74 with SMTP id 586e51a60fabf-2b80512c3afmr196216fac.27.1738700810194; Tue, 04 Feb 2025 12:26:50 -0800 (PST) Received: from postal.iol.unh.edu (postal.iol.unh.edu. [2606:4100:3880:1234::84]) by smtp-relay.gmail.com with ESMTPS id 586e51a60fabf-2b356649beesm846639fac.35.2025.02.04.12.26.50 (version=TLS1_2 cipher=ECDHE-ECDSA-AES128-GCM-SHA256 bits=128/128); Tue, 04 Feb 2025 12:26:50 -0800 (PST) X-Relaying-Domain: iol.unh.edu Date: Tue, 04 Feb 2025 12:26:50 -0800 (PST) Message-ID: <67a2780a.050a0220.1b226b.877cSMTPIN_ADDED_MISSING@mx.google.com> Received: from [172.21.0.6] (unknown [172.18.0.240]) by postal.iol.unh.edu (Postfix) with ESMTP id AA8366052471; Tue, 4 Feb 2025 15:26:49 -0500 (EST) Subject: |SUCCESS| pw150868-150889 [PATCH] [v20,27/27] config: add -Wvla proj From: dpdklab@iol.unh.edu To: Test Report Cc: dpdk-test-reports@iol.unh.edu In-Reply-To: <1738686124-16173-28-git-send-email-andremue@linux.microsoft.com> References: <1738686124-16173-28-git-send-email-andremue@linux.microsoft.com> Content-Type: text/plain X-BeenThere: test-report@dpdk.org X-Mailman-Version: 2.1.29 Precedence: list List-Id: automatic DPDK test reports List-Unsubscribe: , List-Archive: List-Post: List-Help: List-Subscribe: , Errors-To: test-report-bounces@dpdk.org Test-Label: iol-abi-testing Test-Status: SUCCESS http://dpdk.org/patch/150889 _Testing PASS_ Submitter: Andre Muezerie Date: Tuesday, February 04 2025 16:22:04 DPDK git baseline: Repo:dpdk Branch: master CommitID:dc4ce7c2538b713e16887eb598da309bc7b4d528 150868-150889 --> testing pass Upstream job id: Generic-DPDK-Compile-ABI#114711 Test environment and result as below: +-------------------+----------+ | Environment | abi_test | +===================+==========+ | CentOS Stream 9 | PASS | +-------------------+----------+ | Debian Bullseye | PASS | +-------------------+----------+ | Fedora 40 (Clang) | PASS | +-------------------+----------+ | Fedora 41 (Clang) | PASS | +-------------------+----------+ | Fedora 41 | PASS | +-------------------+----------+ | Debian 12 | PASS | +-------------------+----------+ | openSUSE Leap 15 | PASS | +-------------------+----------+ | Ubuntu 24.04 | PASS | +-------------------+----------+ | RHEL9 | PASS | +-------------------+----------+ | RHEL8 | PASS | +-------------------+----------+ | Ubuntu 22.04 | PASS | +-------------------+----------+ | Fedora 40 | PASS | +-------------------+----------+ CentOS Stream 9 Kernel: Depends on container host Compiler: gcc 11.5.0 20240719 (Red Hat 11.5.0-2) Debian Bullseye Kernel: Depends on container host Compiler: gcc (Debian 10.2.1-6) 10.2.1 20210110 Fedora 40 (Clang) Kernel: Depends on container host Compiler: clang 18.1.8 (Fedora 18.1.8-1.fc40) Fedora 41 (Clang) Kernel: Depends on container host Compiler: clang 19.1.5 (Fedora 19.1.5-1.fc41) Fedora 41 Kernel: Depends on container host Compiler: gcc 14.2.1 20240912 (Red Hat 14.2.1-3) Debian 12 Kernel: Depends on container host Compiler: gcc (Debian 12.2.0-14) 12.2.0 openSUSE Leap 15 Kernel: Depends on container host Compiler: gcc (SUSE Linux) 7.5.0 Ubuntu 24.04 Kernel: Depends on container host Compiler: gcc (Ubuntu 13.3.0-6ubuntu2~24.04) 13.3.0 RHEL9 Kernel: Depends on container host Compiler: gcc 11.5.0 20240719 (Red Hat 11.5.0-2) RHEL8 Kernel: Depends on container host Compiler: gcc 8.5.0 20210514 (Red Hat 8.5.0-22) Ubuntu 22.04 Kernel: Depends on container host Compiler: gcc (Ubuntu 11.4.0-1ubuntu1~22.04) 11.4.0 Fedora 40 Kernel: Depends on container host Compiler: gcc 14.2.1 20240912 (Red Hat 14.2.1-3) To view detailed results, visit: https://lab.dpdk.org/results/dashboard/patchsets/32489/ UNH-IOL DPDK Community Lab To manage your email subscriptions, visit: https://lab.dpdk.org/results/dashboard/preferences/subscriptions/