From mboxrd@z Thu Jan 1 00:00:00 1970 Return-Path: Received: from mails.dpdk.org (mails.dpdk.org [217.70.189.124]) by inbox.dpdk.org (Postfix) with ESMTP id 085A046192 for ; Tue, 4 Feb 2025 22:08:18 +0100 (CET) Received: from mails.dpdk.org (localhost [127.0.0.1]) by mails.dpdk.org (Postfix) with ESMTP id CC88640265; Tue, 4 Feb 2025 22:08:17 +0100 (CET) Received: from mail-pj1-f97.google.com (mail-pj1-f97.google.com [209.85.216.97]) by mails.dpdk.org (Postfix) with ESMTP id 7881A40261 for ; Tue, 4 Feb 2025 22:08:16 +0100 (CET) Received: by mail-pj1-f97.google.com with SMTP id 98e67ed59e1d1-2ef72924e53so10601767a91.3 for ; Tue, 04 Feb 2025 13:08:16 -0800 (PST) DKIM-Signature: v=1; a=rsa-sha256; c=relaxed/relaxed; d=iol.unh.edu; s=unh-iol; t=1738703295; x=1739308095; darn=dpdk.org; h=references:in-reply-to:cc:to:from:subject:message-id:date:from:to :cc:subject:date:message-id:reply-to; bh=mCOormgQE8hBeqJeLWURcqAwiLYvEYgU2CeeSPr+eUc=; b=JIhv31SW3DEu/OIZg+vWBIeazwkLJL8JbZPdr25cxzB2RCKjMic4gs5txe3+EeR7sx pPzYO43U81fXAbnvqubUBIQfHOv7uhOjTAzxM5nCcbTnjov0RXNZV6sq7gj0ZBwnXxJC L/El3eNBNE2I+2YbV9A2FArNfBCacdyU5aue0= X-Google-DKIM-Signature: v=1; a=rsa-sha256; c=relaxed/relaxed; d=1e100.net; s=20230601; t=1738703295; x=1739308095; h=references:in-reply-to:cc:to:from:subject:message-id:date :x-gm-message-state:from:to:cc:subject:date:message-id:reply-to; bh=mCOormgQE8hBeqJeLWURcqAwiLYvEYgU2CeeSPr+eUc=; b=QBWmsBEJOlCq3fsRv6lvR4z156y/pLXDYbMgW7PRE1HvEeRCeYNyn8r24IjVTG56uN iLwc2jVGV9Avmo6UV+I5w5YTYtwbj1jYpNWrILnBS4K79d/ybeRTNY82wpicmy9E2RSr pjLrCgQrmLLePr9cvrW4fPGDhsip5gqQoM1Wo1ZTFJjWQLo9p1lzIoF2BZFL5T3tgbaL WjAR7/WYDtX3k0/fS4ZB3ATr+fZKMVJkfNgOLtJ4+UdAyMFDnbpPXte/BkBlCpTUplMG oqgU+1FONOq6wGY0xvsKWzfm/KTgfLu5og6Ea2m6B1y8sfqQq6PyFnWa9QfddMzfISc/ bfxQ== X-Gm-Message-State: AOJu0Yx/sHMfzR1dHcqWZgtucmrqHCvuRd2wypsqDT7EFdf5Msy0A1ca OQjxSDB6wmx3RGufGmGMRSZoVPi2R764IUGUp5wKIpj+87Qpau2WcL0siGicsq08xI8yMORE9dn GdfXkuClGBvVsyFnqoVtLvEgJqfr0zlGy8F9ybqr0e45DFz9hiMDDCZ96 X-Gm-Gg: ASbGncv+wx1PQEFnE7C4KAWDClyrBT+qw59c2yge99ISdhwRKGjD2HX8g2/kl0tpqJz SZCdUGOP4cclWIevAmFOPoevKtjq/Eg2UWd9Lc3G83Fyi94TD36gRnQJm0bEFkZeYh7NeM74aFK X/Vxjvt+6ykCe72on/nSXXIO8jVpYCgwdM/Z/acwZGOLQnFqEzb/IsmsD/aTZ3K9K9Qn1MPREGd i5N57HRCoe81FfGvKWCP9b1LSxRcBI78nzmfbJz5KQlORURdfMDqkEDu9Hn6miazjIui9JXM+Wr DPOmXwF8wrkrTjQ/NdCRz8BopaDZRWwG5RNIEtvgug== X-Google-Smtp-Source: AGHT+IFoZtupSVcPInBW+9flAFejfNtsL4+ASK64KFiIg60aHrvYQq9zcH6TxWGp2BKQevnZMT3qfRpTAX9h X-Received: by 2002:a17:90b:48cc:b0:2f2:a664:df1a with SMTP id 98e67ed59e1d1-2f9e074b218mr414792a91.2.1738703295457; Tue, 04 Feb 2025 13:08:15 -0800 (PST) Received: from postal.iol.unh.edu (postal.iol.unh.edu. [2606:4100:3880:1234::84]) by smtp-relay.gmail.com with ESMTPS id 98e67ed59e1d1-2f83e37ac38sm867114a91.15.2025.02.04.13.08.15 (version=TLS1_2 cipher=ECDHE-ECDSA-AES128-GCM-SHA256 bits=128/128); Tue, 04 Feb 2025 13:08:15 -0800 (PST) X-Relaying-Domain: iol.unh.edu Date: Tue, 04 Feb 2025 13:08:15 -0800 (PST) Message-ID: <67a281bf.170a0220.570fb.d14eSMTPIN_ADDED_MISSING@mx.google.com> Received: from [172.21.0.7] (unknown [172.18.0.240]) by postal.iol.unh.edu (Postfix) with ESMTP id 4F8176052471; Tue, 4 Feb 2025 16:08:14 -0500 (EST) Subject: |SUCCESS| pw150893 [PATCH] net/af_packet: fix socket close on device From: dpdklab@iol.unh.edu To: Test Report Cc: dpdk-test-reports@iol.unh.edu In-Reply-To: <20250204164508.864080-1-tudor.cornea@gmail.com> References: <20250204164508.864080-1-tudor.cornea@gmail.com> Content-Type: text/plain X-BeenThere: test-report@dpdk.org X-Mailman-Version: 2.1.29 Precedence: list List-Id: automatic DPDK test reports List-Unsubscribe: , List-Archive: List-Post: List-Help: List-Subscribe: , Errors-To: test-report-bounces@dpdk.org Test-Label: iol-compile-amd64-testing Test-Status: SUCCESS http://dpdk.org/patch/150893 _Testing PASS_ Submitter: Tudor Cornea Date: Tuesday, February 04 2025 16:45:08 DPDK git baseline: Repo:dpdk Branch: master CommitID:595535be66b103f7ce3ba61939b8013032987404 150893 --> testing pass Upstream job id: Windows-Compile-DPDK-VS#4810 Test environment and result as below: +---------------------+-------------------+--------------------+ | Environment | dpdk_msvc_compile | dpdk_meson_compile | +=====================+===================+====================+ | Windows Server 2022 | PASS | SKIPPED | +---------------------+-------------------+--------------------+ | FreeBSD 13.4 | SKIPPED | PASS | +---------------------+-------------------+--------------------+ | FreeBSD 14.2 | SKIPPED | PASS | +---------------------+-------------------+--------------------+ Windows Server 2022 Kernel: 10.0.20348.2031 Compiler: clang 15.0.7, gcc 14.1.0 (MinGW), and MSVC VS 19.39.33521 FreeBSD 13.4 Kernel: 13.4-RELEASE-p1 Compiler: clang 18.1.6 FreeBSD 14.2 Kernel: 14.2-RELEASE Compiler: clang 18.1.6 To view detailed results, visit: https://lab.dpdk.org/results/dashboard/patchsets/32490/ UNH-IOL DPDK Community Lab To manage your email subscriptions, visit: https://lab.dpdk.org/results/dashboard/preferences/subscriptions/