From mboxrd@z Thu Jan 1 00:00:00 1970 Return-Path: Received: from mails.dpdk.org (mails.dpdk.org [217.70.189.124]) by inbox.dpdk.org (Postfix) with ESMTP id 8EE1546192 for ; Tue, 4 Feb 2025 22:08:52 +0100 (CET) Received: from mails.dpdk.org (localhost [127.0.0.1]) by mails.dpdk.org (Postfix) with ESMTP id 871E8402DF; Tue, 4 Feb 2025 22:08:52 +0100 (CET) Received: from mail-pl1-f225.google.com (mail-pl1-f225.google.com [209.85.214.225]) by mails.dpdk.org (Postfix) with ESMTP id 25911402DC for ; Tue, 4 Feb 2025 22:08:50 +0100 (CET) Received: by mail-pl1-f225.google.com with SMTP id d9443c01a7336-21f169e9595so2240195ad.2 for ; Tue, 04 Feb 2025 13:08:50 -0800 (PST) DKIM-Signature: v=1; a=rsa-sha256; c=relaxed/relaxed; d=iol.unh.edu; s=unh-iol; t=1738703329; x=1739308129; darn=dpdk.org; h=references:in-reply-to:cc:to:from:subject:message-id:date:from:to :cc:subject:date:message-id:reply-to; bh=uQs9iKYLIYXowBy9UqgITqjxJzA23ICcFFxGJ4+qBsQ=; b=SaSoHd6movItwwYpsgKhNt0ZJoUGICGJlGVt/jpkuEVPmjCqzh3By/uaG5VcegneE5 Rrt849o5y/FenI2E7IDpuT0xktjYVpeEq1MfMYtWoZYiMu+9TL3DMdwBdJ25uO2Bj1aL VKgd4UOKTGIgpWoUjig4KFttsxFCyLQpTykCs= X-Google-DKIM-Signature: v=1; a=rsa-sha256; c=relaxed/relaxed; d=1e100.net; s=20230601; t=1738703329; x=1739308129; h=references:in-reply-to:cc:to:from:subject:message-id:date :x-gm-message-state:from:to:cc:subject:date:message-id:reply-to; bh=uQs9iKYLIYXowBy9UqgITqjxJzA23ICcFFxGJ4+qBsQ=; b=aoRgMslwwZYkM15abQARZbHd5Om+2w6QLb8e/biL9bsvfjshSx6fdgjg4dh9+S1SVX 0QD9B9+rMxah3XVuBtjFCJKkP4c/c9c+AQrTnllTM87tQxQZpYyEpMtyvhZfMWaLtnzW oepJ2uwjRTr7Lb2mGTYCR9JOstb3bBVEM/3TpQyhMoGsaUE54FXzYzXqHamehLiA5xTa DhHlqhr0onp2radaC/6FvqVZWJu9YhrDe4vMgrWobA0UflchmdbnVt7T2xz1hAyt9S3E adKXsSou2Yk6Cncq92WctEEzULV+t7hpQyBugcZG55czfSAOPRg3GVMFkjt7HSSZCRrG 2OPQ== X-Gm-Message-State: AOJu0YxiGLnO4iGZcwppZMxidj5GdoV/ACgTQPWtpv0bhqp07iIA3bCq 76MFUokL+J7MRa+yQzXA91c/OLnHQkOHMPUx01+IAPo1N1L/f8Qs/+iQJICgrDgeIA5sPed4awU IViDPQ310wgYXnM/uhATy2cUGmqjIXhanJXOucxccY+95Fu8S2wgACT77 X-Gm-Gg: ASbGncs8GKLMhPevMdU8FCJLjM4JOadRNrEMtoaqRwRu4S9Y0S5Z9TBVME6wp012VVe j14o3j6/A+VBg0vDlq0A4Oakx3oerBaG+NRVCmogpk6mSgizTiYIzGtCYTLY7tVeLZbbuIOjb01 kX2SfgIc8l6KW97NmT6bd6i3pDZSz8PElHSw9sKf33iGkKsxhGKUP9UEoyoTb1jmo3ZPm53I3nO bbYp2XK/Yd+e2afkO52b1Qc4nRxdf3ta1FJlHfW0zyeafePSNnSjwucWcpQtgC39NleCjYj5ucQ jVDV8erozdFJiueC9fqJgbdp03Sx6yqu+J3FEtfxgg== X-Google-Smtp-Source: AGHT+IGRdl9ON+UFetEX0iveZ8SFxRZOH7yRFylxHpd/KDSjCxO+sFfk0yZTlF/w0igONoPwkUCIqIGm5lWH X-Received: by 2002:a05:6a21:9208:b0:1e1:aba4:20ab with SMTP id adf61e73a8af0-1ede8810673mr445677637.5.1738703329295; Tue, 04 Feb 2025 13:08:49 -0800 (PST) Received: from postal.iol.unh.edu (postal.iol.unh.edu. [2606:4100:3880:1234::84]) by smtp-relay.gmail.com with ESMTPS id 41be03b00d2f7-acec0a666b1sm686064a12.26.2025.02.04.13.08.49 (version=TLS1_2 cipher=ECDHE-ECDSA-AES128-GCM-SHA256 bits=128/128); Tue, 04 Feb 2025 13:08:49 -0800 (PST) X-Relaying-Domain: iol.unh.edu Date: Tue, 04 Feb 2025 13:08:49 -0800 (PST) Message-ID: <67a281e1.630a0220.12e58e.1322SMTPIN_ADDED_MISSING@mx.google.com> Received: from [172.21.0.5] (unknown [172.18.0.240]) by postal.iol.unh.edu (Postfix) with ESMTP id 3DCF86052471; Tue, 4 Feb 2025 16:08:48 -0500 (EST) Subject: |SUCCESS| pw150893 [PATCH] net/af_packet: fix socket close on device From: dpdklab@iol.unh.edu To: Test Report Cc: dpdk-test-reports@iol.unh.edu In-Reply-To: <20250204164508.864080-1-tudor.cornea@gmail.com> References: <20250204164508.864080-1-tudor.cornea@gmail.com> Content-Type: text/plain X-BeenThere: test-report@dpdk.org X-Mailman-Version: 2.1.29 Precedence: list List-Id: automatic DPDK test reports List-Unsubscribe: , List-Archive: List-Post: List-Help: List-Subscribe: , Errors-To: test-report-bounces@dpdk.org Test-Label: iol-compile-amd64-testing Test-Status: SUCCESS http://dpdk.org/patch/150893 _Testing PASS_ Submitter: Tudor Cornea Date: Tuesday, February 04 2025 16:45:08 DPDK git baseline: Repo:dpdk Branch: master CommitID:595535be66b103f7ce3ba61939b8013032987404 150893 --> testing pass Upstream job id: Generic-VM-DPDK-Compile-Meson#33036 Test environment and result as below: +---------------------+-------------------+--------------------+ | Environment | dpdk_msvc_compile | dpdk_meson_compile | +=====================+===================+====================+ | Windows Server 2022 | PASS | SKIPPED | +---------------------+-------------------+--------------------+ | FreeBSD 13.4 | SKIPPED | PASS | +---------------------+-------------------+--------------------+ | FreeBSD 14.2 | SKIPPED | PASS | +---------------------+-------------------+--------------------+ Windows Server 2022 Kernel: 10.0.20348.2031 Compiler: clang 15.0.7, gcc 14.1.0 (MinGW), and MSVC VS 19.39.33521 FreeBSD 13.4 Kernel: 13.4-RELEASE-p1 Compiler: clang 18.1.6 FreeBSD 14.2 Kernel: 14.2-RELEASE Compiler: clang 18.1.6 To view detailed results, visit: https://lab.dpdk.org/results/dashboard/patchsets/32490/ UNH-IOL DPDK Community Lab To manage your email subscriptions, visit: https://lab.dpdk.org/results/dashboard/preferences/subscriptions/