From mboxrd@z Thu Jan 1 00:00:00 1970 Return-Path: Received: from mails.dpdk.org (mails.dpdk.org [217.70.189.124]) by inbox.dpdk.org (Postfix) with ESMTP id 1627A46192 for ; Tue, 4 Feb 2025 22:09:00 +0100 (CET) Received: from mails.dpdk.org (localhost [127.0.0.1]) by mails.dpdk.org (Postfix) with ESMTP id 0674D402DC; Tue, 4 Feb 2025 22:09:00 +0100 (CET) Received: from mail-yw1-f227.google.com (mail-yw1-f227.google.com [209.85.128.227]) by mails.dpdk.org (Postfix) with ESMTP id 2782E40261 for ; Tue, 4 Feb 2025 22:08:58 +0100 (CET) Received: by mail-yw1-f227.google.com with SMTP id 00721157ae682-6f47ed1f40dso38662577b3.1 for ; Tue, 04 Feb 2025 13:08:58 -0800 (PST) DKIM-Signature: v=1; a=rsa-sha256; c=relaxed/relaxed; d=iol.unh.edu; s=unh-iol; t=1738703337; x=1739308137; darn=dpdk.org; h=references:in-reply-to:cc:to:from:subject:message-id:date:from:to :cc:subject:date:message-id:reply-to; bh=0QAQZgrdqENWqLq8Z1ToOtx34w5dQVUulVecQqsUnSM=; b=Q2hpSauOIBXqIvWQprjZEFHaYEeKviItF6vq1XXT/CJI0lH0NA7XqeMwZauu4ChU04 4UDPVCidqP4rbuHLhdbXCX72HOPJ8V5rZ/7Q009XisV7qg1ISBJXyhm27TvNAUYEhAUe Kjp1RSkxSBekubpiFivBKecscCLXRED/6VYbI= X-Google-DKIM-Signature: v=1; a=rsa-sha256; c=relaxed/relaxed; d=1e100.net; s=20230601; t=1738703337; x=1739308137; h=references:in-reply-to:cc:to:from:subject:message-id:date :x-gm-message-state:from:to:cc:subject:date:message-id:reply-to; bh=0QAQZgrdqENWqLq8Z1ToOtx34w5dQVUulVecQqsUnSM=; b=kTJZaNzJnkVb18JSx209kWk/KU9rqI9m1Dj5ksGn6cuLkhEmloRvYvPbAKFBCDj3kW bXrMEP7AOI8meQyspQ8Ul2OQua9aHUbcneczI0WinALogr6UIBZyF1uBUA6MZfl8u2kw 0YLd74FUH2mfiYGqsJ/ps/0ahuzjkG1NoRiYeldIUEvILXfE0s9TTtPuWVwYjQovGNzn 4weUg/sMG+lNCfnh8p5wzv1m85U5gRH8wi51t5e3CJqtt0PrEmPjwtKVaZncjoHXu0s+ pTM0fAgoxtlMP+2hwiyzo6zmA+dFWJI8PtEWzLVIvvHKiZ12D1yqK6wFiAg5tiOEJTGo xVkA== X-Gm-Message-State: AOJu0YzjUC/nUld3we+ggo2/aOhLTtIncAlzhjZ2tFvdHp/AUuJYBHsm QtXY3yTuAimWL5Y/mvCQ5Oepv4ghkN+EnPSyGWvPBCICU1jogl2b5OaW9BHOfx+nGlA5AIshFSO 8whTmoyxwOLiDJYsUqa5vHSexr6j5f8B5u2WJhC6szJ+CA79ZgPC6TQPW X-Gm-Gg: ASbGnct8SpA6GajqO1L0X52/+z0GZyBHUFHPkVw1ARqq+/lFz2gWtUwBxIQCuill24B FMmScrJ0oaAQe1GVdcKDZOzcgzdxgpkLpAE28aDAodP+HSf+MSd6UeJka3M55nSlK+5KM8i5Gjf 0GH4YM2dF2omtt5+Xb5lN59QkOCRZFGCvIJOjasmyttV2i7kq4Hs/mt76gtRONYc50T9E/rEpSQ cjRqzZVOvHONUqtfC9kMQBdYzA0de8ff9SvF3nl9P1bpx3Ig5uw+NeIsBmPn+HhQ5lL09v0eFIp AXdb3CaNSzD/RGzE99tDFjKPFfTrJLzqSeGeAPdfSg== X-Google-Smtp-Source: AGHT+IGJwMkZBuo+nCB6NZ4t8nC8w3Pal55vh0lBl8xWLc2w9IO+Gd+2bgfcGlij1PQwb3QEnsJkjj0FVpIE X-Received: by 2002:a05:690c:6304:b0:6f7:598d:34c2 with SMTP id 00721157ae682-6f989f6be7emr3228447b3.24.1738703337572; Tue, 04 Feb 2025 13:08:57 -0800 (PST) Received: from postal.iol.unh.edu (postal.iol.unh.edu. [2606:4100:3880:1234::84]) by smtp-relay.gmail.com with ESMTPS id 00721157ae682-6f9541f2515sm3598407b3.70.2025.02.04.13.08.57 (version=TLS1_2 cipher=ECDHE-ECDSA-AES128-GCM-SHA256 bits=128/128); Tue, 04 Feb 2025 13:08:57 -0800 (PST) X-Relaying-Domain: iol.unh.edu Date: Tue, 04 Feb 2025 13:08:57 -0800 (PST) Message-ID: <67a281e9.050a0220.17af96.f20cSMTPIN_ADDED_MISSING@mx.google.com> Received: from [172.21.0.7] (unknown [172.18.0.240]) by postal.iol.unh.edu (Postfix) with ESMTP id E65D66052471; Tue, 4 Feb 2025 16:08:56 -0500 (EST) Subject: |SUCCESS| pw150865 [PATCH] [RFC] ci: Add support for Cirrus-CI servi From: dpdklab@iol.unh.edu To: Test Report Cc: dpdk-test-reports@iol.unh.edu In-Reply-To: <20250204160739.1603197-1-aconole@redhat.com> References: <20250204160739.1603197-1-aconole@redhat.com> Content-Type: text/plain X-BeenThere: test-report@dpdk.org X-Mailman-Version: 2.1.29 Precedence: list List-Id: automatic DPDK test reports List-Unsubscribe: , List-Archive: List-Post: List-Help: List-Subscribe: , Errors-To: test-report-bounces@dpdk.org Test-Label: iol-compile-amd64-testing Test-Status: SUCCESS http://dpdk.org/patch/150865 _Testing PASS_ Submitter: Aaron Conole Date: Tuesday, February 04 2025 16:07:39 DPDK git baseline: Repo:dpdk Branch: master CommitID:dc4ce7c2538b713e16887eb598da309bc7b4d528 150865 --> testing pass Upstream job id: Windows-Compile-DPDK-Native#26298 Test environment and result as below: +---------------------+-------------------+--------------------+-------------------------+----------------------+ | Environment | dpdk_msvc_compile | dpdk_meson_compile | dpdk_llvm_clang_compile | dpdk_mingw64_compile | +=====================+===================+====================+=========================+======================+ | Windows Server 2022 | PASS | SKIPPED | PASS | PASS | +---------------------+-------------------+--------------------+-------------------------+----------------------+ | FreeBSD 13.4 | SKIPPED | PASS | SKIPPED | SKIPPED | +---------------------+-------------------+--------------------+-------------------------+----------------------+ | FreeBSD 14.2 | SKIPPED | PASS | SKIPPED | SKIPPED | +---------------------+-------------------+--------------------+-------------------------+----------------------+ Windows Server 2022 Kernel: 10.0.20348.2031 Compiler: clang 15.0.7, gcc 14.1.0 (MinGW), and MSVC VS 19.39.33521 FreeBSD 13.4 Kernel: 13.4-RELEASE-p1 Compiler: clang 18.1.6 FreeBSD 14.2 Kernel: 14.2-RELEASE Compiler: clang 18.1.6 To view detailed results, visit: https://lab.dpdk.org/results/dashboard/patchsets/32488/ UNH-IOL DPDK Community Lab To manage your email subscriptions, visit: https://lab.dpdk.org/results/dashboard/preferences/subscriptions/