From mboxrd@z Thu Jan 1 00:00:00 1970 Return-Path: Received: from mails.dpdk.org (mails.dpdk.org [217.70.189.124]) by inbox.dpdk.org (Postfix) with ESMTP id DEDF246192 for ; Tue, 4 Feb 2025 22:13:50 +0100 (CET) Received: from mails.dpdk.org (localhost [127.0.0.1]) by mails.dpdk.org (Postfix) with ESMTP id DB1FA40265; Tue, 4 Feb 2025 22:13:50 +0100 (CET) Received: from mail-io1-f97.google.com (mail-io1-f97.google.com [209.85.166.97]) by mails.dpdk.org (Postfix) with ESMTP id E180340261 for ; Tue, 4 Feb 2025 22:13:48 +0100 (CET) Received: by mail-io1-f97.google.com with SMTP id ca18e2360f4ac-844d555491eso155098639f.0 for ; Tue, 04 Feb 2025 13:13:48 -0800 (PST) DKIM-Signature: v=1; a=rsa-sha256; c=relaxed/relaxed; d=iol.unh.edu; s=unh-iol; t=1738703628; x=1739308428; darn=dpdk.org; h=references:in-reply-to:cc:to:from:subject:message-id:date:from:to :cc:subject:date:message-id:reply-to; bh=mzugYy3ChKI5fBB2be/AASeWUZCHHM9Hs1GF0uYXlQA=; b=bfr+S40DwQJ1mLl5r0U4eP9fTHVlN5NDcp2eSXLwYD/t6ZOnEs+boHF6Lhr/xVWRvu 3tfIwgkouOgnFUQMwWVUZDOhXugccSc4QLKttRb3tlbaovI48XBngJbbDXX6gUU2MwWb l1BrWSTUJcNQw95vSCc39yzaz5e5ipaKgLncw= X-Google-DKIM-Signature: v=1; a=rsa-sha256; c=relaxed/relaxed; d=1e100.net; s=20230601; t=1738703628; x=1739308428; h=references:in-reply-to:cc:to:from:subject:message-id:date :x-gm-message-state:from:to:cc:subject:date:message-id:reply-to; bh=mzugYy3ChKI5fBB2be/AASeWUZCHHM9Hs1GF0uYXlQA=; b=ZWyGBQFFy/rkWIKvmd3jqJLYLt9hwbuQ7t5m5FhYTATz0oHeWFrmPiJjvQ6IcPxbNX +CeZ6A/ZYYpBYB0jXSgb6uZG6Xv279Z/xgYFir8A7EUU4ELUdckgHxUk3oAdoTbuFawn /K5dX+9OUBZYnlosA2nMdCYUt04Q8X9wvsPL1qb1nywV/G0kqpY6hzOq6hzbbFYsD3jF FhyUoRPzG5E0kH+5G8xE0PXd/CPnePPzsILfjIMv5yLD6/iU18wLesN73FBl/5pFYWHq QDcY8PvNEpLk7UDcfLb0U05Ez/vaCjq7XbGs0g00OYcIbYVGbPH1o29Z0XwOKUVEXocS CVZQ== X-Gm-Message-State: AOJu0Yz/d/cE03ccwEL7ryDuL5SCH6M96kqKbzOeOpsx6LXFGiYAdMvH 2Qb4OobxyzHE6iP2yhoqY4q3gRKCLt9x/X1bf8Pq1qbIA5+1t83m237knGpa8zSKyJjNWBnZJwy jv2WdiXa/vnNg7TtcmykMesnfzdb645BaOfc6ZmeZodeQ191tWWfv0lg4 X-Gm-Gg: ASbGncu0WTRC2I2blRuO136mtPHu/sEhrstnnvBsch1OY5emQfARhCAR9y6AxAv6Ycq upPPCeMnNSA9XsHCIVKapLunBCT5r/ISB6wJFsHa4lgHWrXUkjT3zrviAF29NUl5HPCyaBsoDWw CusB+ktLAyen1ANGhv8CTzk3FvfF0khwt63P/xW+9lgX4ypwJC7XWuYujkE7R2a7iroKdgKIZBl 4eDqlW8OBpBe8usnbyCYy30oI+FVZtzsMZpFYoh/bYuC+DnbAqHv2iBJBTnpiMmUgWe74yRoTo/ ZT8dPGibg3UDpGcE3Mzu9w7UwLhe1MGr8gX7SyfLQA== X-Google-Smtp-Source: AGHT+IHuQXRLaNvzxcYyRHFMmTxWK/55tNo4cABjGEXmILTifM/CQ+oj1rSolj6hTiqrFyRcVMQRFpz6GgMv X-Received: by 2002:a05:6e02:221f:b0:3d0:4859:8b9b with SMTP id e9e14a558f8ab-3d04f491b71mr3734605ab.13.1738703628255; Tue, 04 Feb 2025 13:13:48 -0800 (PST) Received: from postal.iol.unh.edu (postal.iol.unh.edu. [2606:4100:3880:1234::84]) by smtp-relay.gmail.com with ESMTPS id e9e14a558f8ab-3d00a5ec440sm8561625ab.51.2025.02.04.13.13.48 (version=TLS1_2 cipher=ECDHE-ECDSA-AES128-GCM-SHA256 bits=128/128); Tue, 04 Feb 2025 13:13:48 -0800 (PST) X-Relaying-Domain: iol.unh.edu Date: Tue, 04 Feb 2025 13:13:48 -0800 (PST) Message-ID: <67a2830c.050a0220.1e67f2.8dafSMTPIN_ADDED_MISSING@mx.google.com> Received: from [172.21.0.5] (unknown [172.18.0.240]) by postal.iol.unh.edu (Postfix) with ESMTP id D93276052471; Tue, 4 Feb 2025 16:13:47 -0500 (EST) Subject: |SUCCESS| pw150865 [PATCH] [RFC] ci: Add support for Cirrus-CI servi From: dpdklab@iol.unh.edu To: Test Report Cc: dpdk-test-reports@iol.unh.edu In-Reply-To: <20250204160739.1603197-1-aconole@redhat.com> References: <20250204160739.1603197-1-aconole@redhat.com> Content-Type: text/plain X-BeenThere: test-report@dpdk.org X-Mailman-Version: 2.1.29 Precedence: list List-Id: automatic DPDK test reports List-Unsubscribe: , List-Archive: List-Post: List-Help: List-Subscribe: , Errors-To: test-report-bounces@dpdk.org Test-Label: iol-abi-testing Test-Status: SUCCESS http://dpdk.org/patch/150865 _Testing PASS_ Submitter: Aaron Conole Date: Tuesday, February 04 2025 16:07:39 DPDK git baseline: Repo:dpdk Branch: master CommitID:dc4ce7c2538b713e16887eb598da309bc7b4d528 150865 --> testing pass Upstream job id: Generic-DPDK-Compile-ABI#114727 Test environment and result as below: +-------------------+----------+ | Environment | abi_test | +===================+==========+ | CentOS Stream 9 | PASS | +-------------------+----------+ | Fedora 40 | PASS | +-------------------+----------+ | Fedora 41 | PASS | +-------------------+----------+ | Debian Bullseye | PASS | +-------------------+----------+ | Fedora 40 (Clang) | PASS | +-------------------+----------+ | Ubuntu 24.04 | PASS | +-------------------+----------+ | Fedora 41 (Clang) | PASS | +-------------------+----------+ | Debian 12 | PASS | +-------------------+----------+ | Ubuntu 22.04 | PASS | +-------------------+----------+ | openSUSE Leap 15 | PASS | +-------------------+----------+ | RHEL8 | PASS | +-------------------+----------+ | RHEL9 | PASS | +-------------------+----------+ CentOS Stream 9 Kernel: Depends on container host Compiler: gcc 11.5.0 20240719 (Red Hat 11.5.0-2) Fedora 40 Kernel: Depends on container host Compiler: gcc 14.2.1 20240912 (Red Hat 14.2.1-3) Fedora 41 Kernel: Depends on container host Compiler: gcc 14.2.1 20240912 (Red Hat 14.2.1-3) Debian Bullseye Kernel: Depends on container host Compiler: gcc (Debian 10.2.1-6) 10.2.1 20210110 Fedora 40 (Clang) Kernel: Depends on container host Compiler: clang 18.1.8 (Fedora 18.1.8-1.fc40) Ubuntu 24.04 Kernel: Depends on container host Compiler: gcc (Ubuntu 13.3.0-6ubuntu2~24.04) 13.3.0 Fedora 41 (Clang) Kernel: Depends on container host Compiler: clang 19.1.5 (Fedora 19.1.5-1.fc41) Debian 12 Kernel: Depends on container host Compiler: gcc (Debian 12.2.0-14) 12.2.0 Ubuntu 22.04 Kernel: Depends on container host Compiler: gcc (Ubuntu 11.4.0-1ubuntu1~22.04) 11.4.0 openSUSE Leap 15 Kernel: Depends on container host Compiler: gcc (SUSE Linux) 7.5.0 RHEL8 Kernel: Depends on container host Compiler: gcc 8.5.0 20210514 (Red Hat 8.5.0-22) RHEL9 Kernel: Depends on container host Compiler: gcc 11.5.0 20240719 (Red Hat 11.5.0-2) To view detailed results, visit: https://lab.dpdk.org/results/dashboard/patchsets/32488/ UNH-IOL DPDK Community Lab To manage your email subscriptions, visit: https://lab.dpdk.org/results/dashboard/preferences/subscriptions/