From: dpdklab@iol.unh.edu
To: Test Report <test-report@dpdk.org>
Cc: dpdk-test-reports@iol.unh.edu
Subject: |SUCCESS| pw150895-150900 [PATCH] [v4,7/7] mldev: eliminate dependen
Date: Tue, 04 Feb 2025 13:21:32 -0800 (PST) [thread overview]
Message-ID: <67a284dc.050a0220.14ebc8.1962SMTPIN_ADDED_MISSING@mx.google.com> (raw)
In-Reply-To: <1738695271-29948-8-git-send-email-andremue@linux.microsoft.com>
Test-Label: iol-compile-amd64-testing
Test-Status: SUCCESS
http://dpdk.org/patch/150900
_Testing PASS_
Submitter: Andre Muezerie <andremue@linux.microsoft.com>
Date: Tuesday, February 04 2025 18:54:31
DPDK git baseline: Repo:dpdk
Branch: master
CommitID:dc4ce7c2538b713e16887eb598da309bc7b4d528
150895-150900 --> testing pass
Upstream job id: Windows-Compile-DPDK-Native#26299
Test environment and result as below:
+---------------------+-------------------+--------------------+-------------------------+
| Environment | dpdk_msvc_compile | dpdk_meson_compile | dpdk_llvm_clang_compile |
+=====================+===================+====================+=========================+
| Windows Server 2022 | PASS | SKIPPED | PASS |
+---------------------+-------------------+--------------------+-------------------------+
| FreeBSD 13.4 | SKIPPED | PASS | SKIPPED |
+---------------------+-------------------+--------------------+-------------------------+
| FreeBSD 14.2 | SKIPPED | PASS | SKIPPED |
+---------------------+-------------------+--------------------+-------------------------+
Windows Server 2022
Kernel: 10.0.20348.2031
Compiler: clang 15.0.7, gcc 14.1.0 (MinGW), and MSVC VS 19.39.33521
FreeBSD 13.4
Kernel: 13.4-RELEASE-p1
Compiler: clang 18.1.6
FreeBSD 14.2
Kernel: 14.2-RELEASE
Compiler: clang 18.1.6
To view detailed results, visit:
https://lab.dpdk.org/results/dashboard/patchsets/32492/
UNH-IOL DPDK Community Lab
To manage your email subscriptions, visit:
https://lab.dpdk.org/results/dashboard/preferences/subscriptions/
next prev parent reply other threads:[~2025-02-04 21:21 UTC|newest]
Thread overview: 20+ messages / expand[flat|nested] mbox.gz Atom feed top
[not found] <1738695271-29948-8-git-send-email-andremue@linux.microsoft.com>
2025-02-04 18:24 ` |SUCCESS| pw150895-150900 [PATCH v4 7/7] mldev: eliminate dependency on non-portable __SIZEOF_LONG__ qemudev
2025-02-04 18:28 ` qemudev
2025-02-04 18:56 ` |SUCCESS| pw150900 " checkpatch
2025-02-04 20:15 ` |PENDING| pw150895-150900 [PATCH] [v4,7/7] mldev: eliminate dependen dpdklab
2025-02-04 20:23 ` |SUCCESS| " dpdklab
2025-02-04 20:24 ` dpdklab
2025-02-04 20:30 ` |PENDING| " dpdklab
2025-02-04 20:36 ` |SUCCESS| " dpdklab
2025-02-04 20:42 ` dpdklab
2025-02-04 20:44 ` dpdklab
2025-02-04 21:21 ` dpdklab [this message]
2025-02-04 21:41 ` dpdklab
2025-02-04 22:17 ` dpdklab
2025-02-04 22:31 ` |PENDING| " dpdklab
2025-02-04 22:44 ` dpdklab
2025-02-04 23:49 ` |SUCCESS| " dpdklab
2025-02-04 23:52 ` dpdklab
2025-02-05 0:04 ` |SUCCESS| pw150900 [PATCH v4 7/7] mldev: eliminate dependency on non-portable __SIZEOF_LONG__ 0-day Robot
2025-02-05 0:58 ` |PENDING| pw150895-150900 [PATCH] [v4,7/7] mldev: eliminate dependen dpdklab
2025-02-05 2:43 ` |SUCCESS| " dpdklab
Reply instructions:
You may reply publicly to this message via plain-text email
using any one of the following methods:
* Save the following mbox file, import it into your mail client,
and reply-to-all from there: mbox
Avoid top-posting and favor interleaved quoting:
https://en.wikipedia.org/wiki/Posting_style#Interleaved_style
* Reply using the --to, --cc, and --in-reply-to
switches of git-send-email(1):
git send-email \
--in-reply-to=67a284dc.050a0220.14ebc8.1962SMTPIN_ADDED_MISSING@mx.google.com \
--to=dpdklab@iol.unh.edu \
--cc=dpdk-test-reports@iol.unh.edu \
--cc=test-report@dpdk.org \
/path/to/YOUR_REPLY
https://kernel.org/pub/software/scm/git/docs/git-send-email.html
* If your mail client supports setting the In-Reply-To header
via mailto: links, try the mailto: link
Be sure your reply has a Subject: header at the top and a blank line
before the message body.
This is a public inbox, see mirroring instructions
for how to clone and mirror all data and code used for this inbox;
as well as URLs for NNTP newsgroup(s).