From mboxrd@z Thu Jan 1 00:00:00 1970 Return-Path: Received: from mails.dpdk.org (mails.dpdk.org [217.70.189.124]) by inbox.dpdk.org (Postfix) with ESMTP id D423B46192 for ; Tue, 4 Feb 2025 22:21:33 +0100 (CET) Received: from mails.dpdk.org (localhost [127.0.0.1]) by mails.dpdk.org (Postfix) with ESMTP id AE9AE40261; Tue, 4 Feb 2025 22:21:33 +0100 (CET) Received: from mail-il1-f225.google.com (mail-il1-f225.google.com [209.85.166.225]) by mails.dpdk.org (Postfix) with ESMTP id D274F400D6 for ; Tue, 4 Feb 2025 22:21:32 +0100 (CET) Received: by mail-il1-f225.google.com with SMTP id e9e14a558f8ab-3cfeff44d94so15639975ab.0 for ; Tue, 04 Feb 2025 13:21:32 -0800 (PST) DKIM-Signature: v=1; a=rsa-sha256; c=relaxed/relaxed; d=iol.unh.edu; s=unh-iol; t=1738704092; x=1739308892; darn=dpdk.org; h=references:in-reply-to:cc:to:from:subject:message-id:date:from:to :cc:subject:date:message-id:reply-to; bh=PAk/TJVoRx+ixZEPRLVwPoZrvBBCrlc2ILkzgSRX2iI=; b=LxX0EV9CDEzsXp8kfgjbECjxm08FzDBAZvPUp9wvO/+mseBFX88m4/tXyD1EzCU/79 fK9OuOXJsY1HC8Y0C+4fXQ+bJPEdvMrI/8xPJ/UXGNW6/T98cC3vjueXnjy5jupGC8Pb Nb6Q4N7d8g8twH9pVrPiC8dm93cyESBRkNpq0= X-Google-DKIM-Signature: v=1; a=rsa-sha256; c=relaxed/relaxed; d=1e100.net; s=20230601; t=1738704092; x=1739308892; h=references:in-reply-to:cc:to:from:subject:message-id:date :x-gm-message-state:from:to:cc:subject:date:message-id:reply-to; bh=PAk/TJVoRx+ixZEPRLVwPoZrvBBCrlc2ILkzgSRX2iI=; b=HGF58IAxyTYvzlSBbuStp0hqyTjN18rJN1D3EK2SMkTqxwmeTJtgUqcEab5K9t+qIa sqJVnSmDLX+v6yd2qUmAkBGexoNpikCycUGawH3L3gSi/KQ6jqQ6DjcMjPo+JGs8RuvJ cT78NAh76H2/SlHICJOdGbjVp+ADcK3M/dqSO6JIRtO+l0YlFt9WnzJI2rQhjKnUZG9o ILC0/5J54gNJ0yghSc8o+mM6+ycAihz9bKho//o0YJO6H0Ohabn6zvQiQRFcOWkYfyV6 mmRXzvfwTpGgRNEG7jN7yYlJdCdLNnf6l7/0MtCg8fL+mPXAPnxu3lWzl0+jA6m/p1Wu GYXg== X-Gm-Message-State: AOJu0Yw7vveNgSXyFPdJRca0n0IiKID5f/O+pLEGyOlW4wFWiHFQeH4O KZNlBarbXCSLY7+sGqtdRGnVQt2dTm8fXScblRgUMt6oqtAJUrNsDl+F9YKjS7JCEq4MUAszA+6 ELcf6tM0KPiKNMzJ5cEkf40o3JxHhuYBr8TtTZSS+2L+jBNsfqBd3qQ/v X-Gm-Gg: ASbGncsyvjQVONWzuQHD7aPHXouOV0EoyC6+/Gx0rEoq3GztiEffHD/HvVhpgMtAhSO EEHrJBsZlg0OxLINq/y9jrESTQu00gGMb2w/N+uPgcBLcDyWxxDcIW7dvh0NJECaPLeWOhTeUnO QYnIiPh/eLWQLW7rnD5/15BRFp6KQ5CMfEiiw4fsr7JaKVwhBr3kYlDJN33hxcBhfIb++seh2Sg pSgh++fX/Q3DOVJ/56Ji+C2vErusd0Z60nI1Kos218AY5DydmzR5HZCxsZp7UHl0aOeuicE3Ymj YSA+fJ+JHVO5kSbfd+ABYLe7sCOYToNvoGybLLKAGw== X-Google-Smtp-Source: AGHT+IEh14XmI59Br5BPDxICCW+PZBNcq8ogbywdBdT5tqDhD+5KWUIBEMSk5L95FDAc2AnkUo1lV7wR6OUv X-Received: by 2002:a05:6e02:18cc:b0:3d0:27f5:1b6c with SMTP id e9e14a558f8ab-3d04f917e79mr2914975ab.14.1738704092095; Tue, 04 Feb 2025 13:21:32 -0800 (PST) Received: from postal.iol.unh.edu (postal.iol.unh.edu. [2606:4100:3880:1234::84]) by smtp-relay.gmail.com with ESMTPS id e9e14a558f8ab-3d04e8a08d1sm284045ab.6.2025.02.04.13.21.32 (version=TLS1_2 cipher=ECDHE-ECDSA-AES128-GCM-SHA256 bits=128/128); Tue, 04 Feb 2025 13:21:32 -0800 (PST) X-Relaying-Domain: iol.unh.edu Date: Tue, 04 Feb 2025 13:21:32 -0800 (PST) Message-ID: <67a284dc.050a0220.14ebc8.1962SMTPIN_ADDED_MISSING@mx.google.com> Received: from [172.21.0.5] (unknown [172.18.0.240]) by postal.iol.unh.edu (Postfix) with ESMTP id 99F796052471; Tue, 4 Feb 2025 16:21:31 -0500 (EST) Subject: |SUCCESS| pw150895-150900 [PATCH] [v4,7/7] mldev: eliminate dependen From: dpdklab@iol.unh.edu To: Test Report Cc: dpdk-test-reports@iol.unh.edu In-Reply-To: <1738695271-29948-8-git-send-email-andremue@linux.microsoft.com> References: <1738695271-29948-8-git-send-email-andremue@linux.microsoft.com> Content-Type: text/plain X-BeenThere: test-report@dpdk.org X-Mailman-Version: 2.1.29 Precedence: list List-Id: automatic DPDK test reports List-Unsubscribe: , List-Archive: List-Post: List-Help: List-Subscribe: , Errors-To: test-report-bounces@dpdk.org Test-Label: iol-compile-amd64-testing Test-Status: SUCCESS http://dpdk.org/patch/150900 _Testing PASS_ Submitter: Andre Muezerie Date: Tuesday, February 04 2025 18:54:31 DPDK git baseline: Repo:dpdk Branch: master CommitID:dc4ce7c2538b713e16887eb598da309bc7b4d528 150895-150900 --> testing pass Upstream job id: Windows-Compile-DPDK-Native#26299 Test environment and result as below: +---------------------+-------------------+--------------------+-------------------------+ | Environment | dpdk_msvc_compile | dpdk_meson_compile | dpdk_llvm_clang_compile | +=====================+===================+====================+=========================+ | Windows Server 2022 | PASS | SKIPPED | PASS | +---------------------+-------------------+--------------------+-------------------------+ | FreeBSD 13.4 | SKIPPED | PASS | SKIPPED | +---------------------+-------------------+--------------------+-------------------------+ | FreeBSD 14.2 | SKIPPED | PASS | SKIPPED | +---------------------+-------------------+--------------------+-------------------------+ Windows Server 2022 Kernel: 10.0.20348.2031 Compiler: clang 15.0.7, gcc 14.1.0 (MinGW), and MSVC VS 19.39.33521 FreeBSD 13.4 Kernel: 13.4-RELEASE-p1 Compiler: clang 18.1.6 FreeBSD 14.2 Kernel: 14.2-RELEASE Compiler: clang 18.1.6 To view detailed results, visit: https://lab.dpdk.org/results/dashboard/patchsets/32492/ UNH-IOL DPDK Community Lab To manage your email subscriptions, visit: https://lab.dpdk.org/results/dashboard/preferences/subscriptions/