From mboxrd@z Thu Jan 1 00:00:00 1970 Return-Path: Received: from mails.dpdk.org (mails.dpdk.org [217.70.189.124]) by inbox.dpdk.org (Postfix) with ESMTP id 704B546192 for ; Tue, 4 Feb 2025 22:25:59 +0100 (CET) Received: from mails.dpdk.org (localhost [127.0.0.1]) by mails.dpdk.org (Postfix) with ESMTP id 69BF84025F; Tue, 4 Feb 2025 22:25:59 +0100 (CET) Received: from mail-qt1-f226.google.com (mail-qt1-f226.google.com [209.85.160.226]) by mails.dpdk.org (Postfix) with ESMTP id 2A09F400D6 for ; Tue, 4 Feb 2025 22:25:58 +0100 (CET) Received: by mail-qt1-f226.google.com with SMTP id d75a77b69052e-467725245a2so56078851cf.3 for ; Tue, 04 Feb 2025 13:25:58 -0800 (PST) DKIM-Signature: v=1; a=rsa-sha256; c=relaxed/relaxed; d=iol.unh.edu; s=unh-iol; t=1738704357; x=1739309157; darn=dpdk.org; h=references:in-reply-to:cc:to:from:subject:message-id:date:from:to :cc:subject:date:message-id:reply-to; bh=sdtUIswxnvpXFZSziXyBkKvRskKpBTlHmYDPivP6+Vo=; b=BKfRHi3SNOwr8U4vGm5i0K0Kv3qAfjvs+m9nQ3xSZ5dAozWau7V40Y3RkSGUe5EZAr VzGK6B0UHPRbyRLPSvrpwXbHR9B72Ov3Zu01xprvIszAl0ccRBWhMGaOtN1xhRvGUK67 yh3l/wcDEyFJPPHWGJYbVcttErE+wiWqEfRE0= X-Google-DKIM-Signature: v=1; a=rsa-sha256; c=relaxed/relaxed; d=1e100.net; s=20230601; t=1738704357; x=1739309157; h=references:in-reply-to:cc:to:from:subject:message-id:date :x-gm-message-state:from:to:cc:subject:date:message-id:reply-to; bh=sdtUIswxnvpXFZSziXyBkKvRskKpBTlHmYDPivP6+Vo=; b=Potv4a+sSuYwtl8AU2Xa+ElHfrlOg0teVkflBUZ0bfqiu1i6q3pPknhHJj3XW9aQQA SHhdhRXi2XZHh4AsqjetRGxNtzEyvJ4Q0N8cptdbIAX6x+7RyayVi60ZWr872z/CxG0t 2zT5JceijmABcOzwE+LwpZX8BrizhG1exg7es5xxLkdHTGdCaUK94mjX7ln8mbQPd92w GphW9f2SRDVGeIW5sY8Lg6jaybBcaOUBSuZwBRsKUbpEvTq36Kh4xdPXxAUSxyGqdScs j86AVpND3tvoKsU5NgSbNhHAsGPGgDP55r//UoAqm9W1YNv9cSQy96BYJENTB2OVQ0Li aqcg== X-Gm-Message-State: AOJu0YwpUl2tf3jKI/N76HlQ2oRv5UKHGh1eDoLZAoaw+XOQ8ITPLUSY 2yLNy013Qme5z0ZEn+lgcMjYfFOqtiO7vqXwMDdtTfCeSyBnsJDR8zdoixFbUarK5P77eYnkC/E xyXP1TSj4Ut4/RWvHotzWa+WLZP1lMcT+jgExUwLdyicTXacCTNnjtiuk X-Gm-Gg: ASbGncsTj8ZYNLkkBlLD9vkJDorcwdJcbX6CA+oj0Lk0ViAZhJM5NXDQAORgIV8QDRp YJpKHWbZ7mtyMQBrC3JsCpSREJ4lBKNG2Oy18FjIkc3+lwVX89daO7Kuw1m+HTi9jGJy6K147di pNlvG+tTpt2pW00cU+Hiiwj991oke8ngVlo1ISFegmIOqePYXLDEZLGm37pIVm1NXuu3jBaRS60 11QjBy5E13lOZ6YoZHMPWRVaaOaQH9xSOi03m+8davejH7vcVuEm9iEt5lgurnhJyB1+9R21wpW 2/g5WeBNtL/Ptpf2NJopmguZMKrWq3LPKjn9WaLx4Q== X-Google-Smtp-Source: AGHT+IElZniNZqSFHWgMQRBUOpnhwzM0byPFNBEsl/DXAlWOAYdBlcn1ntvO3UQocsapyN9VR/Ni9UaID3Sc X-Received: by 2002:a05:622a:10:b0:467:53c8:7570 with SMTP id d75a77b69052e-470281a3b54mr4116261cf.13.1738704357564; Tue, 04 Feb 2025 13:25:57 -0800 (PST) Received: from postal.iol.unh.edu (postal.iol.unh.edu. [2606:4100:3880:1234::84]) by smtp-relay.gmail.com with ESMTPS id d75a77b69052e-46fdf16212dsm3581191cf.15.2025.02.04.13.25.57 (version=TLS1_2 cipher=ECDHE-ECDSA-AES128-GCM-SHA256 bits=128/128); Tue, 04 Feb 2025 13:25:57 -0800 (PST) X-Relaying-Domain: iol.unh.edu Date: Tue, 04 Feb 2025 13:25:57 -0800 (PST) Message-ID: <67a285e5.050a0220.88596.1e9eSMTPIN_ADDED_MISSING@mx.google.com> Received: from [172.21.0.6] (unknown [172.18.0.240]) by postal.iol.unh.edu (Postfix) with ESMTP id 37F296052471; Tue, 4 Feb 2025 16:25:57 -0500 (EST) Subject: |SUCCESS| pw150893 [PATCH] net/af_packet: fix socket close on device From: dpdklab@iol.unh.edu To: Test Report Cc: dpdk-test-reports@iol.unh.edu In-Reply-To: <20250204164508.864080-1-tudor.cornea@gmail.com> References: <20250204164508.864080-1-tudor.cornea@gmail.com> Content-Type: text/plain X-BeenThere: test-report@dpdk.org X-Mailman-Version: 2.1.29 Precedence: list List-Id: automatic DPDK test reports List-Unsubscribe: , List-Archive: List-Post: List-Help: List-Subscribe: , Errors-To: test-report-bounces@dpdk.org Test-Label: iol-compile-amd64-testing Test-Status: SUCCESS http://dpdk.org/patch/150893 _Testing PASS_ Submitter: Tudor Cornea Date: Tuesday, February 04 2025 16:45:08 DPDK git baseline: Repo:dpdk Branch: master CommitID:595535be66b103f7ce3ba61939b8013032987404 150893 --> testing pass Upstream job id: Generic-VM-DPDK-Compile-Meson#33038 Test environment and result as below: +---------------------+-------------------+--------------------+ | Environment | dpdk_msvc_compile | dpdk_meson_compile | +=====================+===================+====================+ | Windows Server 2022 | PASS | SKIPPED | +---------------------+-------------------+--------------------+ | FreeBSD 13.4 | SKIPPED | PASS | +---------------------+-------------------+--------------------+ | FreeBSD 14.2 | SKIPPED | PASS | +---------------------+-------------------+--------------------+ Windows Server 2022 Kernel: 10.0.20348.2031 Compiler: clang 15.0.7, gcc 14.1.0 (MinGW), and MSVC VS 19.39.33521 FreeBSD 13.4 Kernel: 13.4-RELEASE-p1 Compiler: clang 18.1.6 FreeBSD 14.2 Kernel: 14.2-RELEASE Compiler: clang 18.1.6 To view detailed results, visit: https://lab.dpdk.org/results/dashboard/patchsets/32490/ UNH-IOL DPDK Community Lab To manage your email subscriptions, visit: https://lab.dpdk.org/results/dashboard/preferences/subscriptions/