From mboxrd@z Thu Jan  1 00:00:00 1970
Return-Path: <test-report-bounces@dpdk.org>
Received: from mails.dpdk.org (mails.dpdk.org [217.70.189.124])
	by inbox.dpdk.org (Postfix) with ESMTP id 8018246192
	for <public@inbox.dpdk.org>; Tue,  4 Feb 2025 22:26:17 +0100 (CET)
Received: from mails.dpdk.org (localhost [127.0.0.1])
	by mails.dpdk.org (Postfix) with ESMTP id 7D4504025F;
	Tue,  4 Feb 2025 22:26:17 +0100 (CET)
Received: from mail-il1-f227.google.com (mail-il1-f227.google.com
 [209.85.166.227])
 by mails.dpdk.org (Postfix) with ESMTP id 8A51C400D6
 for <test-report@dpdk.org>; Tue,  4 Feb 2025 22:26:16 +0100 (CET)
Received: by mail-il1-f227.google.com with SMTP id
 e9e14a558f8ab-3d04aec2b84so4909385ab.2
 for <test-report@dpdk.org>; Tue, 04 Feb 2025 13:26:16 -0800 (PST)
DKIM-Signature: v=1; a=rsa-sha256; c=relaxed/relaxed;
 d=iol.unh.edu; s=unh-iol; t=1738704376; x=1739309176; darn=dpdk.org;
 h=references:in-reply-to:cc:to:from:subject:message-id:date:from:to
 :cc:subject:date:message-id:reply-to;
 bh=EUtYlpjICxKJ+uA2wRsuZ6yeeSgu5oI/q4WFkAk5JsA=;
 b=CcbfI//DXKKuEUb4uMx3QwThWdJDyx58gjZqoNg3RyUS9zlazlQpzsKjMmeJdiqr5I
 eNKHar36Qpi+hcWCFYuYy/qB8aSBOgrbqN6Q/DVBZ/Z33Ryc4K2zTfwOVaebavCMG1LB
 ilaZaxfQqvWSwbvtVD7NVBK7dSAwnJcohlvEA=
X-Google-DKIM-Signature: v=1; a=rsa-sha256; c=relaxed/relaxed;
 d=1e100.net; s=20230601; t=1738704376; x=1739309176;
 h=references:in-reply-to:cc:to:from:subject:message-id:date
 :x-gm-message-state:from:to:cc:subject:date:message-id:reply-to;
 bh=EUtYlpjICxKJ+uA2wRsuZ6yeeSgu5oI/q4WFkAk5JsA=;
 b=XtJPE5WGoXkyL/rvq9+aIYRhzK8dcxTJduvQiJlgnGGiCC97wPsMFOUBnHObl1D9eH
 GO+/VvGTc0Pckak8u38jNgpepiuWCzlDrdt9fnJiWpb1ZAX3Jp12eiMYxF/eAmDJD1Ya
 dFeCT2IwniH4JkCSSp7Fw8NnG2bQ/cHQdjlFB0+1HvLHr4gVY66ocAc7ygiaDRMwBRbi
 f40kKqK4xctV6ahlG7k9GwDk/rxqcO37HrZ1uIW/gqSeF8LjYApBI4fm1Q6AmJOIGLJV
 g20ATjrIXyrwMdxh0KxMri/RBTK+AwB0IHsPD9xPXQuRG2Y7vhtFAvlaTY+pWaxXzk93
 kVNQ==
X-Gm-Message-State: AOJu0YxwRTVegSK5SbPX0myQqcEK1oH1uDNDORvk/hJrv3RfM8eTTIfR
 zpC/Z0eYlf0FarOLnJ6vk7wr+ygVDbFhb0emV5jVHwBonqgUEh1KT42v50XW8ZVyd/L4S5jusOc
 b60ygCkt2U0yXJdEHgkQKMHHP12N3h0OYPVED8iiV
X-Gm-Gg: ASbGncsSf88L2WKWtnc6HWUfX77lqoIy40Bsp/OaQkVBAqoNibsJHyLMo3y7O7+xnRk
 GMpoEVPZOkP61TZCkxIVVViNtwx1Cu2DpFM9kRnTIdVwVENLI7hnF/e5DmglbXUTOGlma1FT83g
 qU810gAYS0HwOkYoReXurRCzReENeF/ieu1gpLfX0J6lnq44FMXxLnsCHsZrKcrPb2h32o3fBBW
 cxC6FvHUpYJX3XSMQMUJEG7e6rW8F4h0ymU8w2D8dyw5Ls80eziqjHiIiv+sjt1l60Z4ejmI070
 KaCxiG4/45+iQ7OL6YJqG+1kaLC80A==
X-Google-Smtp-Source: AGHT+IENeACidzmYlCBEAQC5Y0gy0R5S/WQzLdjqh0NujTKGtxNkBOpMI4h0njXB48ZhKLDSt3lvojGx7trj
X-Received: by 2002:a05:6e02:744:b0:3cf:b365:dcf8 with SMTP id
 e9e14a558f8ab-3d04f97d020mr5527675ab.21.1738704375935; 
 Tue, 04 Feb 2025 13:26:15 -0800 (PST)
Received: from postal.iol.unh.edu (postal.iol.unh.edu. [132.177.123.84])
 by smtp-relay.gmail.com with ESMTPS id
 8926c6da1cb9f-4ec74591708sm740844173.4.2025.02.04.13.26.15
 (version=TLS1_2 cipher=ECDHE-ECDSA-AES128-GCM-SHA256 bits=128/128);
 Tue, 04 Feb 2025 13:26:15 -0800 (PST)
X-Relaying-Domain: iol.unh.edu
Date: Tue, 04 Feb 2025 13:26:15 -0800 (PST)
Message-ID: <67a285f7.050a0220.2b4c18.469cSMTPIN_ADDED_MISSING@mx.google.com>
Received: from [172.21.0.5] (unknown [172.18.0.240])
 by postal.iol.unh.edu (Postfix) with ESMTP id 7760E6052471;
 Tue,  4 Feb 2025 16:26:15 -0500 (EST)
Subject: |SUCCESS| pw150865 [PATCH] [RFC] ci: Add support for Cirrus-CI servi
From: dpdklab@iol.unh.edu
To: Test Report <test-report@dpdk.org>
Cc: dpdk-test-reports@iol.unh.edu
In-Reply-To: <20250204160739.1603197-1-aconole@redhat.com>
References: <20250204160739.1603197-1-aconole@redhat.com>
Content-Type: text/plain
X-BeenThere: test-report@dpdk.org
X-Mailman-Version: 2.1.29
Precedence: list
List-Id: automatic DPDK test reports <test-report.dpdk.org>
List-Unsubscribe: <https://mails.dpdk.org/options/test-report>,
 <mailto:test-report-request@dpdk.org?subject=unsubscribe>
List-Archive: <http://mails.dpdk.org/archives/test-report/>
List-Post: <mailto:test-report@dpdk.org>
List-Help: <mailto:test-report-request@dpdk.org?subject=help>
List-Subscribe: <https://mails.dpdk.org/listinfo/test-report>,
 <mailto:test-report-request@dpdk.org?subject=subscribe>
Errors-To: test-report-bounces@dpdk.org

Test-Label: iol-unit-amd64-testing
Test-Status: SUCCESS
http://dpdk.org/patch/150865

_Testing PASS_

Submitter: Aaron Conole <aconole@redhat.com>
Date: Tuesday, February 04 2025 16:07:39 
DPDK git baseline: Repo:dpdk
  Branch: master
  CommitID:dc4ce7c2538b713e16887eb598da309bc7b4d528

150865 --> testing pass

Upstream job id: Generic-Unit-Test-DPDK#311530

Test environment and result as below:

+---------------------+----------------+
|     Environment     | dpdk_unit_test |
+=====================+================+
| CentOS Stream 9     | PASS           |
+---------------------+----------------+
| Debian 12           | PASS           |
+---------------------+----------------+
| Debian Bullseye     | PASS           |
+---------------------+----------------+
| Fedora 41           | PASS           |
+---------------------+----------------+
| Fedora 40           | PASS           |
+---------------------+----------------+
| Fedora 40 (Clang)   | PASS           |
+---------------------+----------------+
| Fedora 41 (Clang)   | PASS           |
+---------------------+----------------+
| Ubuntu 20.04        | PASS           |
+---------------------+----------------+
| Ubuntu 22.04        | PASS           |
+---------------------+----------------+
| RHEL8               | PASS           |
+---------------------+----------------+
| RHEL9               | PASS           |
+---------------------+----------------+
| Ubuntu 24.04        | PASS           |
+---------------------+----------------+
| Windows Server 2022 | PASS           |
+---------------------+----------------+


CentOS Stream 9
	Kernel: Depends on container host
	Compiler: gcc 11.5.0 20240719 (Red Hat 11.5.0-2)

Debian 12
	Kernel: Depends on container host
	Compiler: gcc (Debian 12.2.0-14) 12.2.0

Debian Bullseye
	Kernel: Depends on container host
	Compiler: gcc (Debian 10.2.1-6) 10.2.1 20210110

Fedora 41
	Kernel: Depends on container host
	Compiler: gcc 14.2.1 20240912 (Red Hat 14.2.1-3)

Fedora 40
	Kernel: Depends on container host
	Compiler: gcc 14.2.1 20240912 (Red Hat 14.2.1-3)

Fedora 40 (Clang)
	Kernel: Depends on container host
	Compiler: clang 18.1.8 (Fedora 18.1.8-1.fc40)

Fedora 41 (Clang)
	Kernel: Depends on container host
	Compiler: clang 19.1.5 (Fedora 19.1.5-1.fc41)

Ubuntu 20.04
	Kernel: Depends on container host
	Compiler: gcc (Ubuntu 9.4.0-1ubuntu1~20.04.2) 9.4.0

Ubuntu 22.04
	Kernel: Depends on container host
	Compiler: gcc (Ubuntu 11.4.0-1ubuntu1~22.04) 11.4.0

RHEL8
	Kernel: Depends on container host
	Compiler: gcc 8.5.0 20210514 (Red Hat 8.5.0-22)

RHEL9
	Kernel: Depends on container host
	Compiler: gcc 11.5.0 20240719 (Red Hat 11.5.0-2)

Ubuntu 24.04
	Kernel: Depends on container host
	Compiler: gcc (Ubuntu 13.3.0-6ubuntu2~24.04) 13.3.0

Windows Server 2022
	Kernel: 10.0.20348.2031
	Compiler: clang 15.0.7, gcc 14.1.0 (MinGW), and MSVC VS 19.39.33521

To view detailed results, visit:
https://lab.dpdk.org/results/dashboard/patchsets/32488/

UNH-IOL DPDK Community Lab

To manage your email subscriptions, visit: 
https://lab.dpdk.org/results/dashboard/preferences/subscriptions/