From mboxrd@z Thu Jan 1 00:00:00 1970 Return-Path: Received: from mails.dpdk.org (mails.dpdk.org [217.70.189.124]) by inbox.dpdk.org (Postfix) with ESMTP id 3386E46192 for ; Tue, 4 Feb 2025 22:41:08 +0100 (CET) Received: from mails.dpdk.org (localhost [127.0.0.1]) by mails.dpdk.org (Postfix) with ESMTP id 0B7574025F; Tue, 4 Feb 2025 22:41:08 +0100 (CET) Received: from mail-il1-f226.google.com (mail-il1-f226.google.com [209.85.166.226]) by mails.dpdk.org (Postfix) with ESMTP id 83BFF400D6 for ; Tue, 4 Feb 2025 22:41:06 +0100 (CET) Received: by mail-il1-f226.google.com with SMTP id e9e14a558f8ab-3d01dc5a7f6so9697605ab.0 for ; Tue, 04 Feb 2025 13:41:06 -0800 (PST) DKIM-Signature: v=1; a=rsa-sha256; c=relaxed/relaxed; d=iol.unh.edu; s=unh-iol; t=1738705266; x=1739310066; darn=dpdk.org; h=references:in-reply-to:cc:to:from:subject:message-id:date:from:to :cc:subject:date:message-id:reply-to; bh=U6GqZIbMoOU73d9aDvLpqT2CMSv1skSpRspnvPys7oY=; b=BgV3fw018D1jwapnoy/CphlL78NAk01uNQbz5xOYswhRHzP9ecH3Fk9/rkr+dC+MAD 6l9VP4Tyx2y40abpVQYJTgT2XDbqFEOTqlPD89mW3gAYyBxvt+GZBFfKpSGTYO70GjF5 RQ6hNCMUc7rtPDP3+FcZD162m3y9oWFQwhmT4= X-Google-DKIM-Signature: v=1; a=rsa-sha256; c=relaxed/relaxed; d=1e100.net; s=20230601; t=1738705266; x=1739310066; h=references:in-reply-to:cc:to:from:subject:message-id:date :x-gm-message-state:from:to:cc:subject:date:message-id:reply-to; bh=U6GqZIbMoOU73d9aDvLpqT2CMSv1skSpRspnvPys7oY=; b=wfrhRKRCVPyHeoyJnYCxaYBjIglcF7pb4AKUgmZxRntMqaC58bvdylY7SxSiWlp0sS TkQkyKOBeBRln8CLOQxFMNcuGvdT1GVFnaIaQP3FA7zloye5crZHSAP2oRalLAsh5kGI bCA3S8MwyHhR/XRPEtsrs1EiyMuTGjzEDUN99XB5ZcJG9LtT7Tfou8IQeU2syQmcDcUS 9zzqJj7Hx00V+xMr9XPpHgUP/T8MBfETRubra45i9E6mnWU50Lr+krc+Pcsgma787z3B 24FBh2A3NjQVNXwZkrtY2LLiKJWnMfFBaRrvRAYU/nPdMNX2CLAmnnEv4w2ZPuS3c9yq hY0A== X-Gm-Message-State: AOJu0Yxa0ctgQPPS/dO/1kQ49RUHqHQj3Q4bHm3SznDQJUIVFuhMHogT oeNPj5prTMSjQ7M01MRJT+wsNVNdmJ+IsdB/RG9mT5Ukxmxl598k/4mlxF8p99npHgnTCOuuoN5 Yetix6vnCHzbgl+u6K7o1EfDCCR1gPUeuXlkfhv27+1kBlZZNrs+KA/Rw X-Gm-Gg: ASbGncttPy6rHthmdADDmhlQNi8HeB53WuDwIiLbokxERCgudGjKgo0lzw7MYsFOTo8 8i/OTqZibfFH4deWHD5hIfmzB5shgRrC79oqmGqajTzx87dKt2cLoG7YKC/fa9nhwigVyMlKhmP eyj90WD5eLXaW0AyUAzSI7s8SMqnAJlszj/UEDqwyGCyoUfyQWcMETubAXC9OZ/P6p2EBcxDyXn EKXPhDSvIbtPsdU+0By8WBJNhf6vCaiRBdaxtYaLvWJoVB6vPqJswgqK/nebq32GXW1DZd7RHtd QKa6NCa13hLEJedtSjxSiy/fKJC1hMWNg/6N/jAYcA== X-Google-Smtp-Source: AGHT+IGgjk+xG9ZX4CMRf/MsY79Gv+qD/c/shooVpQCdK4arF2jTD/0NOr5ZOnH++RX/6mumvNH8IrkoMRx4 X-Received: by 2002:a05:6e02:158b:b0:3a7:8720:9de5 with SMTP id e9e14a558f8ab-3d04f40350bmr4393115ab.1.1738705265743; Tue, 04 Feb 2025 13:41:05 -0800 (PST) Received: from postal.iol.unh.edu (postal.iol.unh.edu. [2606:4100:3880:1234::84]) by smtp-relay.gmail.com with ESMTPS id e9e14a558f8ab-3d00a6031absm8450835ab.58.2025.02.04.13.41.05 (version=TLS1_2 cipher=ECDHE-ECDSA-AES128-GCM-SHA256 bits=128/128); Tue, 04 Feb 2025 13:41:05 -0800 (PST) X-Relaying-Domain: iol.unh.edu Date: Tue, 04 Feb 2025 13:41:05 -0800 (PST) Message-ID: <67a28971.050a0220.39d8e2.8dd4SMTPIN_ADDED_MISSING@mx.google.com> Received: from [172.21.0.6] (unknown [172.18.0.240]) by postal.iol.unh.edu (Postfix) with ESMTP id 4054F6052471; Tue, 4 Feb 2025 16:41:05 -0500 (EST) Subject: |SUCCESS| pw150895-150900 [PATCH] [v4,7/7] mldev: eliminate dependen From: dpdklab@iol.unh.edu To: Test Report Cc: dpdk-test-reports@iol.unh.edu In-Reply-To: <1738695271-29948-8-git-send-email-andremue@linux.microsoft.com> References: <1738695271-29948-8-git-send-email-andremue@linux.microsoft.com> Content-Type: text/plain X-BeenThere: test-report@dpdk.org X-Mailman-Version: 2.1.29 Precedence: list List-Id: automatic DPDK test reports List-Unsubscribe: , List-Archive: List-Post: List-Help: List-Subscribe: , Errors-To: test-report-bounces@dpdk.org Test-Label: iol-compile-amd64-testing Test-Status: SUCCESS http://dpdk.org/patch/150900 _Testing PASS_ Submitter: Andre Muezerie Date: Tuesday, February 04 2025 18:54:31 DPDK git baseline: Repo:dpdk Branch: master CommitID:dc4ce7c2538b713e16887eb598da309bc7b4d528 150895-150900 --> testing pass Upstream job id: Windows-Compile-DPDK-Native#26300 Test environment and result as below: +---------------------+-------------------+--------------------+-------------------------+----------------------+ | Environment | dpdk_msvc_compile | dpdk_meson_compile | dpdk_llvm_clang_compile | dpdk_mingw64_compile | +=====================+===================+====================+=========================+======================+ | Windows Server 2022 | PASS | SKIPPED | PASS | PASS | +---------------------+-------------------+--------------------+-------------------------+----------------------+ | FreeBSD 13.4 | SKIPPED | PASS | SKIPPED | SKIPPED | +---------------------+-------------------+--------------------+-------------------------+----------------------+ | FreeBSD 14.2 | SKIPPED | PASS | SKIPPED | SKIPPED | +---------------------+-------------------+--------------------+-------------------------+----------------------+ Windows Server 2022 Kernel: 10.0.20348.2031 Compiler: clang 15.0.7, gcc 14.1.0 (MinGW), and MSVC VS 19.39.33521 FreeBSD 13.4 Kernel: 13.4-RELEASE-p1 Compiler: clang 18.1.6 FreeBSD 14.2 Kernel: 14.2-RELEASE Compiler: clang 18.1.6 To view detailed results, visit: https://lab.dpdk.org/results/dashboard/patchsets/32492/ UNH-IOL DPDK Community Lab To manage your email subscriptions, visit: https://lab.dpdk.org/results/dashboard/preferences/subscriptions/