From mboxrd@z Thu Jan 1 00:00:00 1970 Return-Path: Received: from mails.dpdk.org (mails.dpdk.org [217.70.189.124]) by inbox.dpdk.org (Postfix) with ESMTP id 78DEC46192 for ; Tue, 4 Feb 2025 23:03:47 +0100 (CET) Received: from mails.dpdk.org (localhost [127.0.0.1]) by mails.dpdk.org (Postfix) with ESMTP id 52BAF4021E; Tue, 4 Feb 2025 23:03:47 +0100 (CET) Received: from mail-pl1-f227.google.com (mail-pl1-f227.google.com [209.85.214.227]) by mails.dpdk.org (Postfix) with ESMTP id 979CA400EF for ; Tue, 4 Feb 2025 23:03:46 +0100 (CET) Received: by mail-pl1-f227.google.com with SMTP id d9443c01a7336-21644aca3a0so142838485ad.3 for ; Tue, 04 Feb 2025 14:03:46 -0800 (PST) DKIM-Signature: v=1; a=rsa-sha256; c=relaxed/relaxed; d=iol.unh.edu; s=unh-iol; t=1738706625; x=1739311425; darn=dpdk.org; h=references:in-reply-to:cc:to:from:subject:message-id:date:from:to :cc:subject:date:message-id:reply-to; bh=G6leKkOPShCA0rDGaEhF9L+xSLh0OGQQErIbdOqucoA=; b=QWLrdzU7PX0NZbXfXUgqMzxpcwV6IpmRqcdXE4xVSP9ZkDcFLFlTUOpwTiYQkl0dTk y+mwvO/ApAFtTAtkVFUdPfgzPwTHmDk6ZnxGOjieVJOzppvI0c3g2TbUjC3eLYHu0sUN JUpOxH5WfbRKe6mhMoq38WaGoAzS6YK9wps4c= X-Google-DKIM-Signature: v=1; a=rsa-sha256; c=relaxed/relaxed; d=1e100.net; s=20230601; t=1738706625; x=1739311425; h=references:in-reply-to:cc:to:from:subject:message-id:date :x-gm-message-state:from:to:cc:subject:date:message-id:reply-to; bh=G6leKkOPShCA0rDGaEhF9L+xSLh0OGQQErIbdOqucoA=; b=F13FgREPdgd5q6AVbkU2vnyRqYYibC4iIDbS0FBLk+hdrfq0+AwA8ZI7yIXfIGfdC5 iBEc+Ij4sJfPiCPYD4fKlUZ8rvPCc8TPFF0OQ0HJ0Q6CCeHBGeGCr2bAqcuFY09qaVhx 34h5wZz/88V34aB1RsrSqXvQlei8rl5wXwCTti+OzCFclOg4w02GGv0gv/b9PAEOCiRm UTf9dKqZqzS6gq5pN3l5nH+t9GyIygR1+pBUQgj/ueLF5smz1zBMp3fLwhacoEwd5Leb MqJGiGATN5fSeqvF+Twq/p2I4cNRRJS5hNWoiVShFeH/3aOWPc2mcIVYXqvv3g4ro8Qx y11g== X-Gm-Message-State: AOJu0YyQeKzYkh0dAkXFM6xjT6cbsDtSS7jgutUscgcCFORr8oh/leMm ZGHjvnPuszsq0a7Buo/VwWgRucJ1VZZDkkaVd8Coswa+UzyBNqun4rWoyBqy/q6189IX9M16CEl suvDv5D90VHNdq1hsH9vZDwWTpbY3QLSzKIwmkWQS6VcezoVH53umcLvZ X-Gm-Gg: ASbGncvwpZ3rNaTrbyqqfXeT5eO5/JvemF1zRZIQro8msokakMli3+7uJg5x1ZTLGcJ nA/iPjXErF1OgcWStbtcuwQsAinUuJ2nAyx1sShYyjYzZO2LX7ikKywpKCszuCe7I5gNuksLh94 WU1quSolccbT2D5lyg1G2DQMZgAA7Qd+lCOs6IY90hC3zehpYuP8BYET+MdDaNRu3rRnLZBIv2u 6wV/ZMXDLPy2vhYBkWcoTkgZYJYo0Anqz3UaNPQft57jJf+tclGCb5XBqGxB1k+uKJpUrHdXSav +s829MdGghww/BWVDzs2psk/5J4wKEoOHfvxwVGgSA== X-Google-Smtp-Source: AGHT+IH6L4bbq1yvAx3SA8E/DVI5SoT3lo7Q3Yv1p6V9IlmkZ1Wgat803fuLM9fmUL/BJg0jhBshDuxn61E+ X-Received: by 2002:a17:902:ce05:b0:215:30d1:36fa with SMTP id d9443c01a7336-21f17ec88c8mr6755605ad.39.1738706625519; Tue, 04 Feb 2025 14:03:45 -0800 (PST) Received: from postal.iol.unh.edu (postal.iol.unh.edu. [2606:4100:3880:1234::84]) by smtp-relay.gmail.com with ESMTPS id d9443c01a7336-21de3272c75sm5805085ad.68.2025.02.04.14.03.45 (version=TLS1_2 cipher=ECDHE-ECDSA-AES128-GCM-SHA256 bits=128/128); Tue, 04 Feb 2025 14:03:45 -0800 (PST) X-Relaying-Domain: iol.unh.edu Date: Tue, 04 Feb 2025 14:03:45 -0800 (PST) Message-ID: <67a28ec1.170a0220.2bbfd9.a99cSMTPIN_ADDED_MISSING@mx.google.com> Received: from [172.21.0.6] (unknown [172.18.0.240]) by postal.iol.unh.edu (Postfix) with ESMTP id E31576052471; Tue, 4 Feb 2025 17:03:44 -0500 (EST) Subject: |SUCCESS| pw150868-150889 [PATCH] [v20,27/27] config: add -Wvla proj From: dpdklab@iol.unh.edu To: Test Report Cc: dpdk-test-reports@iol.unh.edu In-Reply-To: <1738686124-16173-28-git-send-email-andremue@linux.microsoft.com> References: <1738686124-16173-28-git-send-email-andremue@linux.microsoft.com> Content-Type: text/plain X-BeenThere: test-report@dpdk.org X-Mailman-Version: 2.1.29 Precedence: list List-Id: automatic DPDK test reports List-Unsubscribe: , List-Archive: List-Post: List-Help: List-Subscribe: , Errors-To: test-report-bounces@dpdk.org Test-Label: iol-compile-amd64-testing Test-Status: SUCCESS http://dpdk.org/patch/150889 _Testing PASS_ Submitter: Andre Muezerie Date: Tuesday, February 04 2025 16:22:04 DPDK git baseline: Repo:dpdk Branch: master CommitID:dc4ce7c2538b713e16887eb598da309bc7b4d528 150868-150889 --> testing pass Upstream job id: Generic-DPDK-Compile-Meson#357652 Test environment and result as below: +---------------------+--------------------+------------------+-------------------+-------------------+----------------------+ | Environment | dpdk_meson_compile | dpdk_compile_ovs | dpdk_compile_spdk | dpdk_msvc_compile | dpdk_mingw64_compile | +=====================+====================+==================+===================+===================+======================+ | CentOS Stream 9 | PASS | PASS | PASS | SKIPPED | SKIPPED | +---------------------+--------------------+------------------+-------------------+-------------------+----------------------+ | Debian 12 | PASS | PASS | PASS | SKIPPED | SKIPPED | +---------------------+--------------------+------------------+-------------------+-------------------+----------------------+ | Debian Bullseye | PASS | PASS | PASS | SKIPPED | SKIPPED | +---------------------+--------------------+------------------+-------------------+-------------------+----------------------+ | Fedora 41 (Clang) | PASS | PASS | PASS | SKIPPED | SKIPPED | +---------------------+--------------------+------------------+-------------------+-------------------+----------------------+ | Fedora 40 (Clang) | PASS | PASS | PASS | SKIPPED | SKIPPED | +---------------------+--------------------+------------------+-------------------+-------------------+----------------------+ | Fedora 40 | PASS | PASS | PASS | SKIPPED | SKIPPED | +---------------------+--------------------+------------------+-------------------+-------------------+----------------------+ | Fedora 41 | PASS | PASS | PASS | SKIPPED | SKIPPED | +---------------------+--------------------+------------------+-------------------+-------------------+----------------------+ | openSUSE Leap 15 | PASS | SKIPPED | SKIPPED | SKIPPED | SKIPPED | +---------------------+--------------------+------------------+-------------------+-------------------+----------------------+ | RHEL9 | PASS | PASS | SKIPPED | SKIPPED | SKIPPED | +---------------------+--------------------+------------------+-------------------+-------------------+----------------------+ | Ubuntu 20.04 | PASS | SKIPPED | SKIPPED | SKIPPED | SKIPPED | +---------------------+--------------------+------------------+-------------------+-------------------+----------------------+ | Ubuntu 22.04 | PASS | PASS | PASS | SKIPPED | SKIPPED | +---------------------+--------------------+------------------+-------------------+-------------------+----------------------+ | Ubuntu 24.04 | PASS | PASS | PASS | SKIPPED | SKIPPED | +---------------------+--------------------+------------------+-------------------+-------------------+----------------------+ | Alpine | PASS | PASS | SKIPPED | SKIPPED | SKIPPED | +---------------------+--------------------+------------------+-------------------+-------------------+----------------------+ | FreeBSD 13.4 | PASS | SKIPPED | SKIPPED | SKIPPED | SKIPPED | +---------------------+--------------------+------------------+-------------------+-------------------+----------------------+ | FreeBSD 14.2 | PASS | SKIPPED | SKIPPED | SKIPPED | SKIPPED | +---------------------+--------------------+------------------+-------------------+-------------------+----------------------+ | RHEL8 | PASS | PASS | SKIPPED | SKIPPED | SKIPPED | +---------------------+--------------------+------------------+-------------------+-------------------+----------------------+ | Windows Server 2022 | SKIPPED | SKIPPED | SKIPPED | PASS | PASS | +---------------------+--------------------+------------------+-------------------+-------------------+----------------------+ CentOS Stream 9 Kernel: Depends on container host Compiler: gcc 11.5.0 20240719 (Red Hat 11.5.0-2) Debian 12 Kernel: Depends on container host Compiler: gcc (Debian 12.2.0-14) 12.2.0 Debian Bullseye Kernel: Depends on container host Compiler: gcc (Debian 10.2.1-6) 10.2.1 20210110 Fedora 41 (Clang) Kernel: Depends on container host Compiler: clang 19.1.5 (Fedora 19.1.5-1.fc41) Fedora 40 (Clang) Kernel: Depends on container host Compiler: clang 18.1.8 (Fedora 18.1.8-1.fc40) Fedora 40 Kernel: Depends on container host Compiler: gcc 14.2.1 20240912 (Red Hat 14.2.1-3) Fedora 41 Kernel: Depends on container host Compiler: gcc 14.2.1 20240912 (Red Hat 14.2.1-3) openSUSE Leap 15 Kernel: Depends on container host Compiler: gcc (SUSE Linux) 7.5.0 RHEL9 Kernel: Depends on container host Compiler: gcc 11.5.0 20240719 (Red Hat 11.5.0-2) Ubuntu 20.04 Kernel: Depends on container host Compiler: gcc (Ubuntu 9.4.0-1ubuntu1~20.04.2) 9.4.0 Ubuntu 22.04 Kernel: Depends on container host Compiler: gcc (Ubuntu 11.4.0-1ubuntu1~22.04) 11.4.0 Ubuntu 24.04 Kernel: Depends on container host Compiler: gcc (Ubuntu 13.3.0-6ubuntu2~24.04) 13.3.0 Alpine Kernel: Depends on container host Compiler: gcc (Alpine 14.2.0) 14.2.0 FreeBSD 13.4 Kernel: 13.4-RELEASE-p1 Compiler: clang 18.1.6 FreeBSD 14.2 Kernel: 14.2-RELEASE Compiler: clang 18.1.6 RHEL8 Kernel: Depends on container host Compiler: gcc 8.5.0 20210514 (Red Hat 8.5.0-22) Windows Server 2022 Kernel: 10.0.20348.2031 Compiler: clang 15.0.7, gcc 14.1.0 (MinGW), and MSVC VS 19.39.33521 To view detailed results, visit: https://lab.dpdk.org/results/dashboard/patchsets/32489/ UNH-IOL DPDK Community Lab To manage your email subscriptions, visit: https://lab.dpdk.org/results/dashboard/preferences/subscriptions/