From mboxrd@z Thu Jan 1 00:00:00 1970 Return-Path: Received: from mails.dpdk.org (mails.dpdk.org [217.70.189.124]) by inbox.dpdk.org (Postfix) with ESMTP id 49D1E46192 for ; Tue, 4 Feb 2025 23:22:36 +0100 (CET) Received: from mails.dpdk.org (localhost [127.0.0.1]) by mails.dpdk.org (Postfix) with ESMTP id 436F94021E; Tue, 4 Feb 2025 23:22:36 +0100 (CET) Received: from mail-pl1-f228.google.com (mail-pl1-f228.google.com [209.85.214.228]) by mails.dpdk.org (Postfix) with ESMTP id 2E484400EF for ; Tue, 4 Feb 2025 23:22:35 +0100 (CET) Received: by mail-pl1-f228.google.com with SMTP id d9443c01a7336-2166651f752so24574195ad.3 for ; Tue, 04 Feb 2025 14:22:35 -0800 (PST) DKIM-Signature: v=1; a=rsa-sha256; c=relaxed/relaxed; d=iol.unh.edu; s=unh-iol; t=1738707754; x=1739312554; darn=dpdk.org; h=references:in-reply-to:cc:to:from:subject:message-id:date:from:to :cc:subject:date:message-id:reply-to; bh=AtgIS5iyezIZdTcs6dJ4Ole4ZjXKeBAVmT7/HCT0PII=; b=jAeDengh+d6bhjLmJlyPscUR+vROvZrCEOEFj0r/rn+z1U6i4UGuDRG0exvto4J38u B1pglqzmWZjA/WFnPlNeGSiEw/u5nqEq5GQJlfhGavnFMid0ZCxnmYgNT0qJEyv/NDAd Tr3E/i/p9+1H+gGKS10cDC+FECjdONxe9J9vk= X-Google-DKIM-Signature: v=1; a=rsa-sha256; c=relaxed/relaxed; d=1e100.net; s=20230601; t=1738707754; x=1739312554; h=references:in-reply-to:cc:to:from:subject:message-id:date :x-gm-message-state:from:to:cc:subject:date:message-id:reply-to; bh=AtgIS5iyezIZdTcs6dJ4Ole4ZjXKeBAVmT7/HCT0PII=; b=MlKDCN1pWrJSCxi3AWJLDEStofqPTVKIsccS0cSLGFsvTq5iIbgY3tSDQQVV/HBjvm SyaKl9001H8+KkRVolXan1dtdFBou81nQY2hdO1pRI7MBBwjw7IKMvh+eUTprzoRcmEp GfzQpfaY3K52MChkYoLESqLCkyl1Tx541+K6qdnRWcYdh+Gb/Ld07kZRy1NMgBMicn6O v61lIPX5UJeLkJqNl5FPSrsv9jgHufo7Z6PoC5B9sU7pKkT6RlLNTw9wgiD+7rihVUoJ BgbCtyZCEKmgKL43wJulbNnTUSLIcx4+C5yGD/O1WFx2xbwCfJoSzD8xHBaNpj+JQ+fP KVZg== X-Gm-Message-State: AOJu0YzSe4rS9cNh6JjJDOs/ct0Dq71rEl9otbieEdCBLlueD0L5vd64 +BgXttGxL+82M7Nx2f+sGwJeCeZolFTUeWVs+jfe3XhUhILuvMAIbfDNIW0bsNSyq3fOduwUZSk OpzJwfRNEXfafFtrlleKktjR5t0RguHp34wFiBGnO X-Gm-Gg: ASbGncudKSnK5yLJkFX4+4AVEB0hQkc4lt+EEPn96chtibAEAGO+wzfMA69jxQwVzRs lxkx0nI751leEYIUWLIJ80l+747za0UAvDkCDI+FXpvDryr5s9tajJYzbgWYw+3touiLKpE6+R1 N++LIsAWvVHJlkp2yE0/P2U4/ihPfBx/F/h+yFQj4DhPZEAjkdahCWE3cskZ1WHl0P9No+kI3aN XewBXS4Z+PJTDhr925toS0NfBnpeQ+UdcdFemCS1MqziYB+DQqeUHs05U2Z6W2yNHkDJoLhvcR5 yYu0EExVe4ZfIMG3JCIiJf9rubJfDg== X-Google-Smtp-Source: AGHT+IFurEVSws7uxL0vDD3gMsEkbrA7T6On3STqjW0QCZHdufi0sJ+OIMRyOiZmlYd9kOD0IG7bkbpsTmpm X-Received: by 2002:a17:902:e54c:b0:21f:13a6:d432 with SMTP id d9443c01a7336-21f17df5e7amr7932705ad.14.1738707754176; Tue, 04 Feb 2025 14:22:34 -0800 (PST) Received: from postal.iol.unh.edu (postal.iol.unh.edu. [132.177.123.84]) by smtp-relay.gmail.com with ESMTPS id d9443c01a7336-21de33466ecsm5984585ad.110.2025.02.04.14.22.34 (version=TLS1_2 cipher=ECDHE-ECDSA-AES128-GCM-SHA256 bits=128/128); Tue, 04 Feb 2025 14:22:34 -0800 (PST) X-Relaying-Domain: iol.unh.edu Date: Tue, 04 Feb 2025 14:22:34 -0800 (PST) Message-ID: <67a2932a.170a0220.3143f4.d43aSMTPIN_ADDED_MISSING@mx.google.com> Received: from [172.21.0.5] (unknown [172.18.0.240]) by postal.iol.unh.edu (Postfix) with ESMTP id 5B6FA6052471; Tue, 4 Feb 2025 17:22:33 -0500 (EST) Subject: |SUCCESS| pw150868-150889 [PATCH] [v20,27/27] config: add -Wvla proj From: dpdklab@iol.unh.edu To: Test Report Cc: dpdk-test-reports@iol.unh.edu In-Reply-To: <1738686124-16173-28-git-send-email-andremue@linux.microsoft.com> References: <1738686124-16173-28-git-send-email-andremue@linux.microsoft.com> Content-Type: text/plain X-BeenThere: test-report@dpdk.org X-Mailman-Version: 2.1.29 Precedence: list List-Id: automatic DPDK test reports List-Unsubscribe: , List-Archive: List-Post: List-Help: List-Subscribe: , Errors-To: test-report-bounces@dpdk.org Test-Label: iol-sample-apps-testing Test-Status: SUCCESS http://dpdk.org/patch/150889 _Testing PASS_ Submitter: Andre Muezerie Date: Tuesday, February 04 2025 16:22:04 DPDK git baseline: Repo:dpdk Branch: master CommitID:dc4ce7c2538b713e16887eb598da309bc7b4d528 150868-150889 --> testing pass Upstream job id: ACVP-FIPS-testing#8777 Test environment and result as below: +--------------------+----------------------+----------------------+ | Environment | compressdev_zlib_pmd | dpdk_fips_validation | +====================+======================+======================+ | Ubuntu 22.04 (ARM) | PASS | SKIPPED | +--------------------+----------------------+----------------------+ | Ubuntu 22.04 | PASS | SKIPPED | +--------------------+----------------------+----------------------+ | Ubuntu 20.04 | SKIPPED | PASS | +--------------------+----------------------+----------------------+ Ubuntu 22.04 (ARM) Kernel: 5.15.0-97-generic Compiler: gcc gcc (Ubuntu 11.4.0-1ubuntu1~22.04) 11.4.0 Ubuntu 22.04 Kernel: 5.15.0-100-generic Compiler: gcc gcc (Ubuntu 11.4.0-1ubuntu1~22.04) 11.4.0 Ubuntu 20.04 Kernel: Depends on container host Compiler: gcc (Ubuntu 9.4.0-1ubuntu1~20.04.2) 9.4.0 To view detailed results, visit: https://lab.dpdk.org/results/dashboard/patchsets/32489/ UNH-IOL DPDK Community Lab To manage your email subscriptions, visit: https://lab.dpdk.org/results/dashboard/preferences/subscriptions/