From mboxrd@z Thu Jan 1 00:00:00 1970 Return-Path: Received: from mails.dpdk.org (mails.dpdk.org [217.70.189.124]) by inbox.dpdk.org (Postfix) with ESMTP id 6A4E646192 for ; Tue, 4 Feb 2025 23:32:59 +0100 (CET) Received: from mails.dpdk.org (localhost [127.0.0.1]) by mails.dpdk.org (Postfix) with ESMTP id 66D2C4021E; Tue, 4 Feb 2025 23:32:59 +0100 (CET) Received: from mail-il1-f225.google.com (mail-il1-f225.google.com [209.85.166.225]) by mails.dpdk.org (Postfix) with ESMTP id E4066400EF for ; Tue, 4 Feb 2025 23:32:57 +0100 (CET) Received: by mail-il1-f225.google.com with SMTP id e9e14a558f8ab-3d04721eb72so5455975ab.3 for ; Tue, 04 Feb 2025 14:32:57 -0800 (PST) DKIM-Signature: v=1; a=rsa-sha256; c=relaxed/relaxed; d=iol.unh.edu; s=unh-iol; t=1738708377; x=1739313177; darn=dpdk.org; h=references:in-reply-to:cc:to:from:subject:message-id:date:from:to :cc:subject:date:message-id:reply-to; bh=AjU3Z257N6ytEfP294hA3NMWYx6IprBzQ4JC2FVuarA=; b=L7Jj1Ork3auJRW7IlTUgGMrnpywovtuYC010+5QNhpk0vxQr1Qw0szz0iohrz7Zu1d NQPLhAJcc+x2iy7+8746lFRAY9miZHsPJBcWs3jE035bVplMsPHIe+63tfyqjZvlGb6+ 4akS5wmvDL31eRihspX8VbvS8Ske3IPiNMtak= X-Google-DKIM-Signature: v=1; a=rsa-sha256; c=relaxed/relaxed; d=1e100.net; s=20230601; t=1738708377; x=1739313177; h=references:in-reply-to:cc:to:from:subject:message-id:date :x-gm-message-state:from:to:cc:subject:date:message-id:reply-to; bh=AjU3Z257N6ytEfP294hA3NMWYx6IprBzQ4JC2FVuarA=; b=pdB1T6A/r3ruV3hUoyW48DOQ6t23wGnH0r8WQDzR6c8aBl/6unQeScsXXHCJ50ig3p TTF1zJgP7Ln9wTlV1QoZbOdBUH8BBi1mX5Tummqq0ojuUvNNMmpcqlngx1NptzvnescA 7ln/W1IgcFvjSgFera4p/6zqz/86VPpypIduibWlKbY4vbS9vyYJETSFxYSlEu2gXo5j G3Hz69Sjxq7AP0JAN8s7T98JRf/X16GsWwa59akZBw+6j/KHE66RwhD+kx0K/tBpReBV NzApLO5HnZMLn19SqD0Da9VR/UINQRZlmXrePtMXTJRfZ05pSzwJRmomLk/E6P5AXBTm JEdg== X-Gm-Message-State: AOJu0Yx6EydC8QNApPv0EL8C7Ua9F6d78KuwAK0+QGeXtyDqV+VJToxE /9Qj3HV3nbLp1Bzu+/Yf6HGJ/Zb4CBKkutRjjctNyu8V8FgWwvnvuPZes0S1eoouAd8UHWbhce9 x2q2FcRojfh5ByO+kdQNljwFQVt1u+haerBvJ1Le1iATIpgX34ctblPzn X-Gm-Gg: ASbGncvOtsJo0fAaFIpaZEcgQJxfTKgV20xhnJmHlsNUOeAlI5n8+zHhfT5SI6PTrt5 iE6CeMiZtorbH6+0zCScko1kOCbrZnVLeXfFWSBKtSgQgdFDVTQ1zIsSyh7VAGlfJKRpi9u9Wss HlbskGb4K8b9YssgarEgOEYCMTSz8/kIDDxLQW8/sIettNi6xpAWNG9INcCmIwebvbEgxhxzgSj LNtbe9Cfpl28gTWcX0kr71+wEvDDgJzKy9GjRZ6gIKdC69zH1QeYsNh1X09zqW0+RfxI/+NpJyz KYtZ6jHPTshbehN/svIpIKWiAXwyt6hTCPwtum/fWQ== X-Google-Smtp-Source: AGHT+IEH6XCBSGkwUiGbCu4MCfFKpSmzoZBOFdcj6JlA5VS4Ro4k9wLNwwL9nC82DGTRdW+yZSXnqlxeRF33 X-Received: by 2002:a05:6602:6ccb:b0:844:b6bd:4b35 with SMTP id ca18e2360f4ac-854ea36a954mr88623639f.0.1738708377095; Tue, 04 Feb 2025 14:32:57 -0800 (PST) Received: from postal.iol.unh.edu (postal.iol.unh.edu. [2606:4100:3880:1234::84]) by smtp-relay.gmail.com with ESMTPS id 8926c6da1cb9f-4ec746bff30sm751639173.69.2025.02.04.14.32.57 (version=TLS1_2 cipher=ECDHE-ECDSA-AES128-GCM-SHA256 bits=128/128); Tue, 04 Feb 2025 14:32:57 -0800 (PST) X-Relaying-Domain: iol.unh.edu Date: Tue, 04 Feb 2025 14:32:57 -0800 (PST) Message-ID: <67a29599.050a0220.3b89c4.7513SMTPIN_ADDED_MISSING@mx.google.com> Received: from [172.21.0.5] (unknown [172.18.0.240]) by postal.iol.unh.edu (Postfix) with ESMTP id 9A70D6052471; Tue, 4 Feb 2025 17:32:56 -0500 (EST) Subject: |SUCCESS| pw150865 [PATCH] [RFC] ci: Add support for Cirrus-CI servi From: dpdklab@iol.unh.edu To: Test Report Cc: dpdk-test-reports@iol.unh.edu In-Reply-To: <20250204160739.1603197-1-aconole@redhat.com> References: <20250204160739.1603197-1-aconole@redhat.com> Content-Type: text/plain X-BeenThere: test-report@dpdk.org X-Mailman-Version: 2.1.29 Precedence: list List-Id: automatic DPDK test reports List-Unsubscribe: , List-Archive: List-Post: List-Help: List-Subscribe: , Errors-To: test-report-bounces@dpdk.org Test-Label: iol-unit-amd64-testing Test-Status: SUCCESS http://dpdk.org/patch/150865 _Testing PASS_ Submitter: Aaron Conole Date: Tuesday, February 04 2025 16:07:39 DPDK git baseline: Repo:dpdk Branch: master CommitID:dc4ce7c2538b713e16887eb598da309bc7b4d528 150865 --> testing pass Upstream job id: Generic-Unit-Test-DPDK#311547 Test environment and result as below: +---------------------+----------------+ | Environment | dpdk_unit_test | +=====================+================+ | CentOS Stream 9 | PASS | +---------------------+----------------+ | RHEL8 | PASS | +---------------------+----------------+ | Debian Bullseye | PASS | +---------------------+----------------+ | Debian 12 | PASS | +---------------------+----------------+ | Ubuntu 20.04 | PASS | +---------------------+----------------+ | Fedora 41 | PASS | +---------------------+----------------+ | Fedora 40 | PASS | +---------------------+----------------+ | Fedora 41 (Clang) | PASS | +---------------------+----------------+ | RHEL9 | PASS | +---------------------+----------------+ | Fedora 40 (Clang) | PASS | +---------------------+----------------+ | Ubuntu 24.04 | PASS | +---------------------+----------------+ | Ubuntu 22.04 | PASS | +---------------------+----------------+ | Windows Server 2022 | PASS | +---------------------+----------------+ CentOS Stream 9 Kernel: Depends on container host Compiler: gcc 11.5.0 20240719 (Red Hat 11.5.0-2) RHEL8 Kernel: Depends on container host Compiler: gcc 8.5.0 20210514 (Red Hat 8.5.0-22) Debian Bullseye Kernel: Depends on container host Compiler: gcc (Debian 10.2.1-6) 10.2.1 20210110 Debian 12 Kernel: Depends on container host Compiler: gcc (Debian 12.2.0-14) 12.2.0 Ubuntu 20.04 Kernel: Depends on container host Compiler: gcc (Ubuntu 9.4.0-1ubuntu1~20.04.2) 9.4.0 Fedora 41 Kernel: Depends on container host Compiler: gcc 14.2.1 20240912 (Red Hat 14.2.1-3) Fedora 40 Kernel: Depends on container host Compiler: gcc 14.2.1 20240912 (Red Hat 14.2.1-3) Fedora 41 (Clang) Kernel: Depends on container host Compiler: clang 19.1.5 (Fedora 19.1.5-1.fc41) RHEL9 Kernel: Depends on container host Compiler: gcc 11.5.0 20240719 (Red Hat 11.5.0-2) Fedora 40 (Clang) Kernel: Depends on container host Compiler: clang 18.1.8 (Fedora 18.1.8-1.fc40) Ubuntu 24.04 Kernel: Depends on container host Compiler: gcc (Ubuntu 13.3.0-6ubuntu2~24.04) 13.3.0 Ubuntu 22.04 Kernel: Depends on container host Compiler: gcc (Ubuntu 11.4.0-1ubuntu1~22.04) 11.4.0 Windows Server 2022 Kernel: 10.0.20348.2031 Compiler: clang 15.0.7, gcc 14.1.0 (MinGW), and MSVC VS 19.39.33521 To view detailed results, visit: https://lab.dpdk.org/results/dashboard/patchsets/32488/ UNH-IOL DPDK Community Lab To manage your email subscriptions, visit: https://lab.dpdk.org/results/dashboard/preferences/subscriptions/