From mboxrd@z Thu Jan  1 00:00:00 1970
Return-Path: <test-report-bounces@dpdk.org>
Received: from mails.dpdk.org (mails.dpdk.org [217.70.189.124])
	by inbox.dpdk.org (Postfix) with ESMTP id 53E6D46192
	for <public@inbox.dpdk.org>; Tue,  4 Feb 2025 23:54:19 +0100 (CET)
Received: from mails.dpdk.org (localhost [127.0.0.1])
	by mails.dpdk.org (Postfix) with ESMTP id 4E7B94021E;
	Tue,  4 Feb 2025 23:54:19 +0100 (CET)
Received: from mail-oa1-f99.google.com (mail-oa1-f99.google.com
 [209.85.160.99]) by mails.dpdk.org (Postfix) with ESMTP id E4D01400EF
 for <test-report@dpdk.org>; Tue,  4 Feb 2025 23:54:17 +0100 (CET)
Received: by mail-oa1-f99.google.com with SMTP id
 586e51a60fabf-29fcbf3d709so1964968fac.2
 for <test-report@dpdk.org>; Tue, 04 Feb 2025 14:54:17 -0800 (PST)
DKIM-Signature: v=1; a=rsa-sha256; c=relaxed/relaxed;
 d=iol.unh.edu; s=unh-iol; t=1738709657; x=1739314457; darn=dpdk.org;
 h=references:in-reply-to:cc:to:from:subject:message-id:date:from:to
 :cc:subject:date:message-id:reply-to;
 bh=1c6zi43ynuvk9QAIocx+4Qi7MsitkZDM+F0fEGLJSFQ=;
 b=KZcMx6IIaKvg93MUNwCkN55kPf8TKW2f+YXWHqG18qL1yZR+Q70Uow2XIxj3X7frt8
 zHrwy/BcP3VznEiWDFcO36M2BprAxZ8XSneRkYBuP/o1sVR8UW6HSCCdGAICUz//CYk6
 27Z/M3YgJT+Eypx7deMQcmHX6Ebz6fOBpw/Ao=
X-Google-DKIM-Signature: v=1; a=rsa-sha256; c=relaxed/relaxed;
 d=1e100.net; s=20230601; t=1738709657; x=1739314457;
 h=references:in-reply-to:cc:to:from:subject:message-id:date
 :x-gm-message-state:from:to:cc:subject:date:message-id:reply-to;
 bh=1c6zi43ynuvk9QAIocx+4Qi7MsitkZDM+F0fEGLJSFQ=;
 b=ttYhRN7qresMeMpJzelQjvq9Tzngxb3bJS+DMbkZ53F85i4fwU2eaJ7o3viSgdk3om
 vxWF9qIuXobI4Tce4Gcbo4dExVeJI3z6p8eoJ4oJdHk6feHQu/hzWCqa2qnVX/CmPank
 xtQg6pHyinjm47+Zgkci75eng8Qbcj8OQJCqKBwAmwcfDxuMbIfZuKlHU5HmQioiJaIC
 tcrh981tWkDfRHYoTam0JUaagTb0vHZCs8bBCWSpPK0QXxjA2ktXLmGVUTBZUmT3QgPw
 uCd6ioQ4BXZl7rLCV7C9pTqCBhFU4jTa9VmCsxrOx9Isy8RByo3m7MWuUVdEypGuP38j
 ctGg==
X-Gm-Message-State: AOJu0YyGNqn5PNxehg8kichqsrYPlVBrfAK0Jtek6/4zqDE45sqYhZXi
 w7ixTApP6+TteHW9cu+Vxx1SK0JxxGXdHAQnlCSSNoXaStPF8vVAwoDAOIFLOuAs8Rkx1u+LccK
 9ARKgAjEjiPDvR9coeLOEPCFd88AAp8/RwyAz8ZajJYnHWBdzAyFXMxpq
X-Gm-Gg: ASbGncsGIegypjx0lA1q1z+HBJ3ZIjl7g6PKxqLLYhZYpUJSRQGD0PlpeCERgmsWP1+
 ihUyHmHJKPwNpinFgiRUhA0tcgXYfR2/wuHfr2AwnDc+YGUck18YVDQSfu19YY4rLdBW7zx1Mq0
 wTZ1Pbdovsil7IfSL8DaJgzbGz0hj6Uc9TlxyYEuhktC96amGpLt29ugZE01nswsQs63oweay2c
 ffI08o+8JPVcv3DerBJqGJ/f85dEXGWpHBykUU57tlXqnMoXkoJTtVnuACzs6JVB56mpQ2Y1VLf
 NQtaN+BSWmlyE3z7NyDj8RkHpt9Rhz2Ep7XAyKCmNQ==
X-Google-Smtp-Source: AGHT+IEBjezcHur0jEzkKCRs8RyrBG/NiFt8XvdqCLhwseVK+Zg57XBmzO5V8zy1/RbUYy5E2rbIukI/J5WH
X-Received: by 2002:a05:6870:4204:b0:29e:4bc4:97ca with SMTP id
 586e51a60fabf-2b804fa4044mr404506fac.21.1738709657047; 
 Tue, 04 Feb 2025 14:54:17 -0800 (PST)
Received: from postal.iol.unh.edu (postal.iol.unh.edu.
 [2606:4100:3880:1234::84]) by smtp-relay.gmail.com with ESMTPS id
 586e51a60fabf-2b7f51d41eesm89582fac.7.2025.02.04.14.54.16
 (version=TLS1_2 cipher=ECDHE-ECDSA-AES128-GCM-SHA256 bits=128/128);
 Tue, 04 Feb 2025 14:54:17 -0800 (PST)
X-Relaying-Domain: iol.unh.edu
Date: Tue, 04 Feb 2025 14:54:17 -0800 (PST)
Message-ID: <67a29a99.050a0220.2e5cca.4e7bSMTPIN_ADDED_MISSING@mx.google.com>
Received: from [172.21.0.7] (unknown [172.18.0.240])
 by postal.iol.unh.edu (Postfix) with ESMTP id 242BE6052471;
 Tue,  4 Feb 2025 17:54:16 -0500 (EST)
Subject: |SUCCESS| pw150865 [PATCH] [RFC] ci: Add support for Cirrus-CI servi
From: dpdklab@iol.unh.edu
To: Test Report <test-report@dpdk.org>
Cc: dpdk-test-reports@iol.unh.edu
In-Reply-To: <20250204160739.1603197-1-aconole@redhat.com>
References: <20250204160739.1603197-1-aconole@redhat.com>
Content-Type: text/plain
X-BeenThere: test-report@dpdk.org
X-Mailman-Version: 2.1.29
Precedence: list
List-Id: automatic DPDK test reports <test-report.dpdk.org>
List-Unsubscribe: <https://mails.dpdk.org/options/test-report>,
 <mailto:test-report-request@dpdk.org?subject=unsubscribe>
List-Archive: <http://mails.dpdk.org/archives/test-report/>
List-Post: <mailto:test-report@dpdk.org>
List-Help: <mailto:test-report-request@dpdk.org?subject=help>
List-Subscribe: <https://mails.dpdk.org/listinfo/test-report>,
 <mailto:test-report-request@dpdk.org?subject=subscribe>
Errors-To: test-report-bounces@dpdk.org

Test-Label: iol-compile-amd64-testing
Test-Status: SUCCESS
http://dpdk.org/patch/150865

_Testing PASS_

Submitter: Aaron Conole <aconole@redhat.com>
Date: Tuesday, February 04 2025 16:07:39 
DPDK git baseline: Repo:dpdk
  Branch: master
  CommitID:dc4ce7c2538b713e16887eb598da309bc7b4d528

150865 --> testing pass

Upstream job id: Generic-DPDK-Compile-Meson#357659

Test environment and result as below:

+---------------------+--------------------+------------------+-------------------+-------------------+----------------------+-------------------------+
|     Environment     | dpdk_meson_compile | dpdk_compile_ovs | dpdk_compile_spdk | dpdk_msvc_compile | dpdk_mingw64_compile | dpdk_llvm_clang_compile |
+=====================+====================+==================+===================+===================+======================+=========================+
| CentOS Stream 9     | PASS               | PASS             | PASS              | SKIPPED           | SKIPPED              | SKIPPED                 |
+---------------------+--------------------+------------------+-------------------+-------------------+----------------------+-------------------------+
| Debian Bullseye     | PASS               | PASS             | PASS              | SKIPPED           | SKIPPED              | SKIPPED                 |
+---------------------+--------------------+------------------+-------------------+-------------------+----------------------+-------------------------+
| Fedora 40 (Clang)   | PASS               | PASS             | PASS              | SKIPPED           | SKIPPED              | SKIPPED                 |
+---------------------+--------------------+------------------+-------------------+-------------------+----------------------+-------------------------+
| Debian 12           | PASS               | PASS             | PASS              | SKIPPED           | SKIPPED              | SKIPPED                 |
+---------------------+--------------------+------------------+-------------------+-------------------+----------------------+-------------------------+
| Fedora 41 (Clang)   | PASS               | PASS             | PASS              | SKIPPED           | SKIPPED              | SKIPPED                 |
+---------------------+--------------------+------------------+-------------------+-------------------+----------------------+-------------------------+
| RHEL8               | PASS               | PASS             | SKIPPED           | SKIPPED           | SKIPPED              | SKIPPED                 |
+---------------------+--------------------+------------------+-------------------+-------------------+----------------------+-------------------------+
| Fedora 40           | PASS               | PASS             | PASS              | SKIPPED           | SKIPPED              | SKIPPED                 |
+---------------------+--------------------+------------------+-------------------+-------------------+----------------------+-------------------------+
| openSUSE Leap 15    | PASS               | SKIPPED          | SKIPPED           | SKIPPED           | SKIPPED              | SKIPPED                 |
+---------------------+--------------------+------------------+-------------------+-------------------+----------------------+-------------------------+
| Ubuntu 20.04        | PASS               | SKIPPED          | SKIPPED           | SKIPPED           | SKIPPED              | SKIPPED                 |
+---------------------+--------------------+------------------+-------------------+-------------------+----------------------+-------------------------+
| Fedora 41           | PASS               | PASS             | PASS              | SKIPPED           | SKIPPED              | SKIPPED                 |
+---------------------+--------------------+------------------+-------------------+-------------------+----------------------+-------------------------+
| RHEL9               | PASS               | PASS             | SKIPPED           | SKIPPED           | SKIPPED              | SKIPPED                 |
+---------------------+--------------------+------------------+-------------------+-------------------+----------------------+-------------------------+
| Ubuntu 22.04        | PASS               | PASS             | PASS              | SKIPPED           | SKIPPED              | SKIPPED                 |
+---------------------+--------------------+------------------+-------------------+-------------------+----------------------+-------------------------+
| Ubuntu 24.04        | PASS               | PASS             | PASS              | SKIPPED           | SKIPPED              | SKIPPED                 |
+---------------------+--------------------+------------------+-------------------+-------------------+----------------------+-------------------------+
| Alpine              | PASS               | PASS             | SKIPPED           | SKIPPED           | SKIPPED              | SKIPPED                 |
+---------------------+--------------------+------------------+-------------------+-------------------+----------------------+-------------------------+
| FreeBSD 13.4        | PASS               | SKIPPED          | SKIPPED           | SKIPPED           | SKIPPED              | SKIPPED                 |
+---------------------+--------------------+------------------+-------------------+-------------------+----------------------+-------------------------+
| FreeBSD 14.2        | PASS               | SKIPPED          | SKIPPED           | SKIPPED           | SKIPPED              | SKIPPED                 |
+---------------------+--------------------+------------------+-------------------+-------------------+----------------------+-------------------------+
| Windows Server 2022 | SKIPPED            | SKIPPED          | SKIPPED           | PASS              | PASS                 | PASS                    |
+---------------------+--------------------+------------------+-------------------+-------------------+----------------------+-------------------------+


CentOS Stream 9
	Kernel: Depends on container host
	Compiler: gcc 11.5.0 20240719 (Red Hat 11.5.0-2)

Debian Bullseye
	Kernel: Depends on container host
	Compiler: gcc (Debian 10.2.1-6) 10.2.1 20210110

Fedora 40 (Clang)
	Kernel: Depends on container host
	Compiler: clang 18.1.8 (Fedora 18.1.8-1.fc40)

Debian 12
	Kernel: Depends on container host
	Compiler: gcc (Debian 12.2.0-14) 12.2.0

Fedora 41 (Clang)
	Kernel: Depends on container host
	Compiler: clang 19.1.5 (Fedora 19.1.5-1.fc41)

RHEL8
	Kernel: Depends on container host
	Compiler: gcc 8.5.0 20210514 (Red Hat 8.5.0-22)

Fedora 40
	Kernel: Depends on container host
	Compiler: gcc 14.2.1 20240912 (Red Hat 14.2.1-3)

openSUSE Leap 15
	Kernel: Depends on container host
	Compiler: gcc (SUSE Linux) 7.5.0

Ubuntu 20.04
	Kernel: Depends on container host
	Compiler: gcc (Ubuntu 9.4.0-1ubuntu1~20.04.2) 9.4.0

Fedora 41
	Kernel: Depends on container host
	Compiler: gcc 14.2.1 20240912 (Red Hat 14.2.1-3)

RHEL9
	Kernel: Depends on container host
	Compiler: gcc 11.5.0 20240719 (Red Hat 11.5.0-2)

Ubuntu 22.04
	Kernel: Depends on container host
	Compiler: gcc (Ubuntu 11.4.0-1ubuntu1~22.04) 11.4.0

Ubuntu 24.04
	Kernel: Depends on container host
	Compiler: gcc (Ubuntu 13.3.0-6ubuntu2~24.04) 13.3.0

Alpine
	Kernel: Depends on container host
	Compiler: gcc (Alpine 14.2.0) 14.2.0

FreeBSD 13.4
	Kernel: 13.4-RELEASE-p1
	Compiler: clang 18.1.6

FreeBSD 14.2
	Kernel: 14.2-RELEASE
	Compiler: clang 18.1.6

Windows Server 2022
	Kernel: 10.0.20348.2031
	Compiler: clang 15.0.7, gcc 14.1.0 (MinGW), and MSVC VS 19.39.33521

To view detailed results, visit:
https://lab.dpdk.org/results/dashboard/patchsets/32488/

UNH-IOL DPDK Community Lab

To manage your email subscriptions, visit: 
https://lab.dpdk.org/results/dashboard/preferences/subscriptions/