From mboxrd@z Thu Jan 1 00:00:00 1970 Return-Path: Received: from mails.dpdk.org (mails.dpdk.org [217.70.189.124]) by inbox.dpdk.org (Postfix) with ESMTP id 72DCE46192 for ; Tue, 4 Feb 2025 23:58:56 +0100 (CET) Received: from mails.dpdk.org (localhost [127.0.0.1]) by mails.dpdk.org (Postfix) with ESMTP id 6FCDF4021E; Tue, 4 Feb 2025 23:58:56 +0100 (CET) Received: from mail-yw1-f226.google.com (mail-yw1-f226.google.com [209.85.128.226]) by mails.dpdk.org (Postfix) with ESMTP id C1F36400EF for ; Tue, 4 Feb 2025 23:58:55 +0100 (CET) Received: by mail-yw1-f226.google.com with SMTP id 00721157ae682-6f975a19f4fso12362687b3.1 for ; Tue, 04 Feb 2025 14:58:55 -0800 (PST) DKIM-Signature: v=1; a=rsa-sha256; c=relaxed/relaxed; d=iol.unh.edu; s=unh-iol; t=1738709935; x=1739314735; darn=dpdk.org; h=references:in-reply-to:cc:to:from:subject:message-id:date:from:to :cc:subject:date:message-id:reply-to; bh=haenvr0lRsB4+lervmUMRjiH/7BMIJ8VMCpRdWaVSwQ=; b=KAsvq0K0QGYvJwgq4Vm2bOHDmMp1R8LeCXen1xcjvAAwwYWVST6h0U2HaFyQ/zkCKA 4wiKNnZXVCm6xP0yxkOyvQbmvhPjw4nIXl88gPoA9Z1ljuQb9/56J2X3/GnatYXDhPBM Qf7dq+mrdo7h1QYHKs/kuhHxCp13l7U1QusmY= X-Google-DKIM-Signature: v=1; a=rsa-sha256; c=relaxed/relaxed; d=1e100.net; s=20230601; t=1738709935; x=1739314735; h=references:in-reply-to:cc:to:from:subject:message-id:date :x-gm-message-state:from:to:cc:subject:date:message-id:reply-to; bh=haenvr0lRsB4+lervmUMRjiH/7BMIJ8VMCpRdWaVSwQ=; b=hlQApbVUSx8FNQt5ZuBrOLTaZCJCjbCY6gCdJLODmbXJTZwYwcfY4vp2V+9jEfMHb5 bgWUHT5LuFWV3qx+npbXyf0pfZt4B+we08b1X1USGMOITuHi480DpcwHaDRaADDEBgJg sLsFJAtH8i674Vok/cMb4X5k1GRa1JOHEkgq62jlbFEuusaEb69s8Y+U5c8MXQGpezRl zuqbUEtS57bFS2sh3zwmdy0ZOQo4jPHIXGsPcdbrDb25vF8q9E/ckE9Ql3H7poIHTy/A qbr5l6xH5fFTphmiuBL4chmb3/nJKNg9p6fwSPuNf3mgN81ug/LJeTWFRc94hXP6DrZK OhAw== X-Gm-Message-State: AOJu0YwATMRfqY8Sws1Uiceykat9I5dtDbxYzUiQFjrl/COeCZfC4trd Nga7Mf3BaabpssTo0ZHtb6z/SkUc7SnGZaZJIRC40V+7R18OwnsRYOStTCTiwa6qb4kumeyazUh LCxwCuSealdo/oaq2urRL+skFajhodRux45TOKj9MU0kwOSI+RK6SpjHl X-Gm-Gg: ASbGncsZUplTzhj4DGRt0f+v/2xLKs9ZRJBLTmchIDkIo5mYTEnBxPMJlKKCWOm6obZ TRwgKWBxozTw/z1Cs7OoNdBzoIqTINuGp9dlgdwzWNcnqz5amRd1NznDlPs/0QLZPtvmsJft2Q6 qQ9GdGb6XTTsrZGSZneWlatbW6uC+GsfNEBz42hWxdWs3AY4XmZxMz+e/qSeIslBa9SGvO+4ZMl R9VKa7nTYu5yx3AI+TkvkZeeFaFBr+7rFJUvsuTXpkZJ6AaDJ1H1YpenyJrJzQ4aiadSlZReUFb bzn1tkx9ozGku4I1xz03+vI/Lb+7RNthWO7v6elYng== X-Google-Smtp-Source: AGHT+IEBGdGq2rzndmlGN8vsTm4xf/eFXcy844LC6v72oSK6X+f/d5a2jrQp6nFs5hWZmrFsBFmzEvYwvSZs X-Received: by 2002:a05:690c:638a:b0:6f9:7f1c:5390 with SMTP id 00721157ae682-6f989f63273mr5657317b3.26.1738709935222; Tue, 04 Feb 2025 14:58:55 -0800 (PST) Received: from postal.iol.unh.edu (postal.iol.unh.edu. [2606:4100:3880:1234::84]) by smtp-relay.gmail.com with ESMTPS id 00721157ae682-6f8c460d232sm6081837b3.10.2025.02.04.14.58.55 (version=TLS1_2 cipher=ECDHE-ECDSA-AES128-GCM-SHA256 bits=128/128); Tue, 04 Feb 2025 14:58:55 -0800 (PST) X-Relaying-Domain: iol.unh.edu Date: Tue, 04 Feb 2025 14:58:55 -0800 (PST) Message-ID: <67a29baf.050a0220.1659bf.babcSMTPIN_ADDED_MISSING@mx.google.com> Received: from [172.21.0.5] (unknown [172.18.0.240]) by postal.iol.unh.edu (Postfix) with ESMTP id CBD626052471; Tue, 4 Feb 2025 17:58:54 -0500 (EST) Subject: |SUCCESS| pw150868-150889 [PATCH] [v20,27/27] config: add -Wvla proj From: dpdklab@iol.unh.edu To: Test Report Cc: dpdk-test-reports@iol.unh.edu In-Reply-To: <1738686124-16173-28-git-send-email-andremue@linux.microsoft.com> References: <1738686124-16173-28-git-send-email-andremue@linux.microsoft.com> Content-Type: text/plain X-BeenThere: test-report@dpdk.org X-Mailman-Version: 2.1.29 Precedence: list List-Id: automatic DPDK test reports List-Unsubscribe: , List-Archive: List-Post: List-Help: List-Subscribe: , Errors-To: test-report-bounces@dpdk.org Test-Label: iol-compile-amd64-testing Test-Status: SUCCESS http://dpdk.org/patch/150889 _Testing PASS_ Submitter: Andre Muezerie Date: Tuesday, February 04 2025 16:22:04 DPDK git baseline: Repo:dpdk Branch: master CommitID:dc4ce7c2538b713e16887eb598da309bc7b4d528 150868-150889 --> testing pass Upstream job id: Windows-Compile-DPDK-Native#26302 Test environment and result as below: +---------------------+--------------------+------------------+-------------------+-------------------+----------------------+-------------------------+ | Environment | dpdk_meson_compile | dpdk_compile_ovs | dpdk_compile_spdk | dpdk_msvc_compile | dpdk_mingw64_compile | dpdk_llvm_clang_compile | +=====================+====================+==================+===================+===================+======================+=========================+ | CentOS Stream 9 | PASS | PASS | PASS | SKIPPED | SKIPPED | SKIPPED | +---------------------+--------------------+------------------+-------------------+-------------------+----------------------+-------------------------+ | Debian 12 | PASS | PASS | PASS | SKIPPED | SKIPPED | SKIPPED | +---------------------+--------------------+------------------+-------------------+-------------------+----------------------+-------------------------+ | Debian Bullseye | PASS | PASS | PASS | SKIPPED | SKIPPED | SKIPPED | +---------------------+--------------------+------------------+-------------------+-------------------+----------------------+-------------------------+ | Fedora 41 (Clang) | PASS | PASS | PASS | SKIPPED | SKIPPED | SKIPPED | +---------------------+--------------------+------------------+-------------------+-------------------+----------------------+-------------------------+ | Fedora 40 (Clang) | PASS | PASS | PASS | SKIPPED | SKIPPED | SKIPPED | +---------------------+--------------------+------------------+-------------------+-------------------+----------------------+-------------------------+ | Fedora 40 | PASS | PASS | PASS | SKIPPED | SKIPPED | SKIPPED | +---------------------+--------------------+------------------+-------------------+-------------------+----------------------+-------------------------+ | Fedora 41 | PASS | PASS | PASS | SKIPPED | SKIPPED | SKIPPED | +---------------------+--------------------+------------------+-------------------+-------------------+----------------------+-------------------------+ | openSUSE Leap 15 | PASS | SKIPPED | SKIPPED | SKIPPED | SKIPPED | SKIPPED | +---------------------+--------------------+------------------+-------------------+-------------------+----------------------+-------------------------+ | RHEL9 | PASS | PASS | SKIPPED | SKIPPED | SKIPPED | SKIPPED | +---------------------+--------------------+------------------+-------------------+-------------------+----------------------+-------------------------+ | Ubuntu 20.04 | PASS | SKIPPED | SKIPPED | SKIPPED | SKIPPED | SKIPPED | +---------------------+--------------------+------------------+-------------------+-------------------+----------------------+-------------------------+ | Ubuntu 22.04 | PASS | PASS | PASS | SKIPPED | SKIPPED | SKIPPED | +---------------------+--------------------+------------------+-------------------+-------------------+----------------------+-------------------------+ | Ubuntu 24.04 | PASS | PASS | PASS | SKIPPED | SKIPPED | SKIPPED | +---------------------+--------------------+------------------+-------------------+-------------------+----------------------+-------------------------+ | Alpine | PASS | PASS | SKIPPED | SKIPPED | SKIPPED | SKIPPED | +---------------------+--------------------+------------------+-------------------+-------------------+----------------------+-------------------------+ | FreeBSD 13.4 | PASS | SKIPPED | SKIPPED | SKIPPED | SKIPPED | SKIPPED | +---------------------+--------------------+------------------+-------------------+-------------------+----------------------+-------------------------+ | FreeBSD 14.2 | PASS | SKIPPED | SKIPPED | SKIPPED | SKIPPED | SKIPPED | +---------------------+--------------------+------------------+-------------------+-------------------+----------------------+-------------------------+ | RHEL8 | PASS | PASS | SKIPPED | SKIPPED | SKIPPED | SKIPPED | +---------------------+--------------------+------------------+-------------------+-------------------+----------------------+-------------------------+ | Windows Server 2022 | SKIPPED | SKIPPED | SKIPPED | PASS | PASS | PASS | +---------------------+--------------------+------------------+-------------------+-------------------+----------------------+-------------------------+ CentOS Stream 9 Kernel: Depends on container host Compiler: gcc 11.5.0 20240719 (Red Hat 11.5.0-2) Debian 12 Kernel: Depends on container host Compiler: gcc (Debian 12.2.0-14) 12.2.0 Debian Bullseye Kernel: Depends on container host Compiler: gcc (Debian 10.2.1-6) 10.2.1 20210110 Fedora 41 (Clang) Kernel: Depends on container host Compiler: clang 19.1.5 (Fedora 19.1.5-1.fc41) Fedora 40 (Clang) Kernel: Depends on container host Compiler: clang 18.1.8 (Fedora 18.1.8-1.fc40) Fedora 40 Kernel: Depends on container host Compiler: gcc 14.2.1 20240912 (Red Hat 14.2.1-3) Fedora 41 Kernel: Depends on container host Compiler: gcc 14.2.1 20240912 (Red Hat 14.2.1-3) openSUSE Leap 15 Kernel: Depends on container host Compiler: gcc (SUSE Linux) 7.5.0 RHEL9 Kernel: Depends on container host Compiler: gcc 11.5.0 20240719 (Red Hat 11.5.0-2) Ubuntu 20.04 Kernel: Depends on container host Compiler: gcc (Ubuntu 9.4.0-1ubuntu1~20.04.2) 9.4.0 Ubuntu 22.04 Kernel: Depends on container host Compiler: gcc (Ubuntu 11.4.0-1ubuntu1~22.04) 11.4.0 Ubuntu 24.04 Kernel: Depends on container host Compiler: gcc (Ubuntu 13.3.0-6ubuntu2~24.04) 13.3.0 Alpine Kernel: Depends on container host Compiler: gcc (Alpine 14.2.0) 14.2.0 FreeBSD 13.4 Kernel: 13.4-RELEASE-p1 Compiler: clang 18.1.6 FreeBSD 14.2 Kernel: 14.2-RELEASE Compiler: clang 18.1.6 RHEL8 Kernel: Depends on container host Compiler: gcc 8.5.0 20210514 (Red Hat 8.5.0-22) Windows Server 2022 Kernel: 10.0.20348.2031 Compiler: clang 15.0.7, gcc 14.1.0 (MinGW), and MSVC VS 19.39.33521 To view detailed results, visit: https://lab.dpdk.org/results/dashboard/patchsets/32489/ UNH-IOL DPDK Community Lab To manage your email subscriptions, visit: https://lab.dpdk.org/results/dashboard/preferences/subscriptions/