automatic DPDK test reports
 help / color / mirror / Atom feed
From: dpdklab@iol.unh.edu
To: Test Report <test-report@dpdk.org>
Cc: dpdk-test-reports@iol.unh.edu
Subject: |SUCCESS| pw150905-150924 [PATCH] [v21,27/27] config: add -Wvla proj
Date: Tue, 04 Feb 2025 15:01:02 -0800 (PST)	[thread overview]
Message-ID: <67a29c2e.170a0220.31cd55.b544SMTPIN_ADDED_MISSING@mx.google.com> (raw)
In-Reply-To: <1738702638-22363-28-git-send-email-andremue@linux.microsoft.com>

Test-Label: iol-compile-amd64-testing
Test-Status: SUCCESS
http://dpdk.org/patch/150924

_Testing PASS_

Submitter: Andre Muezerie <andremue@linux.microsoft.com>
Date: Tuesday, February 04 2025 20:57:18 
DPDK git baseline: Repo:dpdk
  Branch: master
  CommitID:dc4ce7c2538b713e16887eb598da309bc7b4d528

150905-150924 --> testing pass

Upstream job id: Generic-VM-DPDK-Compile-Meson#33040

Test environment and result as below:

+---------------------+-------------------+--------------------+
|     Environment     | dpdk_msvc_compile | dpdk_meson_compile |
+=====================+===================+====================+
| Windows Server 2022 | PASS              | SKIPPED            |
+---------------------+-------------------+--------------------+
| FreeBSD 13.4        | SKIPPED           | PASS               |
+---------------------+-------------------+--------------------+
| FreeBSD 14.2        | SKIPPED           | PASS               |
+---------------------+-------------------+--------------------+


Windows Server 2022
	Kernel: 10.0.20348.2031
	Compiler: clang 15.0.7, gcc 14.1.0 (MinGW), and MSVC VS 19.39.33521

FreeBSD 13.4
	Kernel: 13.4-RELEASE-p1
	Compiler: clang 18.1.6

FreeBSD 14.2
	Kernel: 14.2-RELEASE
	Compiler: clang 18.1.6

To view detailed results, visit:
https://lab.dpdk.org/results/dashboard/patchsets/32494/

UNH-IOL DPDK Community Lab

To manage your email subscriptions, visit: 
https://lab.dpdk.org/results/dashboard/preferences/subscriptions/

  parent reply	other threads:[~2025-02-04 23:01 UTC|newest]

Thread overview: 17+ messages / expand[flat|nested]  mbox.gz  Atom feed  top
     [not found] <1738702638-22363-28-git-send-email-andremue@linux.microsoft.com>
2025-02-04 20:48 ` |SUCCESS| pw150905-150924 [PATCH v21 27/27] config: add -Wvla project-wide qemudev
2025-02-04 20:53 ` qemudev
2025-02-04 20:58 ` |SUCCESS| pw150924 " checkpatch
2025-02-04 21:57 ` |SUCCESS| pw150905-150924 [PATCH] [v21,27/27] config: add -Wvla proj dpdklab
2025-02-04 22:21 ` dpdklab
2025-02-04 22:38 ` dpdklab
2025-02-04 22:56 ` |PENDING| " dpdklab
2025-02-04 23:01 ` dpdklab [this message]
2025-02-04 23:01 ` |SUCCESS| " dpdklab
2025-02-04 23:09 ` |PENDING| " dpdklab
2025-02-05  0:05 ` dpdklab
2025-02-05  0:24 ` |SUCCESS| pw150924 [PATCH v21 27/27] config: add -Wvla project-wide 0-day Robot
2025-02-05  0:37 ` |SUCCESS| pw150905-150924 [PATCH] [v21,27/27] config: add -Wvla proj dpdklab
2025-02-05  1:20 ` dpdklab
2025-02-05  1:20 ` dpdklab
2025-02-05  2:56 ` |PENDING| " dpdklab
2025-02-05  3:42 ` |SUCCESS| " dpdklab

Reply instructions:

You may reply publicly to this message via plain-text email
using any one of the following methods:

* Save the following mbox file, import it into your mail client,
  and reply-to-all from there: mbox

  Avoid top-posting and favor interleaved quoting:
  https://en.wikipedia.org/wiki/Posting_style#Interleaved_style

* Reply using the --to, --cc, and --in-reply-to
  switches of git-send-email(1):

  git send-email \
    --in-reply-to=67a29c2e.170a0220.31cd55.b544SMTPIN_ADDED_MISSING@mx.google.com \
    --to=dpdklab@iol.unh.edu \
    --cc=dpdk-test-reports@iol.unh.edu \
    --cc=test-report@dpdk.org \
    /path/to/YOUR_REPLY

  https://kernel.org/pub/software/scm/git/docs/git-send-email.html

* If your mail client supports setting the In-Reply-To header
  via mailto: links, try the mailto: link
Be sure your reply has a Subject: header at the top and a blank line before the message body.
This is a public inbox, see mirroring instructions
for how to clone and mirror all data and code used for this inbox;
as well as URLs for NNTP newsgroup(s).