From mboxrd@z Thu Jan 1 00:00:00 1970 Return-Path: Received: from mails.dpdk.org (mails.dpdk.org [217.70.189.124]) by inbox.dpdk.org (Postfix) with ESMTP id 6507346195 for ; Wed, 5 Feb 2025 00:01:05 +0100 (CET) Received: from mails.dpdk.org (localhost [127.0.0.1]) by mails.dpdk.org (Postfix) with ESMTP id 4AB6C4021E; Wed, 5 Feb 2025 00:01:05 +0100 (CET) Received: from mail-pl1-f228.google.com (mail-pl1-f228.google.com [209.85.214.228]) by mails.dpdk.org (Postfix) with ESMTP id CFC07400EF for ; Wed, 5 Feb 2025 00:01:03 +0100 (CET) Received: by mail-pl1-f228.google.com with SMTP id d9443c01a7336-2161eb95317so109551335ad.1 for ; Tue, 04 Feb 2025 15:01:03 -0800 (PST) DKIM-Signature: v=1; a=rsa-sha256; c=relaxed/relaxed; d=iol.unh.edu; s=unh-iol; t=1738710063; x=1739314863; darn=dpdk.org; h=references:in-reply-to:cc:to:from:subject:message-id:date:from:to :cc:subject:date:message-id:reply-to; bh=5Huktcr7KG1eEiFLNwrMPGeXkI5VDW0OjC87xeN+U/Q=; b=BdWSn98i8dL51WZ/IlOmAWoKGAT6moQQFCob7TxWRe50p5W9wDb8vAOsNvHvOp1o7x u7EqF1cKIjcyLvFj2ygXgveClTHJ9hO6vBQXVYTiseSGY0jjUYmVAronfJIv8of1ping uZkbI676+cFpManJeDRE0OJtRLhzvSW1Pkft0= X-Google-DKIM-Signature: v=1; a=rsa-sha256; c=relaxed/relaxed; d=1e100.net; s=20230601; t=1738710063; x=1739314863; h=references:in-reply-to:cc:to:from:subject:message-id:date :x-gm-message-state:from:to:cc:subject:date:message-id:reply-to; bh=5Huktcr7KG1eEiFLNwrMPGeXkI5VDW0OjC87xeN+U/Q=; b=lmgDlDgnQVM7bsbxxVUR1MR0pwG3LsQB6ZPP3azCUn+wq2U9dPk6VY5fGOV58D+icn ovGdXD8AuGcHOfDuZgQCdjeHL3t7CU10ygIidBILy41jp8GxQf/J5X9XtufWiHHbSaB6 0zBP5QoypCKSPCv74P6C+Lrvgz9vrHJQ+i4PKDSrKja+Agtz0VvJSb1c8ssHPmRtThGQ v6Bha9ip4T6aJN/7qO0vDg99Yemb6ruKTX8D5kbI+3aEOuqHGZkkYA/ZDisIXKpiT2Qf X+arY3UBcSTO5T1vvihczoeH78Sm93GYqfC6GTkk+mOQl9PzzgWet5zDUdpRwFbLh6XN I8kg== X-Gm-Message-State: AOJu0YyaB/+XKbK7hS2i19jx7k3Je5Mz6nrwlghSYkIXNIVXN0D5Plz6 lsfBZIPfQY71y8yVg7+mB4EoR23WrTTnxrkuF26LUwTz6kRAWSGawZxO//0Tf7HYOwT5Pt2ckBs g8pFyaMByHvvUN8Z5rIp8aeA5uEuDXGDt7HjDb46uE5uxKIHGOdRc6w9Y X-Gm-Gg: ASbGncs4CWzrM/WNhu0qVS/JraPlbwtAKWEykSyX6YvrzVgJZgTV/ryK0IIOoaoosic c3Q5v++5k2pk0/eNOLzTb4zlGg5slMnQYnTrhDezVVrHf5qApfmOxbMmSPAIF+JjeZ65tL3uESV 0PCcduUTc05UjMRpOsYztsZQA7Sut3wK9NI15se9q/MyHtBOIwc2R8pTaczjHVvF5AMO7dnRbUR M1wqAjoVcZtMRwIG7KmTc7a3O4nbHOU90vFe/jr7AOcJFNV3E5xs4A+kVT8QwsXYLPnvkfjO50P 2N3IR2f2bauW2peoNBonJ+fLq4HHA/VW4S+BTLh9rw== X-Google-Smtp-Source: AGHT+IGiG1Be+HHJDoPQlkB/zwsGWIem6ra9TllhpXsoJSVv8qEsMd49RQSEf7YB3/eS94yZcZ10W8yiSDOi X-Received: by 2002:a17:902:f550:b0:21f:6dd:bee4 with SMTP id d9443c01a7336-21f17ebab4amr8592695ad.33.1738710062740; Tue, 04 Feb 2025 15:01:02 -0800 (PST) Received: from postal.iol.unh.edu (postal.iol.unh.edu. [2606:4100:3880:1234::84]) by smtp-relay.gmail.com with ESMTPS id d9443c01a7336-21de326f177sm5653185ad.64.2025.02.04.15.01.02 (version=TLS1_2 cipher=ECDHE-ECDSA-AES128-GCM-SHA256 bits=128/128); Tue, 04 Feb 2025 15:01:02 -0800 (PST) X-Relaying-Domain: iol.unh.edu Date: Tue, 04 Feb 2025 15:01:02 -0800 (PST) Message-ID: <67a29c2e.170a0220.31cd55.b544SMTPIN_ADDED_MISSING@mx.google.com> Received: from [172.21.0.6] (unknown [172.18.0.240]) by postal.iol.unh.edu (Postfix) with ESMTP id 2C7266052471; Tue, 4 Feb 2025 18:01:02 -0500 (EST) Subject: |SUCCESS| pw150905-150924 [PATCH] [v21,27/27] config: add -Wvla proj From: dpdklab@iol.unh.edu To: Test Report Cc: dpdk-test-reports@iol.unh.edu In-Reply-To: <1738702638-22363-28-git-send-email-andremue@linux.microsoft.com> References: <1738702638-22363-28-git-send-email-andremue@linux.microsoft.com> Content-Type: text/plain X-BeenThere: test-report@dpdk.org X-Mailman-Version: 2.1.29 Precedence: list List-Id: automatic DPDK test reports List-Unsubscribe: , List-Archive: List-Post: List-Help: List-Subscribe: , Errors-To: test-report-bounces@dpdk.org Test-Label: iol-compile-amd64-testing Test-Status: SUCCESS http://dpdk.org/patch/150924 _Testing PASS_ Submitter: Andre Muezerie Date: Tuesday, February 04 2025 20:57:18 DPDK git baseline: Repo:dpdk Branch: master CommitID:dc4ce7c2538b713e16887eb598da309bc7b4d528 150905-150924 --> testing pass Upstream job id: Generic-VM-DPDK-Compile-Meson#33040 Test environment and result as below: +---------------------+-------------------+--------------------+ | Environment | dpdk_msvc_compile | dpdk_meson_compile | +=====================+===================+====================+ | Windows Server 2022 | PASS | SKIPPED | +---------------------+-------------------+--------------------+ | FreeBSD 13.4 | SKIPPED | PASS | +---------------------+-------------------+--------------------+ | FreeBSD 14.2 | SKIPPED | PASS | +---------------------+-------------------+--------------------+ Windows Server 2022 Kernel: 10.0.20348.2031 Compiler: clang 15.0.7, gcc 14.1.0 (MinGW), and MSVC VS 19.39.33521 FreeBSD 13.4 Kernel: 13.4-RELEASE-p1 Compiler: clang 18.1.6 FreeBSD 14.2 Kernel: 14.2-RELEASE Compiler: clang 18.1.6 To view detailed results, visit: https://lab.dpdk.org/results/dashboard/patchsets/32494/ UNH-IOL DPDK Community Lab To manage your email subscriptions, visit: https://lab.dpdk.org/results/dashboard/preferences/subscriptions/