From mboxrd@z Thu Jan 1 00:00:00 1970 Return-Path: Received: from mails.dpdk.org (mails.dpdk.org [217.70.189.124]) by inbox.dpdk.org (Postfix) with ESMTP id 659C346195 for ; Wed, 5 Feb 2025 00:01:28 +0100 (CET) Received: from mails.dpdk.org (localhost [127.0.0.1]) by mails.dpdk.org (Postfix) with ESMTP id 60BE94029A; Wed, 5 Feb 2025 00:01:28 +0100 (CET) Received: from mail-pl1-f226.google.com (mail-pl1-f226.google.com [209.85.214.226]) by mails.dpdk.org (Postfix) with ESMTP id 57B43400EF for ; Wed, 5 Feb 2025 00:01:27 +0100 (CET) Received: by mail-pl1-f226.google.com with SMTP id d9443c01a7336-21ddab8800bso87680835ad.3 for ; Tue, 04 Feb 2025 15:01:27 -0800 (PST) DKIM-Signature: v=1; a=rsa-sha256; c=relaxed/relaxed; d=iol.unh.edu; s=unh-iol; t=1738710086; x=1739314886; darn=dpdk.org; h=references:in-reply-to:cc:to:from:subject:message-id:date:from:to :cc:subject:date:message-id:reply-to; bh=asuBOyaPdnlTE77RgPtRCh27ixdMVsMoTG6apGKLA4A=; b=EBkP9SHeemVOsMoG6ytLtG0LAKxmhoM77Ls8QQesn+66vdyYoJf89Vvm4HsgmffR6U 64wSP8Azdtw5NUTaLvYvaH79ER4CwGH9Vk1qYQjDRM97mYl1bRu2bOG2gry/V2rpSpeZ vfPmKb7rjo6vkCr1IcKlH/IRebclz4A/iY/vU= X-Google-DKIM-Signature: v=1; a=rsa-sha256; c=relaxed/relaxed; d=1e100.net; s=20230601; t=1738710086; x=1739314886; h=references:in-reply-to:cc:to:from:subject:message-id:date :x-gm-message-state:from:to:cc:subject:date:message-id:reply-to; bh=asuBOyaPdnlTE77RgPtRCh27ixdMVsMoTG6apGKLA4A=; b=Bxl3WDtXZ33LTbEznHMqPkHaT0AIRxyw1tu3dEiK9M83qmDx5UbmtXcd+UWWqMl3pD ZqIhaDKBkPKq8z42lkFK6A/S5wTbnVM8HryVQPVH96kp0czmSwZMt/eaq1ilNtK2Af0J YRhIp1g0UqpHI6iFXfnfFDaGKncsxBYV64yAa4DEzQT+5hG3nr6Wb6BqAQOM3R7oYvdw KD223StQXVJFrBrU4a/j60Mz9oIj7CmU5Y2u+hk9bErqWYFdirPd4jWn3EZFSZH9W9W4 RUqnJz96lDXrGlj5uvv3i7wH0jBT1sVkYT/XF9ddGe31RaWSoBZVt+dogcUbC01AK+QU vw2Q== X-Gm-Message-State: AOJu0Yzmi7Q28/f8NuGQsPbXiIV8orAu1kQZYsd1DEmk3ReTL0p5Ow6y Z7JRPAlABn5rDzsL1AWBPfXC8LRdsNyEUJ1eZ0J03alxhj0m0bfPW7fk9osMc1WmoYkYlC006xq A10v6Iww3HBXst19QlVQL/N2Ju5CNhCyjRb2b4jel X-Gm-Gg: ASbGncuW4ibQnPQql6EGRV4alVDpeYKm3gTLKmY4memCfuMj1fW4Sup5Ft/XIlEFSU/ KA9DUcLUVjWxPj9cx9UwxvPVtHcabpVeJ7p+91wHGgpmSsvQRMRRSJRrexa8TXHqtaquYbn3pDm ueo70gF7o+MFrmOhRJF9pUptpxdc4VryYUkDqMgZAYJY/ZPMHrMwMxty8Ufl7Aw1d1+VC+7BkKj orcsl3lRHkwLCWWgr6RPRgcIoHV0fQDRgC76y00n416js8AflkaBpw+zoWvR2HYoHfOFX7iv4Ze qGX0lWmKAcv76TThdDGe9kOwGFBF0w== X-Google-Smtp-Source: AGHT+IEys3pSxLoV4B/aeViyNWbnor58NoasiuK1dXFMe2Qp3moRsKZO8W/R3+jbj0Zp/0CdqHBIbnpFkWvQ X-Received: by 2002:a17:902:ce03:b0:216:39fa:5cb4 with SMTP id d9443c01a7336-21f17e6ff76mr11083205ad.25.1738710086564; Tue, 04 Feb 2025 15:01:26 -0800 (PST) Received: from postal.iol.unh.edu (postal.iol.unh.edu. [132.177.123.84]) by smtp-relay.gmail.com with ESMTPS id d9443c01a7336-21de324cd73sm5799475ad.32.2025.02.04.15.01.26 (version=TLS1_2 cipher=ECDHE-ECDSA-AES128-GCM-SHA256 bits=128/128); Tue, 04 Feb 2025 15:01:26 -0800 (PST) X-Relaying-Domain: iol.unh.edu Date: Tue, 04 Feb 2025 15:01:26 -0800 (PST) Message-ID: <67a29c46.170a0220.33c4fb.c9f8SMTPIN_ADDED_MISSING@mx.google.com> Received: from [172.21.0.6] (unknown [172.18.0.240]) by postal.iol.unh.edu (Postfix) with ESMTP id A1CBC6052471; Tue, 4 Feb 2025 18:01:25 -0500 (EST) Subject: |SUCCESS| pw150905-150924 [PATCH] [v21,27/27] config: add -Wvla proj From: dpdklab@iol.unh.edu To: Test Report Cc: dpdk-test-reports@iol.unh.edu In-Reply-To: <1738702638-22363-28-git-send-email-andremue@linux.microsoft.com> References: <1738702638-22363-28-git-send-email-andremue@linux.microsoft.com> Content-Type: text/plain X-BeenThere: test-report@dpdk.org X-Mailman-Version: 2.1.29 Precedence: list List-Id: automatic DPDK test reports List-Unsubscribe: , List-Archive: List-Post: List-Help: List-Subscribe: , Errors-To: test-report-bounces@dpdk.org Test-Label: iol-compile-amd64-testing Test-Status: SUCCESS http://dpdk.org/patch/150924 _Testing PASS_ Submitter: Andre Muezerie Date: Tuesday, February 04 2025 20:57:18 DPDK git baseline: Repo:dpdk Branch: master CommitID:dc4ce7c2538b713e16887eb598da309bc7b4d528 150905-150924 --> testing pass Upstream job id: Windows-Compile-DPDK-VS#4812 Test environment and result as below: +---------------------+-------------------+--------------------+ | Environment | dpdk_msvc_compile | dpdk_meson_compile | +=====================+===================+====================+ | Windows Server 2022 | PASS | SKIPPED | +---------------------+-------------------+--------------------+ | FreeBSD 13.4 | SKIPPED | PASS | +---------------------+-------------------+--------------------+ | FreeBSD 14.2 | SKIPPED | PASS | +---------------------+-------------------+--------------------+ Windows Server 2022 Kernel: 10.0.20348.2031 Compiler: clang 15.0.7, gcc 14.1.0 (MinGW), and MSVC VS 19.39.33521 FreeBSD 13.4 Kernel: 13.4-RELEASE-p1 Compiler: clang 18.1.6 FreeBSD 14.2 Kernel: 14.2-RELEASE Compiler: clang 18.1.6 To view detailed results, visit: https://lab.dpdk.org/results/dashboard/patchsets/32494/ UNH-IOL DPDK Community Lab To manage your email subscriptions, visit: https://lab.dpdk.org/results/dashboard/preferences/subscriptions/