From mboxrd@z Thu Jan 1 00:00:00 1970 Return-Path: Received: from mails.dpdk.org (mails.dpdk.org [217.70.189.124]) by inbox.dpdk.org (Postfix) with ESMTP id 91A1D46192 for ; Wed, 5 Feb 2025 00:49:05 +0100 (CET) Received: from mails.dpdk.org (localhost [127.0.0.1]) by mails.dpdk.org (Postfix) with ESMTP id 8B0B84021E; Wed, 5 Feb 2025 00:49:05 +0100 (CET) Received: from mail-pj1-f100.google.com (mail-pj1-f100.google.com [209.85.216.100]) by mails.dpdk.org (Postfix) with ESMTP id B89B0400EF for ; Wed, 5 Feb 2025 00:49:04 +0100 (CET) Received: by mail-pj1-f100.google.com with SMTP id 98e67ed59e1d1-2f43d17b0e3so10457225a91.0 for ; Tue, 04 Feb 2025 15:49:04 -0800 (PST) DKIM-Signature: v=1; a=rsa-sha256; c=relaxed/relaxed; d=iol.unh.edu; s=unh-iol; t=1738712944; x=1739317744; darn=dpdk.org; h=references:in-reply-to:cc:to:from:subject:message-id:date:from:to :cc:subject:date:message-id:reply-to; bh=sEPrXjvF99/LK4+dR04v3DzcoNeWZX2f0xn7FW9EciA=; b=RWFce7ixaj7xp8Ii96KxQWP3EKS5rYsd9Ybp4wPa5jR6F7Xu17TPjvuAlpAs0h/XLz VL3JvfdyEbJYRe9MUbZexuoUqB9CRieiJRXy92XF1UaCx5SBK5EJhzc+kiMFg3R8hMlW A4psABq1376+DG+m/ToqE4XVBygXyLOh7bUY4= X-Google-DKIM-Signature: v=1; a=rsa-sha256; c=relaxed/relaxed; d=1e100.net; s=20230601; t=1738712944; x=1739317744; h=references:in-reply-to:cc:to:from:subject:message-id:date :x-gm-message-state:from:to:cc:subject:date:message-id:reply-to; bh=sEPrXjvF99/LK4+dR04v3DzcoNeWZX2f0xn7FW9EciA=; b=O0H8bUhMdENRI0A+CeNrI7jv6A2M/np/PHLAibuAUl6jWzGP62fPX10kOMHdrBVWMr XGKqIZb/41C1+e0fOQAhENhCz3/igGt/vc61J0uSiLbImx2WFM4peszfIpyouig/mvI3 Cq6LPTrzmuM3POoLNQU2mlKjeVeKNYRRvKUcdyPWA+rh5XtaAOn943ylUu6ZQKqU3mKs TLNl9OCgt1KIGT/A9Zp0cwt1ntcLiOEcnGRf9KS/zI4tV7a0+/tGeYHd2icq+kVH8P+t QfhVyyZqtpIt1mvP1ANM0Z+01yo46wKyPjDIqPjiVZsrGO08m7ZBW5xyDfOrFDBNSebn J0fw== X-Gm-Message-State: AOJu0YzV/o/jcAE4ii0B2+iWQ5ahFsN7hNF3K7Yv90l7hEgEKUYLQdTo tuVR+WBfz5DZK77Q4x6UY/aOGeNprFRzDkABmlMqUcS+2lwCNygzELitqa43AVOGEA96hANKym9 tWrUXVjwJyD72qpVS7U5t3tw+kPX9yp6UOlZzVCOp X-Gm-Gg: ASbGncvUr9xZvH2EIWNqL3cHNmcR4tKY6cevr/dlz2NYWGYLSZN+BZ6t4cuIyCEzAEu xvUV+vLJMOD2WnuVJx3VrQMHZ86hyPTc0vCxf9NoM3uRWZy/zyQuMx+u9DZvyli5t0oGrDFbD5X qJ4R0PbBPX8oP2y4kf43baodzQnMUoD62KSpsMbgHmQj3HUQBzNIfByUED8xu8WdfK5cDbKBwRc 84SWLut/MOJJwMHYfA8FuQ4ZE2abV8Dk5jXW3u9bg+fQz/nt2w0UCndnTL+J9X+TvaKpVpYzToE ZQxYB74ewV828XT5R1E6vqmzsgbC3w== X-Google-Smtp-Source: AGHT+IEL0kXBqtE2CDn6u+lontXuYs8Awnk3w5aP5gvfNH0wpj0RRIfKMtK6A0ArBdV7rzJo+PvZAjO6LmUp X-Received: by 2002:a05:6a00:400b:b0:72a:8461:d172 with SMTP id d2e1a72fcca58-7303510391fmr1609577b3a.3.1738712943720; Tue, 04 Feb 2025 15:49:03 -0800 (PST) Received: from postal.iol.unh.edu (postal.iol.unh.edu. [132.177.123.84]) by smtp-relay.gmail.com with ESMTPS id d2e1a72fcca58-72fe6a28af9sm962622b3a.22.2025.02.04.15.49.03 (version=TLS1_2 cipher=ECDHE-ECDSA-AES128-GCM-SHA256 bits=128/128); Tue, 04 Feb 2025 15:49:03 -0800 (PST) X-Relaying-Domain: iol.unh.edu Date: Tue, 04 Feb 2025 15:49:03 -0800 (PST) Message-ID: <67a2a76f.050a0220.1b5a59.c84bSMTPIN_ADDED_MISSING@mx.google.com> Received: from [172.21.0.5] (unknown [172.18.0.240]) by postal.iol.unh.edu (Postfix) with ESMTP id D184D6052471; Tue, 4 Feb 2025 18:49:02 -0500 (EST) Subject: |SUCCESS| pw150895-150900 [PATCH] [v4,7/7] mldev: eliminate dependen From: dpdklab@iol.unh.edu To: Test Report Cc: dpdk-test-reports@iol.unh.edu In-Reply-To: <1738695271-29948-8-git-send-email-andremue@linux.microsoft.com> References: <1738695271-29948-8-git-send-email-andremue@linux.microsoft.com> Content-Type: text/plain X-BeenThere: test-report@dpdk.org X-Mailman-Version: 2.1.29 Precedence: list List-Id: automatic DPDK test reports List-Unsubscribe: , List-Archive: List-Post: List-Help: List-Subscribe: , Errors-To: test-report-bounces@dpdk.org Test-Label: iol-abi-testing Test-Status: SUCCESS http://dpdk.org/patch/150900 _Testing PASS_ Submitter: Andre Muezerie Date: Tuesday, February 04 2025 18:54:31 DPDK git baseline: Repo:dpdk Branch: master CommitID:dc4ce7c2538b713e16887eb598da309bc7b4d528 150895-150900 --> testing pass Upstream job id: Generic-DPDK-Compile-ABI#114752 Test environment and result as below: +-------------------+----------+ | Environment | abi_test | +===================+==========+ | CentOS Stream 9 | PASS | +-------------------+----------+ | Debian Bullseye | PASS | +-------------------+----------+ | Debian 12 | PASS | +-------------------+----------+ | Fedora 40 | PASS | +-------------------+----------+ | Fedora 41 | PASS | +-------------------+----------+ | Fedora 41 (Clang) | PASS | +-------------------+----------+ | Fedora 40 (Clang) | PASS | +-------------------+----------+ | RHEL8 | PASS | +-------------------+----------+ | RHEL9 | PASS | +-------------------+----------+ | openSUSE Leap 15 | PASS | +-------------------+----------+ | Ubuntu 22.04 | PASS | +-------------------+----------+ | Ubuntu 24.04 | PASS | +-------------------+----------+ CentOS Stream 9 Kernel: Depends on container host Compiler: gcc 11.5.0 20240719 (Red Hat 11.5.0-2) Debian Bullseye Kernel: Depends on container host Compiler: gcc (Debian 10.2.1-6) 10.2.1 20210110 Debian 12 Kernel: Depends on container host Compiler: gcc (Debian 12.2.0-14) 12.2.0 Fedora 40 Kernel: Depends on container host Compiler: gcc 14.2.1 20240912 (Red Hat 14.2.1-3) Fedora 41 Kernel: Depends on container host Compiler: gcc 14.2.1 20240912 (Red Hat 14.2.1-3) Fedora 41 (Clang) Kernel: Depends on container host Compiler: clang 19.1.5 (Fedora 19.1.5-1.fc41) Fedora 40 (Clang) Kernel: Depends on container host Compiler: clang 18.1.8 (Fedora 18.1.8-1.fc40) RHEL8 Kernel: Depends on container host Compiler: gcc 8.5.0 20210514 (Red Hat 8.5.0-22) RHEL9 Kernel: Depends on container host Compiler: gcc 11.5.0 20240719 (Red Hat 11.5.0-2) openSUSE Leap 15 Kernel: Depends on container host Compiler: gcc (SUSE Linux) 7.5.0 Ubuntu 22.04 Kernel: Depends on container host Compiler: gcc (Ubuntu 11.4.0-1ubuntu1~22.04) 11.4.0 Ubuntu 24.04 Kernel: Depends on container host Compiler: gcc (Ubuntu 13.3.0-6ubuntu2~24.04) 13.3.0 To view detailed results, visit: https://lab.dpdk.org/results/dashboard/patchsets/32492/ UNH-IOL DPDK Community Lab To manage your email subscriptions, visit: https://lab.dpdk.org/results/dashboard/preferences/subscriptions/