From mboxrd@z Thu Jan  1 00:00:00 1970
Return-Path: <test-report-bounces@dpdk.org>
Received: from mails.dpdk.org (mails.dpdk.org [217.70.189.124])
	by inbox.dpdk.org (Postfix) with ESMTP id 305F146192
	for <public@inbox.dpdk.org>; Wed,  5 Feb 2025 00:52:40 +0100 (CET)
Received: from mails.dpdk.org (localhost [127.0.0.1])
	by mails.dpdk.org (Postfix) with ESMTP id 0E1384021E;
	Wed,  5 Feb 2025 00:52:40 +0100 (CET)
Received: from mail-pl1-f228.google.com (mail-pl1-f228.google.com
 [209.85.214.228])
 by mails.dpdk.org (Postfix) with ESMTP id F1F70400EF
 for <test-report@dpdk.org>; Wed,  5 Feb 2025 00:52:38 +0100 (CET)
Received: by mail-pl1-f228.google.com with SMTP id
 d9443c01a7336-21f169e9595so4019065ad.2
 for <test-report@dpdk.org>; Tue, 04 Feb 2025 15:52:38 -0800 (PST)
DKIM-Signature: v=1; a=rsa-sha256; c=relaxed/relaxed;
 d=iol.unh.edu; s=unh-iol; t=1738713158; x=1739317958; darn=dpdk.org;
 h=references:in-reply-to:cc:to:from:subject:message-id:date:from:to
 :cc:subject:date:message-id:reply-to;
 bh=kRGxvuL4PG0/bP6UhxLS+1qMTOVxg1wl0g7tFWv8Wjo=;
 b=i+T63a1d6GjsgxE4cx9qUruKv36TXZl9UL6rTfh7NStP2o+P6RLHqC9/Fx2YzhkvCR
 MYH4VsZv1OBSgQk4BI23vcr+HCd52e5t4/ZMJ1GDe+hKqftnmo3M2bwD7mXn6p3RX3gC
 9q/r2WHt8BHoTAUW3egAzzmGjzyadBObPEXVo=
X-Google-DKIM-Signature: v=1; a=rsa-sha256; c=relaxed/relaxed;
 d=1e100.net; s=20230601; t=1738713158; x=1739317958;
 h=references:in-reply-to:cc:to:from:subject:message-id:date
 :x-gm-message-state:from:to:cc:subject:date:message-id:reply-to;
 bh=kRGxvuL4PG0/bP6UhxLS+1qMTOVxg1wl0g7tFWv8Wjo=;
 b=b9kTTgpUw9XtTAxflcMJW+miqmZ5sqoESIwqz9VbqitWWf3E/zRcQpnn1XxmabryhL
 EdJgO/hb9fLrzCnvdk1iAJFehMv42pYcCnO4qoXFGJMR0dLyY9QNyu2RVTJEsTApcjf9
 7G3rZpZuOiHzCqNWNz+vyRHrFRhJlmHMOYybMeO4nATUVs+/XZ+1MNSBiCZQNS/M+hPF
 ku2bF9eplRv6ZJDyZSIjvOCvYbQNFkcVR/KyrBCI9wCRSFu74zDUGmpZqQ/Nt+I5UbgX
 w/yooTM+Dn5Xc/sAkPxl/2F19VQX7bxihhpVL5iQIKB4e6ehxQcAytCqf8sLrlE36mmn
 CKig==
X-Gm-Message-State: AOJu0YyrUHLraloQ60ypEXkYgzZOX7qYNt1DtaO6vD4b8Hz1rXzOXs11
 yM74BRSFN9MAXT/6MXtHWN8OaBIwR8Oitf8zEXkJ9XglpXWTqQ3lZAEx2vi+vr+tkj4Y8oYybIv
 fUXhjFUI5UxUK8h05vxmwx+OE2Unci7D2gA28Po7h
X-Gm-Gg: ASbGncuDE4eGMxf9e6/W2fL8i6Ct1dWLiaJAsBhvA+UBWnjCE5+YGZFDTamUIhz9kIT
 q+TEKv1YOc44dIE2ywSOdckP+2MOtS/NftNVln0qNiH/q6uoqL47RG4Q+L+dD3ypYJHpsgeY5VB
 2JoYGHcRaf34q+6/yoYOQ+NdcPgCKjO2oOPe1EQM0TTsJirC+uZeIB4jgPF5c3oXmKZImARZVZh
 4TMcxtXzJymHdyHu0qqlFmQyHZuNicWhjbr92E/5JlR+qaht1JDVfeV98fi1ocYqG6ynKFUrvgp
 nrAyQlC8vjq7Vnl8x1u7ORj0ucaIYw==
X-Google-Smtp-Source: AGHT+IFrj7xTWVmC1KjOdvpfCawdaNviMHK6g012dYh7f2c75U+zSMrBAJv/q7hpN3p4ovKhC9DVw8TXqH+E
X-Received: by 2002:a05:6a00:10cb:b0:724:f86e:e3d9 with SMTP id
 d2e1a72fcca58-7303511e4fcmr1247552b3a.14.1738713157989; 
 Tue, 04 Feb 2025 15:52:37 -0800 (PST)
Received: from postal.iol.unh.edu (postal.iol.unh.edu. [132.177.123.84])
 by smtp-relay.gmail.com with ESMTPS id
 d2e1a72fcca58-72fe69fefd7sm930353b3a.19.2025.02.04.15.52.37
 (version=TLS1_2 cipher=ECDHE-ECDSA-AES128-GCM-SHA256 bits=128/128);
 Tue, 04 Feb 2025 15:52:37 -0800 (PST)
X-Relaying-Domain: iol.unh.edu
Date: Tue, 04 Feb 2025 15:52:37 -0800 (PST)
Message-ID: <67a2a845.050a0220.2bbe33.b680SMTPIN_ADDED_MISSING@mx.google.com>
Received: from [172.21.0.6] (unknown [172.18.0.240])
 by postal.iol.unh.edu (Postfix) with ESMTP id 1D48D6052471;
 Tue,  4 Feb 2025 18:52:37 -0500 (EST)
Subject: |SUCCESS| pw150895-150900 [PATCH] [v4,7/7] mldev: eliminate dependen
From: dpdklab@iol.unh.edu
To: Test Report <test-report@dpdk.org>
Cc: dpdk-test-reports@iol.unh.edu
In-Reply-To: <1738695271-29948-8-git-send-email-andremue@linux.microsoft.com>
References: <1738695271-29948-8-git-send-email-andremue@linux.microsoft.com>
Content-Type: text/plain
X-BeenThere: test-report@dpdk.org
X-Mailman-Version: 2.1.29
Precedence: list
List-Id: automatic DPDK test reports <test-report.dpdk.org>
List-Unsubscribe: <https://mails.dpdk.org/options/test-report>,
 <mailto:test-report-request@dpdk.org?subject=unsubscribe>
List-Archive: <http://mails.dpdk.org/archives/test-report/>
List-Post: <mailto:test-report@dpdk.org>
List-Help: <mailto:test-report-request@dpdk.org?subject=help>
List-Subscribe: <https://mails.dpdk.org/listinfo/test-report>,
 <mailto:test-report-request@dpdk.org?subject=subscribe>
Errors-To: test-report-bounces@dpdk.org

Test-Label: iol-unit-amd64-testing
Test-Status: SUCCESS
http://dpdk.org/patch/150900

_Testing PASS_

Submitter: Andre Muezerie <andremue@linux.microsoft.com>
Date: Tuesday, February 04 2025 18:54:31 
DPDK git baseline: Repo:dpdk
  Branch: master
  CommitID:dc4ce7c2538b713e16887eb598da309bc7b4d528

150895-150900 --> testing pass

Upstream job id: Generic-Unit-Test-DPDK#311585

Test environment and result as below:

+---------------------+----------------+
|     Environment     | dpdk_unit_test |
+=====================+================+
| Fedora 41           | PASS           |
+---------------------+----------------+
| Fedora 40           | PASS           |
+---------------------+----------------+
| Debian 12           | PASS           |
+---------------------+----------------+
| Debian Bullseye     | PASS           |
+---------------------+----------------+
| Fedora 40 (Clang)   | PASS           |
+---------------------+----------------+
| CentOS Stream 9     | PASS           |
+---------------------+----------------+
| Fedora 41 (Clang)   | PASS           |
+---------------------+----------------+
| Ubuntu 22.04        | PASS           |
+---------------------+----------------+
| RHEL8               | PASS           |
+---------------------+----------------+
| Ubuntu 20.04        | PASS           |
+---------------------+----------------+
| RHEL9               | PASS           |
+---------------------+----------------+
| Ubuntu 24.04        | PASS           |
+---------------------+----------------+
| Windows Server 2022 | PASS           |
+---------------------+----------------+


Fedora 41
	Kernel: Depends on container host
	Compiler: gcc 14.2.1 20240912 (Red Hat 14.2.1-3)

Fedora 40
	Kernel: Depends on container host
	Compiler: gcc 14.2.1 20240912 (Red Hat 14.2.1-3)

Debian 12
	Kernel: Depends on container host
	Compiler: gcc (Debian 12.2.0-14) 12.2.0

Debian Bullseye
	Kernel: Depends on container host
	Compiler: gcc (Debian 10.2.1-6) 10.2.1 20210110

Fedora 40 (Clang)
	Kernel: Depends on container host
	Compiler: clang 18.1.8 (Fedora 18.1.8-1.fc40)

CentOS Stream 9
	Kernel: Depends on container host
	Compiler: gcc 11.5.0 20240719 (Red Hat 11.5.0-2)

Fedora 41 (Clang)
	Kernel: Depends on container host
	Compiler: clang 19.1.5 (Fedora 19.1.5-1.fc41)

Ubuntu 22.04
	Kernel: Depends on container host
	Compiler: gcc (Ubuntu 11.4.0-1ubuntu1~22.04) 11.4.0

RHEL8
	Kernel: Depends on container host
	Compiler: gcc 8.5.0 20210514 (Red Hat 8.5.0-22)

Ubuntu 20.04
	Kernel: Depends on container host
	Compiler: gcc (Ubuntu 9.4.0-1ubuntu1~20.04.2) 9.4.0

RHEL9
	Kernel: Depends on container host
	Compiler: gcc 11.5.0 20240719 (Red Hat 11.5.0-2)

Ubuntu 24.04
	Kernel: Depends on container host
	Compiler: gcc (Ubuntu 13.3.0-6ubuntu2~24.04) 13.3.0

Windows Server 2022
	Kernel: 10.0.20348.2031
	Compiler: clang 15.0.7, gcc 14.1.0 (MinGW), and MSVC VS 19.39.33521

To view detailed results, visit:
https://lab.dpdk.org/results/dashboard/patchsets/32492/

UNH-IOL DPDK Community Lab

To manage your email subscriptions, visit: 
https://lab.dpdk.org/results/dashboard/preferences/subscriptions/