From mboxrd@z Thu Jan 1 00:00:00 1970 Return-Path: Received: from mails.dpdk.org (mails.dpdk.org [217.70.189.124]) by inbox.dpdk.org (Postfix) with ESMTP id BAE9D46192 for ; Wed, 5 Feb 2025 01:04:40 +0100 (CET) Received: from mails.dpdk.org (localhost [127.0.0.1]) by mails.dpdk.org (Postfix) with ESMTP id B712B4021E; Wed, 5 Feb 2025 01:04:40 +0100 (CET) Received: from mail-il1-f228.google.com (mail-il1-f228.google.com [209.85.166.228]) by mails.dpdk.org (Postfix) with ESMTP id 42078400EF for ; Wed, 5 Feb 2025 01:04:39 +0100 (CET) Received: by mail-il1-f228.google.com with SMTP id e9e14a558f8ab-3cfae81ab24so19702615ab.3 for ; Tue, 04 Feb 2025 16:04:39 -0800 (PST) DKIM-Signature: v=1; a=rsa-sha256; c=relaxed/relaxed; d=iol.unh.edu; s=unh-iol; t=1738713878; x=1739318678; darn=dpdk.org; h=references:in-reply-to:cc:to:from:subject:message-id:date:from:to :cc:subject:date:message-id:reply-to; bh=JIB012mUgjR6urtmZNXG4rTNt1d1ZJ4SBbvXy3KD+FE=; b=UWqJQ340ATCKNTrpsontT+sKE0L7WciJDCCGw6PScC1tR8umWvpZayflnSyZ1OzhYz 6dGVgCIdEg5VsnGD1rpI8M/259KAzvt2dY/rcgo4GYaQ5wztexeItvgT78Z/zFJXdjs7 jXrHVjrf0QfHHuDuu/VBzZ0EdGev4afzACpIY= X-Google-DKIM-Signature: v=1; a=rsa-sha256; c=relaxed/relaxed; d=1e100.net; s=20230601; t=1738713878; x=1739318678; h=references:in-reply-to:cc:to:from:subject:message-id:date :x-gm-message-state:from:to:cc:subject:date:message-id:reply-to; bh=JIB012mUgjR6urtmZNXG4rTNt1d1ZJ4SBbvXy3KD+FE=; b=bS5RIUJ6cj/bhzWv/xMYY1NPnKEPUISxuVQDxwwVocmdnk/bB21jkUbg64EGetoVRk sah6TP37G4vq1ud8TuGEjGnW9kaj2sNIEgUGoh7S5zqJPZh4viXRMXCYPi7CbnibCDTD XtjpDEOtTB92upF3y3+OYux14165541/ihSuSSiMeERJV36PaH4u8dO9Y8TDQa6DygeW Ir0eKetBWKUhJrTmXQsJkTGUUz66xA/Zk7/pVGFBkaM4kklHDeO0w9dlmTJ9W1Lr6SQ8 7G0AVF9Q0dFCwR0E3nTEuYXXg2AJJekjMMbWr5wHLLTlrrSqE3tWzJy2Zv1DKYucJaNR mBHg== X-Gm-Message-State: AOJu0YyqOigyLaBI1uoqQ9yih665a5z13F4IVWoqL+9BzFViQq0n5I2p KAPZe67pRo2IAXteDBhwHxobCksXt3XRPOwQrBOxqd+64ySwuk2wm+QujmKvawwZi76fdzaCqso B/qkncxqGCisXprye96HRYsq4KDNqb0TdJv+vYAdYSW8cEcDHIA2FRPdv X-Gm-Gg: ASbGnctYzTdK6SbAR2F4hgcX8aO3hUgW2eOgBeB1BBE1Xy3y1HZW1ER4/ITxFtaXowy i6gWlBFh3SzOOeQKq7tiIqTsyS04cO/MjNi9/Y7VTTP119TGU+4OfP2rAj5WT4vY0oFgp8/PpGG Po9OTwTwAUxEHoyk1YSDccj2cv/X3yDvYaiGIH65PfV5gxTyIBm28GyonubVqksjBp6sdg3TUZO 5z6yUq5kFxMUgSmL7kHJ4Y/59U7FsNRN//VpjkPzdyLwlP4KP2tBjoBbqCzUCc5v1h41wpGBWea AWAAvIrY9l8lpisuKIuY5afo8bx/ngEg/11N89lIWA== X-Google-Smtp-Source: AGHT+IGaGGV4Cj6/QmML7hjTUh4MopmUcuwazZdpT/5oqdzZoSwBz93t4UEcNB7iU1vYK7cqchzmseFvZfiP X-Received: by 2002:a05:6e02:3dc5:b0:3ce:78e5:d36d with SMTP id e9e14a558f8ab-3d04f483aa3mr7694955ab.12.1738713878525; Tue, 04 Feb 2025 16:04:38 -0800 (PST) Received: from postal.iol.unh.edu (postal.iol.unh.edu. [2606:4100:3880:1234::84]) by smtp-relay.gmail.com with ESMTPS id e9e14a558f8ab-3d00eab787dsm8344375ab.36.2025.02.04.16.04.38 (version=TLS1_2 cipher=ECDHE-ECDSA-AES128-GCM-SHA256 bits=128/128); Tue, 04 Feb 2025 16:04:38 -0800 (PST) X-Relaying-Domain: iol.unh.edu Date: Tue, 04 Feb 2025 16:04:38 -0800 (PST) Message-ID: <67a2ab16.050a0220.1165bf.8031SMTPIN_ADDED_MISSING@mx.google.com> Received: from [172.21.0.5] (unknown [172.18.0.240]) by postal.iol.unh.edu (Postfix) with ESMTP id 0783B6052471; Tue, 4 Feb 2025 19:04:38 -0500 (EST) Subject: |SUCCESS| pw150868-150889 [PATCH] [v20,27/27] config: add -Wvla proj From: dpdklab@iol.unh.edu To: Test Report Cc: dpdk-test-reports@iol.unh.edu In-Reply-To: <1738686124-16173-28-git-send-email-andremue@linux.microsoft.com> References: <1738686124-16173-28-git-send-email-andremue@linux.microsoft.com> Content-Type: text/plain X-BeenThere: test-report@dpdk.org X-Mailman-Version: 2.1.29 Precedence: list List-Id: automatic DPDK test reports List-Unsubscribe: , List-Archive: List-Post: List-Help: List-Subscribe: , Errors-To: test-report-bounces@dpdk.org Test-Label: iol-unit-arm64-testing Test-Status: SUCCESS http://dpdk.org/patch/150889 _Testing PASS_ Submitter: Andre Muezerie Date: Tuesday, February 04 2025 16:22:04 DPDK git baseline: Repo:dpdk Branch: master CommitID:dc4ce7c2538b713e16887eb598da309bc7b4d528 150868-150889 --> testing pass Upstream job id: Generic-Unit-Test-DPDK#311512 Test environment and result as below: +--------------------------+----------------+--------------+------------------------------+---------------------------+ | Environment | dpdk_unit_test | lpm_autotest | cryptodev_sw_snow3g_autotest | cryptodev_sw_zuc_autotest | +==========================+================+==============+==============================+===========================+ | CentOS Stream 9 (ARM) | PASS | SKIPPED | SKIPPED | SKIPPED | +--------------------------+----------------+--------------+------------------------------+---------------------------+ | Debian 11 (Buster) (ARM) | PASS | SKIPPED | SKIPPED | SKIPPED | +--------------------------+----------------+--------------+------------------------------+---------------------------+ | Debian 12 (arm) | PASS | SKIPPED | PASS | PASS | +--------------------------+----------------+--------------+------------------------------+---------------------------+ | Fedora 40 (ARM Clang) | PASS | SKIPPED | SKIPPED | SKIPPED | +--------------------------+----------------+--------------+------------------------------+---------------------------+ | Fedora 41 (ARM) | PASS | SKIPPED | SKIPPED | SKIPPED | +--------------------------+----------------+--------------+------------------------------+---------------------------+ | Fedora 41 (ARM Clang) | PASS | SKIPPED | SKIPPED | SKIPPED | +--------------------------+----------------+--------------+------------------------------+---------------------------+ | Fedora 40 (ARM) | PASS | SKIPPED | SKIPPED | SKIPPED | +--------------------------+----------------+--------------+------------------------------+---------------------------+ | Ubuntu 20.04 (ARM) | PASS | SKIPPED | SKIPPED | SKIPPED | +--------------------------+----------------+--------------+------------------------------+---------------------------+ | RHEL9 (ARM) | PASS | SKIPPED | SKIPPED | SKIPPED | +--------------------------+----------------+--------------+------------------------------+---------------------------+ | Ubuntu 22.04 (ARM) | PASS | SKIPPED | SKIPPED | SKIPPED | +--------------------------+----------------+--------------+------------------------------+---------------------------+ | Ubuntu 24.04 (ARM) | PASS | SKIPPED | SKIPPED | SKIPPED | +--------------------------+----------------+--------------+------------------------------+---------------------------+ | Ubuntu 20.04 ARM SVE | SKIPPED | PASS | SKIPPED | SKIPPED | +--------------------------+----------------+--------------+------------------------------+---------------------------+ CentOS Stream 9 (ARM) Kernel: Depends on container host Compiler: gcc 11.5.0 20240719 (Red Hat 11.5.0-2) Debian 11 (Buster) (ARM) Kernel: Depends on container host Compiler: gcc (Debian 10.2.1-6) 10.2.1 20210110 Debian 12 (arm) Kernel: Depends on container host Compiler: gcc (Debian 12.2.0-14) 12.2.0 Fedora 40 (ARM Clang) Kernel: Depends on container host Compiler: clang 18.1.8 (Fedora 18.1.8-1.fc40) Fedora 41 (ARM) Kernel: Depends on container host Compiler: gcc 14.2.1 20240912 (Red Hat 14.2.1-3) Fedora 41 (ARM Clang) Kernel: Depends on container host Compiler: clang 19.1.5 (Fedora 19.1.5-1.fc41) Fedora 40 (ARM) Kernel: Depends on container host Compiler: gcc 14.2.1 20240912 (Red Hat 14.2.1-3) Ubuntu 20.04 (ARM) Kernel: Depends on container host Compiler: gcc (Ubuntu 9.4.0-1ubuntu1~20.04.2) 9.4.0 RHEL9 (ARM) Kernel: Depends on container host Compiler: gcc 11.5.0 20240719 (Red Hat 11.5.0-2) Ubuntu 22.04 (ARM) Kernel: Depends on container host Compiler: gcc (Ubuntu 11.4.0-1ubuntu1~22.04) 11.4.0 Ubuntu 24.04 (ARM) Kernel: Depends on container host Compiler: gcc (Ubuntu 13.3.0-6ubuntu2~24.04) 13.3.0 Ubuntu 20.04 ARM SVE Kernel: Depends on container host Compiler: gcc (Ubuntu 10.5.0-1ubuntu1~20.04) 10.5.0 To view detailed results, visit: https://lab.dpdk.org/results/dashboard/patchsets/32489/ UNH-IOL DPDK Community Lab To manage your email subscriptions, visit: https://lab.dpdk.org/results/dashboard/preferences/subscriptions/