From mboxrd@z Thu Jan 1 00:00:00 1970 Return-Path: Received: from mails.dpdk.org (mails.dpdk.org [217.70.189.124]) by inbox.dpdk.org (Postfix) with ESMTP id DAD0C46192 for ; Wed, 5 Feb 2025 01:04:42 +0100 (CET) Received: from mails.dpdk.org (localhost [127.0.0.1]) by mails.dpdk.org (Postfix) with ESMTP id D1F114021E; Wed, 5 Feb 2025 01:04:42 +0100 (CET) Received: from mail-oi1-f225.google.com (mail-oi1-f225.google.com [209.85.167.225]) by mails.dpdk.org (Postfix) with ESMTP id 53F25400EF for ; Wed, 5 Feb 2025 01:04:41 +0100 (CET) Received: by mail-oi1-f225.google.com with SMTP id 5614622812f47-3eba50d6da7so1768787b6e.2 for ; Tue, 04 Feb 2025 16:04:41 -0800 (PST) DKIM-Signature: v=1; a=rsa-sha256; c=relaxed/relaxed; d=iol.unh.edu; s=unh-iol; t=1738713880; x=1739318680; darn=dpdk.org; h=references:in-reply-to:cc:to:from:subject:message-id:date:from:to :cc:subject:date:message-id:reply-to; bh=gtQn5aPIajI4hVgVBD+n3M7YyC7x+sF9ph/quD64olo=; b=eW7z6cc4UBoCSD9pZjvHp8qokQH5Mh51PlZuzBTHhduIzW+QiUehTi4QkrTA3RqwPj XAnzkSXZayXPG9ysZfzy3PkTVtfljPJNSFWTC23qBynRAWGqBrABGmu2slO9uPenRg9t SBSb8L2DgN4ZW1m0agcl0hIa9ynXJQRmQyLuo= X-Google-DKIM-Signature: v=1; a=rsa-sha256; c=relaxed/relaxed; d=1e100.net; s=20230601; t=1738713880; x=1739318680; h=references:in-reply-to:cc:to:from:subject:message-id:date :x-gm-message-state:from:to:cc:subject:date:message-id:reply-to; bh=gtQn5aPIajI4hVgVBD+n3M7YyC7x+sF9ph/quD64olo=; b=Tu8Fbo/SuVAodfQ26s8LJHkV/Xu5UpkapZn8Lr6O8g/kEhI294IlZlNGCVeeuUTDkE AO9mYgL2ECXVZnUdEIsfWVIbsNpfHn3yxHVokbpR4WnpruzIqI6WPL2YePgmtZ33BLk2 m86efaFatQ8vSWXCkqKgj6P91DMKd9xQx3KxEUCIMtOvI7eyOrXpeuM1+6/bboSoFXXA e3OCY8cNobd6SUKnrNKo/FPp/GdTJO9kGAqu8e8IXdMnShIqsFczdzcBRUj2eLTV204h gh29M8pyfKt1yWof6gVRBlCHXJl9HConcflDWxpIm0uKe7Z3l87iqWaz77nkvDLebG5W LInw== X-Gm-Message-State: AOJu0YwXpBoRtluPOfn+Sw2wtE6mzq9Evoypw7oNbdIhh4tQ2GBKEc0Q afcHLg6ecGQrsg6jFijkDlswbz0RB6D+qqcJHo5JsUS5TdmYKbpkkbGyutlWGtkhy1LWKDbWl9D Rvx96YjINs9lMNIzjkN1KE8U7cpzOXsI1x3a+Vbp7ooYXzotQunCyE0PO X-Gm-Gg: ASbGnct97kl4ETek3paGQPrXNmSLjq5wwIE/SPjGwUGk6Bvyg+Xhd0i3PKd1UnYUaTW JLtax30OlvOdUeVpVeRLKZgWMtzvGHEjiihalE/YThycQZi8U84Owzi4q9rZnyphdO+Ue/I2YZw ++D4Q6QkkBpeQRcdtMxVZUT9BUqpfPfGspEtwfoVMUEErG+8EIFvS4VtHB3OO9dmzffUqDZFw4r hnuYFYGVsj8woHZS7dku6r/foMe6FVUl6DjVBXQeyNulR8JfW/OLwK+EsWsSiD33feq5gHkLvPW Tl21kzBev/wt/EVotzHqTY0SgySmUXEqg+M1c+1+Pw== X-Google-Smtp-Source: AGHT+IEWReU/p5HTvNY0AuJ54LsSFAe9oeaXzohHEukNjGpv4fyxqzDoiTLOAKEikCgoG9CI5VdfxtlRcukk X-Received: by 2002:a05:6808:3999:b0:3ea:66c1:cbef with SMTP id 5614622812f47-3f37c1de1c7mr535668b6e.39.1738713880478; Tue, 04 Feb 2025 16:04:40 -0800 (PST) Received: from postal.iol.unh.edu (postal.iol.unh.edu. [2606:4100:3880:1234::84]) by smtp-relay.gmail.com with ESMTPS id 46e09a7af769-72661877eaasm458498a34.8.2025.02.04.16.04.40 (version=TLS1_2 cipher=ECDHE-ECDSA-AES128-GCM-SHA256 bits=128/128); Tue, 04 Feb 2025 16:04:40 -0800 (PST) X-Relaying-Domain: iol.unh.edu Date: Tue, 04 Feb 2025 16:04:40 -0800 (PST) Message-ID: <67a2ab18.050a0220.2911a9.6fa6SMTPIN_ADDED_MISSING@mx.google.com> Received: from [172.21.0.6] (unknown [172.18.0.240]) by postal.iol.unh.edu (Postfix) with ESMTP id A393C6052471; Tue, 4 Feb 2025 19:04:39 -0500 (EST) Subject: |SUCCESS| pw150893 [PATCH] net/af_packet: fix socket close on device From: dpdklab@iol.unh.edu To: Test Report Cc: dpdk-test-reports@iol.unh.edu In-Reply-To: <20250204164508.864080-1-tudor.cornea@gmail.com> References: <20250204164508.864080-1-tudor.cornea@gmail.com> Content-Type: text/plain X-BeenThere: test-report@dpdk.org X-Mailman-Version: 2.1.29 Precedence: list List-Id: automatic DPDK test reports List-Unsubscribe: , List-Archive: List-Post: List-Help: List-Subscribe: , Errors-To: test-report-bounces@dpdk.org Test-Label: iol-abi-testing Test-Status: SUCCESS http://dpdk.org/patch/150893 _Testing PASS_ Submitter: Tudor Cornea Date: Tuesday, February 04 2025 16:45:08 DPDK git baseline: Repo:dpdk Branch: master CommitID:595535be66b103f7ce3ba61939b8013032987404 150893 --> testing pass Upstream job id: Generic-DPDK-Compile-ABI#114766 Test environment and result as below: +-------------------+----------+ | Environment | abi_test | +===================+==========+ | CentOS Stream 9 | PASS | +-------------------+----------+ | Debian 12 | PASS | +-------------------+----------+ | Debian Bullseye | PASS | +-------------------+----------+ | Fedora 40 | PASS | +-------------------+----------+ | Fedora 40 (Clang) | PASS | +-------------------+----------+ | Fedora 41 (Clang) | PASS | +-------------------+----------+ | RHEL8 | PASS | +-------------------+----------+ | openSUSE Leap 15 | PASS | +-------------------+----------+ | Fedora 41 | PASS | +-------------------+----------+ | RHEL9 | PASS | +-------------------+----------+ | Ubuntu 24.04 | PASS | +-------------------+----------+ | Ubuntu 22.04 | PASS | +-------------------+----------+ CentOS Stream 9 Kernel: Depends on container host Compiler: gcc 11.5.0 20240719 (Red Hat 11.5.0-2) Debian 12 Kernel: Depends on container host Compiler: gcc (Debian 12.2.0-14) 12.2.0 Debian Bullseye Kernel: Depends on container host Compiler: gcc (Debian 10.2.1-6) 10.2.1 20210110 Fedora 40 Kernel: Depends on container host Compiler: gcc 14.2.1 20240912 (Red Hat 14.2.1-3) Fedora 40 (Clang) Kernel: Depends on container host Compiler: clang 18.1.8 (Fedora 18.1.8-1.fc40) Fedora 41 (Clang) Kernel: Depends on container host Compiler: clang 19.1.5 (Fedora 19.1.5-1.fc41) RHEL8 Kernel: Depends on container host Compiler: gcc 8.5.0 20210514 (Red Hat 8.5.0-22) openSUSE Leap 15 Kernel: Depends on container host Compiler: gcc (SUSE Linux) 7.5.0 Fedora 41 Kernel: Depends on container host Compiler: gcc 14.2.1 20240912 (Red Hat 14.2.1-3) RHEL9 Kernel: Depends on container host Compiler: gcc 11.5.0 20240719 (Red Hat 11.5.0-2) Ubuntu 24.04 Kernel: Depends on container host Compiler: gcc (Ubuntu 13.3.0-6ubuntu2~24.04) 13.3.0 Ubuntu 22.04 Kernel: Depends on container host Compiler: gcc (Ubuntu 11.4.0-1ubuntu1~22.04) 11.4.0 To view detailed results, visit: https://lab.dpdk.org/results/dashboard/patchsets/32490/ UNH-IOL DPDK Community Lab To manage your email subscriptions, visit: https://lab.dpdk.org/results/dashboard/preferences/subscriptions/