From mboxrd@z Thu Jan 1 00:00:00 1970 Return-Path: Received: from mails.dpdk.org (mails.dpdk.org [217.70.189.124]) by inbox.dpdk.org (Postfix) with ESMTP id 132F446192 for ; Wed, 5 Feb 2025 01:04:54 +0100 (CET) Received: from mails.dpdk.org (localhost [127.0.0.1]) by mails.dpdk.org (Postfix) with ESMTP id 109BD40289; Wed, 5 Feb 2025 01:04:54 +0100 (CET) Received: from mail-qt1-f228.google.com (mail-qt1-f228.google.com [209.85.160.228]) by mails.dpdk.org (Postfix) with ESMTP id B24C3400EF for ; Wed, 5 Feb 2025 01:04:52 +0100 (CET) Received: by mail-qt1-f228.google.com with SMTP id d75a77b69052e-4679ea3b13bso47173291cf.1 for ; Tue, 04 Feb 2025 16:04:52 -0800 (PST) DKIM-Signature: v=1; a=rsa-sha256; c=relaxed/relaxed; d=iol.unh.edu; s=unh-iol; t=1738713892; x=1739318692; darn=dpdk.org; h=references:in-reply-to:cc:to:from:subject:message-id:date:from:to :cc:subject:date:message-id:reply-to; bh=tJ9aErcxoqJNUVBwsdfyTTpPnwhWKxv69nsgemwfWzc=; b=iZf8HINHNAsf8/HY0cxJjLf+LscyUkFG6kYYfOfN2RdVxtS+bILUWJh1rKIKljHoO6 7VRfel6bib7z86VhmctjPDBjh9qb+3IPwWkqF+MD8ApD+ivIH5QgS4q/5y7LRshYnUYQ nxZc+dOTCBAM67KMg12JrU8Cbh1uleupB1aS8= X-Google-DKIM-Signature: v=1; a=rsa-sha256; c=relaxed/relaxed; d=1e100.net; s=20230601; t=1738713892; x=1739318692; h=references:in-reply-to:cc:to:from:subject:message-id:date :x-gm-message-state:from:to:cc:subject:date:message-id:reply-to; bh=tJ9aErcxoqJNUVBwsdfyTTpPnwhWKxv69nsgemwfWzc=; b=Jva0T1wveOqB97XaTv5nOVtQEX8T/8wb/Ov6BKulOrEKbJc6GVila/KRYOkqztdWuz du2Mqg7ai7lRC/746hmCYQx1icv/N6V7rx/1kHT9GS8KW8eqelnPDYlPt5sXOR4T2Ilb 4DJ1g5dgmvYzQHeLaLOREuAPqSMOxsnd1GUh32qWM8YpVY3bNFFxrtuEsNqhRaw3R5R7 85jMBYyTwXR+k/5zP6k/IbNUKyxM/A02PyCUDLXJ0n6tRrZPyqL7TWA+gXGORrqN6IX+ ABSR7JD4E/j0wDiq2oAdou+7K56O4oD+Qu336t1eX+SY7RSMY+r6c7ES9vNh7DnLZX3r PjgA== X-Gm-Message-State: AOJu0YzxOOW0UMX13gK+ub57tR8707Gef+2qdmfs/Eek7AyTplIAwQU+ YNv8MFfYbll7Lh1deodpX33W14h1n7BypJcbgG6fuABHWnuRtbNf5qPVs3xWiVEkhRvZBrmzaCA eogITDybRyD1mE87ICzJBvcqxSyHYwgdPYE87WAQr X-Gm-Gg: ASbGnctqNbbD9tidFqC2SBupKZH4P0JkWHeqwqXZ8Kz6DY4P51+jzLaceK1Eg1pYbzz ddD/TMS0AlKwrSLd3N3GvvYH/Af6piYDq+HjUNWF0MPRqmLResktDNEbYu3dO/AXklSq9tjUxzq qz8WLYIx506ulr8CMmvwBlprZfwHbQKh6vJoBU2ID9+45XrYIV/l+X3ssfSZNbNlcOdTREXoCIw 7uv1uO1gI4CTzHDnA/TLfbesRs/bVVLkk8h83opOyk1dQimXTeUrKualt+NfSHOLJGRbowI0vIZ c+PbBmWXaAxEG3KFmTyXJuawpQKzvg== X-Google-Smtp-Source: AGHT+IFKYScWV1QVyqPic47ejqt8bANvm3vg5w8mgb0MO4TXhdUYopN1a9l1yD7hQFcidBT/nJ1G9eLR7bFE X-Received: by 2002:a05:6214:45a1:b0:6e1:7223:19a9 with SMTP id 6a1803df08f44-6e42fbc3b0fmr9875986d6.24.1738713892169; Tue, 04 Feb 2025 16:04:52 -0800 (PST) Received: from postal.iol.unh.edu (postal.iol.unh.edu. [132.177.123.84]) by smtp-relay.gmail.com with ESMTPS id 6a1803df08f44-6e25482f012sm8550566d6.33.2025.02.04.16.04.52 (version=TLS1_2 cipher=ECDHE-ECDSA-AES128-GCM-SHA256 bits=128/128); Tue, 04 Feb 2025 16:04:52 -0800 (PST) X-Relaying-Domain: iol.unh.edu Date: Tue, 04 Feb 2025 16:04:52 -0800 (PST) Message-ID: <67a2ab24.050a0220.340eee.7e6eSMTPIN_ADDED_MISSING@mx.google.com> Received: from [172.21.0.10] (unknown [172.18.0.240]) by postal.iol.unh.edu (Postfix) with ESMTP id DCFFE6052471; Tue, 4 Feb 2025 19:04:51 -0500 (EST) Subject: |SUCCESS| pw150893 [PATCH] net/af_packet: fix socket close on device From: dpdklab@iol.unh.edu To: Test Report Cc: dpdk-test-reports@iol.unh.edu In-Reply-To: <20250204164508.864080-1-tudor.cornea@gmail.com> References: <20250204164508.864080-1-tudor.cornea@gmail.com> Content-Type: text/plain X-BeenThere: test-report@dpdk.org X-Mailman-Version: 2.1.29 Precedence: list List-Id: automatic DPDK test reports List-Unsubscribe: , List-Archive: List-Post: List-Help: List-Subscribe: , Errors-To: test-report-bounces@dpdk.org Test-Label: iol-abi-testing Test-Status: SUCCESS http://dpdk.org/patch/150893 _Testing PASS_ Submitter: Tudor Cornea Date: Tuesday, February 04 2025 16:45:08 DPDK git baseline: Repo:dpdk Branch: master CommitID:595535be66b103f7ce3ba61939b8013032987404 150893 --> testing pass Upstream job id: Generic-DPDK-Compile-ABI#114760 Test environment and result as below: +-------------------+----------+ | Environment | abi_test | +===================+==========+ | CentOS Stream 9 | PASS | +-------------------+----------+ | Debian 12 | PASS | +-------------------+----------+ | Debian Bullseye | PASS | +-------------------+----------+ | Fedora 40 | PASS | +-------------------+----------+ | Fedora 40 (Clang) | PASS | +-------------------+----------+ | Fedora 41 (Clang) | PASS | +-------------------+----------+ | RHEL8 | PASS | +-------------------+----------+ | openSUSE Leap 15 | PASS | +-------------------+----------+ | Fedora 41 | PASS | +-------------------+----------+ | RHEL9 | PASS | +-------------------+----------+ | Ubuntu 24.04 | PASS | +-------------------+----------+ | Ubuntu 22.04 | PASS | +-------------------+----------+ CentOS Stream 9 Kernel: Depends on container host Compiler: gcc 11.5.0 20240719 (Red Hat 11.5.0-2) Debian 12 Kernel: Depends on container host Compiler: gcc (Debian 12.2.0-14) 12.2.0 Debian Bullseye Kernel: Depends on container host Compiler: gcc (Debian 10.2.1-6) 10.2.1 20210110 Fedora 40 Kernel: Depends on container host Compiler: gcc 14.2.1 20240912 (Red Hat 14.2.1-3) Fedora 40 (Clang) Kernel: Depends on container host Compiler: clang 18.1.8 (Fedora 18.1.8-1.fc40) Fedora 41 (Clang) Kernel: Depends on container host Compiler: clang 19.1.5 (Fedora 19.1.5-1.fc41) RHEL8 Kernel: Depends on container host Compiler: gcc 8.5.0 20210514 (Red Hat 8.5.0-22) openSUSE Leap 15 Kernel: Depends on container host Compiler: gcc (SUSE Linux) 7.5.0 Fedora 41 Kernel: Depends on container host Compiler: gcc 14.2.1 20240912 (Red Hat 14.2.1-3) RHEL9 Kernel: Depends on container host Compiler: gcc 11.5.0 20240719 (Red Hat 11.5.0-2) Ubuntu 24.04 Kernel: Depends on container host Compiler: gcc (Ubuntu 13.3.0-6ubuntu2~24.04) 13.3.0 Ubuntu 22.04 Kernel: Depends on container host Compiler: gcc (Ubuntu 11.4.0-1ubuntu1~22.04) 11.4.0 To view detailed results, visit: https://lab.dpdk.org/results/dashboard/patchsets/32490/ UNH-IOL DPDK Community Lab To manage your email subscriptions, visit: https://lab.dpdk.org/results/dashboard/preferences/subscriptions/