From mboxrd@z Thu Jan 1 00:00:00 1970 Return-Path: Received: from mails.dpdk.org (mails.dpdk.org [217.70.189.124]) by inbox.dpdk.org (Postfix) with ESMTP id C54A646192 for ; Wed, 5 Feb 2025 01:26:08 +0100 (CET) Received: from mails.dpdk.org (localhost [127.0.0.1]) by mails.dpdk.org (Postfix) with ESMTP id BDF364021E; Wed, 5 Feb 2025 01:26:08 +0100 (CET) Received: from mail-pl1-f226.google.com (mail-pl1-f226.google.com [209.85.214.226]) by mails.dpdk.org (Postfix) with ESMTP id D97E6400EF for ; Wed, 5 Feb 2025 01:26:07 +0100 (CET) Received: by mail-pl1-f226.google.com with SMTP id d9443c01a7336-21634338cfdso53980825ad.2 for ; Tue, 04 Feb 2025 16:26:07 -0800 (PST) DKIM-Signature: v=1; a=rsa-sha256; c=relaxed/relaxed; d=iol.unh.edu; s=unh-iol; t=1738715167; x=1739319967; darn=dpdk.org; h=references:in-reply-to:cc:to:from:subject:message-id:date:from:to :cc:subject:date:message-id:reply-to; bh=jX/d7CNGrm7UaaHHZ1Y+7kofSa3vvGQC8+IXwjRQT3M=; b=ezNsrA5tqrUOYXeF9REkHmxzx6/pLk1bmylkQ1mjGrl/WSS+RmNau3B+whJoNPUiTd eIuLgcC95HZm+wwVqyy9G3SWNpQztGNHe3bg3ldf47c4cQPScH2RS2wEyD0uviX7HgQq CIZWI8n/iNwNjoOP86ZyX6ereGniS2129So28= X-Google-DKIM-Signature: v=1; a=rsa-sha256; c=relaxed/relaxed; d=1e100.net; s=20230601; t=1738715167; x=1739319967; h=references:in-reply-to:cc:to:from:subject:message-id:date :x-gm-message-state:from:to:cc:subject:date:message-id:reply-to; bh=jX/d7CNGrm7UaaHHZ1Y+7kofSa3vvGQC8+IXwjRQT3M=; b=tLf/pzEWykcR8xpxMGI4L+m7REEBzK6Zqkdj3cFYyWjVvfQMCARBSyE3yMesupV3Z+ 3ZKD54dpe+zuaGIRNhgos80i6Me6xcB752ABdI54KebZ1s61CYz8lQxyudWvnHUmBsHb vNeomvojwqR+NXuN1q3HaW5n8KL0JTNS0atgGua71FP+QhZ/tK77LFmoS3bpGUdaAKx0 uMI1lu7jH3TeS/l/8XxvhDQGdpfk2z7NHCEAnpmI96rz748zZlx1Yw/vw+6nSZ1zRtTa p5TBywucircEUHIIRiRTUG6+X7baNDrIhewBtsrjtwPbcyWth7b5z5DSImeWmGnVAv6b Xvwg== X-Gm-Message-State: AOJu0YyE5TNJSZjuwNYY5iGN8lA1JiMmaZbJMuOqx/n2MQtfpltEGe2R 5bi/Jootr4qMq1featgu6CJRa86+6oyYovJHgOhd+fu46URWZnaQCVLKrwbuoB7pGgUiVfv6HSJ R6HhN+vTAwsI5ndXTn04roqVDsrtCxwebGb3cpJsj43ZKLUoLEeSghgKP X-Gm-Gg: ASbGnctA7+FGAwVZxgAZISLuQHXSxCI3thqcbMF2DYcPq92KZVV+jdnn8aM1wyOVeDM n17imb3dZ6281e0neeGTrsruPg64Di9pazMIY4StewgRvng4EBPO82GqLOc48JC/KIYNEPgg6Et HKJ7nczWaOY/qljhAjgaqzAD2xWw9njtvBZjC8HAjvTfDZkRBL8gaRToBczSOmJ4Eu4yOc6pG/N F0DJZ7+hYepLimbocWMmToUrPqIkJ8qzZrMK+dR5ya4hOyIatxfgqLuucO0h0GsH7OOrpXcYazW WzmdxPnRHChsmX4OVZmQrs5oR5qpHTml3lLkPSG2yA== X-Google-Smtp-Source: AGHT+IG7MOZLzEwdhXPmB0SZLKMX/zfH8rNQba9Oi7lbSpyQk54FizOZqSvxaKXbYLWhsZrwJNJhEzdhY1Oo X-Received: by 2002:a17:902:c941:b0:215:a179:14ca with SMTP id d9443c01a7336-21f17e2cb33mr13008735ad.2.1738715166814; Tue, 04 Feb 2025 16:26:06 -0800 (PST) Received: from postal.iol.unh.edu (postal.iol.unh.edu. [2606:4100:3880:1234::84]) by smtp-relay.gmail.com with ESMTPS id d9443c01a7336-21de325293bsm5902065ad.51.2025.02.04.16.26.06 (version=TLS1_2 cipher=ECDHE-ECDSA-AES128-GCM-SHA256 bits=128/128); Tue, 04 Feb 2025 16:26:06 -0800 (PST) X-Relaying-Domain: iol.unh.edu Date: Tue, 04 Feb 2025 16:26:06 -0800 (PST) Message-ID: <67a2b01e.170a0220.19d7ae.a8b7SMTPIN_ADDED_MISSING@mx.google.com> Received: from [172.21.0.6] (unknown [172.18.0.240]) by postal.iol.unh.edu (Postfix) with ESMTP id 38F106052471; Tue, 4 Feb 2025 19:26:06 -0500 (EST) Subject: |SUCCESS| pw150893 [PATCH] net/af_packet: fix socket close on device From: dpdklab@iol.unh.edu To: Test Report Cc: dpdk-test-reports@iol.unh.edu In-Reply-To: <20250204164508.864080-1-tudor.cornea@gmail.com> References: <20250204164508.864080-1-tudor.cornea@gmail.com> Content-Type: text/plain X-BeenThere: test-report@dpdk.org X-Mailman-Version: 2.1.29 Precedence: list List-Id: automatic DPDK test reports List-Unsubscribe: , List-Archive: List-Post: List-Help: List-Subscribe: , Errors-To: test-report-bounces@dpdk.org Test-Label: iol-unit-amd64-testing Test-Status: SUCCESS http://dpdk.org/patch/150893 _Testing PASS_ Submitter: Tudor Cornea Date: Tuesday, February 04 2025 16:45:08 DPDK git baseline: Repo:dpdk Branch: master CommitID:595535be66b103f7ce3ba61939b8013032987404 150893 --> testing pass Upstream job id: Generic-Unit-Test-DPDK#311613 Test environment and result as below: +---------------------+----------------+ | Environment | dpdk_unit_test | +=====================+================+ | Debian 12 | PASS | +---------------------+----------------+ | CentOS Stream 9 | PASS | +---------------------+----------------+ | Debian Bullseye | PASS | +---------------------+----------------+ | Fedora 40 | PASS | +---------------------+----------------+ | Fedora 40 (Clang) | PASS | +---------------------+----------------+ | Fedora 41 | PASS | +---------------------+----------------+ | Fedora 41 (Clang) | PASS | +---------------------+----------------+ | RHEL9 | PASS | +---------------------+----------------+ | RHEL8 | PASS | +---------------------+----------------+ | Ubuntu 20.04 | PASS | +---------------------+----------------+ | Ubuntu 22.04 | PASS | +---------------------+----------------+ | Ubuntu 24.04 | PASS | +---------------------+----------------+ | Windows Server 2022 | PASS | +---------------------+----------------+ Debian 12 Kernel: Depends on container host Compiler: gcc (Debian 12.2.0-14) 12.2.0 CentOS Stream 9 Kernel: Depends on container host Compiler: gcc 11.5.0 20240719 (Red Hat 11.5.0-2) Debian Bullseye Kernel: Depends on container host Compiler: gcc (Debian 10.2.1-6) 10.2.1 20210110 Fedora 40 Kernel: Depends on container host Compiler: gcc 14.2.1 20240912 (Red Hat 14.2.1-3) Fedora 40 (Clang) Kernel: Depends on container host Compiler: clang 18.1.8 (Fedora 18.1.8-1.fc40) Fedora 41 Kernel: Depends on container host Compiler: gcc 14.2.1 20240912 (Red Hat 14.2.1-3) Fedora 41 (Clang) Kernel: Depends on container host Compiler: clang 19.1.5 (Fedora 19.1.5-1.fc41) RHEL9 Kernel: Depends on container host Compiler: gcc 11.5.0 20240719 (Red Hat 11.5.0-2) RHEL8 Kernel: Depends on container host Compiler: gcc 8.5.0 20210514 (Red Hat 8.5.0-22) Ubuntu 20.04 Kernel: Depends on container host Compiler: gcc (Ubuntu 9.4.0-1ubuntu1~20.04.2) 9.4.0 Ubuntu 22.04 Kernel: Depends on container host Compiler: gcc (Ubuntu 11.4.0-1ubuntu1~22.04) 11.4.0 Ubuntu 24.04 Kernel: Depends on container host Compiler: gcc (Ubuntu 13.3.0-6ubuntu2~24.04) 13.3.0 Windows Server 2022 Kernel: 10.0.20348.2031 Compiler: clang 15.0.7, gcc 14.1.0 (MinGW), and MSVC VS 19.39.33521 To view detailed results, visit: https://lab.dpdk.org/results/dashboard/patchsets/32490/ UNH-IOL DPDK Community Lab To manage your email subscriptions, visit: https://lab.dpdk.org/results/dashboard/preferences/subscriptions/