From mboxrd@z Thu Jan 1 00:00:00 1970 Return-Path: Received: from mails.dpdk.org (mails.dpdk.org [217.70.189.124]) by inbox.dpdk.org (Postfix) with ESMTP id 27A8746192 for ; Wed, 5 Feb 2025 01:27:56 +0100 (CET) Received: from mails.dpdk.org (localhost [127.0.0.1]) by mails.dpdk.org (Postfix) with ESMTP id F266D4021E; Wed, 5 Feb 2025 01:27:55 +0100 (CET) Received: from mail-yb1-f225.google.com (mail-yb1-f225.google.com [209.85.219.225]) by mails.dpdk.org (Postfix) with ESMTP id E0478400EF for ; Wed, 5 Feb 2025 01:27:54 +0100 (CET) Received: by mail-yb1-f225.google.com with SMTP id 3f1490d57ef6-e460717039fso5084046276.0 for ; Tue, 04 Feb 2025 16:27:54 -0800 (PST) DKIM-Signature: v=1; a=rsa-sha256; c=relaxed/relaxed; d=iol.unh.edu; s=unh-iol; t=1738715274; x=1739320074; darn=dpdk.org; h=references:in-reply-to:cc:to:from:subject:message-id:date:from:to :cc:subject:date:message-id:reply-to; bh=87FnUeZM4HMyw/dZP2KapwppeoPZPaG7M/gELex9Ku8=; b=VTj/CpKw5eRmeRq+CmMb6XE5Jo3NL80XoXgyJfO3akOqAGUTjj4XWH5LvRlJXzZxma 2E2/mMivz5vRU/TGTE2zxzA1BqJ1TdhbUoc0GEbnP6vCnQfPCLBY4x4I2fxzS/rhGrJH BcmR/XL2Pq0RNUoOLNhjQK03NqQY7zyMxBQkM= X-Google-DKIM-Signature: v=1; a=rsa-sha256; c=relaxed/relaxed; d=1e100.net; s=20230601; t=1738715274; x=1739320074; h=references:in-reply-to:cc:to:from:subject:message-id:date :x-gm-message-state:from:to:cc:subject:date:message-id:reply-to; bh=87FnUeZM4HMyw/dZP2KapwppeoPZPaG7M/gELex9Ku8=; b=dHDLTki3bekscBvRDE0CE4DnfuXcBtiQEHcGrL2LegqwU6UhEkJKD3DRsmCdXyRUzV 48vHHvF/pT4YIgpkQLtTvywQmKCSFltPZdy39X1NpJHGxWz3wGWV/nVoEFLOitxvWSFu OXI/AKjCDk5/f/JOWW2xf9P8ru0rLWNa3pmuBxPC5KNSbXW8oCACA2vaUZhBoTNICLoY ahmwoj8fUjJvfZ9iomovVZp0wOkeea2/qzE3llKuS1t3L/EabHYim3jb0KmfTrBiHQTZ Yfm9BaNr8iXTgiEcfZ5xnCeIKzaiQPozBohewTVqec4cyxF5yVMCCQUPxLr3LwlG9j5A m/8Q== X-Gm-Message-State: AOJu0YyioFeawnw0KV7+D2EjotvhyV9xx5avWdiAZLo7AJeRjKABT0XW MjG50GtyERUcizAu+X48meq9bZXp6ytIw8YMPsfuWg7x4Dw4e3n7Nv9Hjr6kasM17i7+iAI1ZX0 gHEihFXcCjKPo0bJTi0mws1jcR9s0qcHIYx1B/0Xp X-Gm-Gg: ASbGnctZBnkBZqD/1UXhfVRjE2ZKsPw5J7BlVfMSATIluDdgVQ6W/nLZ/TEENxkz9bw VtezVbv/16tE8ZXiCmDl/H3UpdjWbnC1HIwURmckdgY+Ngprdwsywh7aFo5rKwcXN0XCoKDqfy0 Mbyrq2ywsf2069b131xD3Rf7whzj6hGbyTvF5Kvo5WZu++Y0L4bU7ylgCXeyQsbYJ8daZuUpEnF 7fkm2aM9MxIAsmuxTwDiBtKyXBObyYV9lKHTqfp7baS7KV8vxQYOPOrr6RVdXuuEoY1bdrBcGkR vLK3xFsV/blbI6T8gssLk21iQnXj/g== X-Google-Smtp-Source: AGHT+IHyvAdVGY+X6B0GK6cxDmmkywIvRvT+XqTN3tXP2q7bmI2+/G6hc6e1FqqBSKF68Uajxi/cv61hOCZr X-Received: by 2002:a05:6902:2102:b0:e57:4a0d:4716 with SMTP id 3f1490d57ef6-e5b25bcfefdmr792306276.38.1738715274165; Tue, 04 Feb 2025 16:27:54 -0800 (PST) Received: from postal.iol.unh.edu (postal.iol.unh.edu. [132.177.123.84]) by smtp-relay.gmail.com with ESMTPS id 3f1490d57ef6-e5acb3db1fbsm764656276.20.2025.02.04.16.27.54 (version=TLS1_2 cipher=ECDHE-ECDSA-AES128-GCM-SHA256 bits=128/128); Tue, 04 Feb 2025 16:27:54 -0800 (PST) X-Relaying-Domain: iol.unh.edu Date: Tue, 04 Feb 2025 16:27:54 -0800 (PST) Message-ID: <67a2b08a.250a0220.194c10.54dfSMTPIN_ADDED_MISSING@mx.google.com> Received: from [172.21.0.5] (unknown [172.18.0.240]) by postal.iol.unh.edu (Postfix) with ESMTP id CC12B6052471; Tue, 4 Feb 2025 19:27:53 -0500 (EST) Subject: |SUCCESS| pw150893 [PATCH] net/af_packet: fix socket close on device From: dpdklab@iol.unh.edu To: Test Report Cc: dpdk-test-reports@iol.unh.edu In-Reply-To: <20250204164508.864080-1-tudor.cornea@gmail.com> References: <20250204164508.864080-1-tudor.cornea@gmail.com> Content-Type: text/plain X-BeenThere: test-report@dpdk.org X-Mailman-Version: 2.1.29 Precedence: list List-Id: automatic DPDK test reports List-Unsubscribe: , List-Archive: List-Post: List-Help: List-Subscribe: , Errors-To: test-report-bounces@dpdk.org Test-Label: iol-unit-amd64-testing Test-Status: SUCCESS http://dpdk.org/patch/150893 _Testing PASS_ Submitter: Tudor Cornea Date: Tuesday, February 04 2025 16:45:08 DPDK git baseline: Repo:dpdk Branch: master CommitID:595535be66b103f7ce3ba61939b8013032987404 150893 --> testing pass Upstream job id: Generic-Unit-Test-DPDK#311636 Test environment and result as below: +---------------------+----------------+ | Environment | dpdk_unit_test | +=====================+================+ | Debian Bullseye | PASS | +---------------------+----------------+ | Debian 12 | PASS | +---------------------+----------------+ | CentOS Stream 9 | PASS | +---------------------+----------------+ | Fedora 41 (Clang) | PASS | +---------------------+----------------+ | Fedora 41 | PASS | +---------------------+----------------+ | Fedora 40 (Clang) | PASS | +---------------------+----------------+ | Fedora 40 | PASS | +---------------------+----------------+ | RHEL8 | PASS | +---------------------+----------------+ | RHEL9 | PASS | +---------------------+----------------+ | Ubuntu 20.04 | PASS | +---------------------+----------------+ | Ubuntu 22.04 | PASS | +---------------------+----------------+ | Ubuntu 24.04 | PASS | +---------------------+----------------+ | Windows Server 2022 | PASS | +---------------------+----------------+ Debian Bullseye Kernel: Depends on container host Compiler: gcc (Debian 10.2.1-6) 10.2.1 20210110 Debian 12 Kernel: Depends on container host Compiler: gcc (Debian 12.2.0-14) 12.2.0 CentOS Stream 9 Kernel: Depends on container host Compiler: gcc 11.5.0 20240719 (Red Hat 11.5.0-2) Fedora 41 (Clang) Kernel: Depends on container host Compiler: clang 19.1.5 (Fedora 19.1.5-1.fc41) Fedora 41 Kernel: Depends on container host Compiler: gcc 14.2.1 20240912 (Red Hat 14.2.1-3) Fedora 40 (Clang) Kernel: Depends on container host Compiler: clang 18.1.8 (Fedora 18.1.8-1.fc40) Fedora 40 Kernel: Depends on container host Compiler: gcc 14.2.1 20240912 (Red Hat 14.2.1-3) RHEL8 Kernel: Depends on container host Compiler: gcc 8.5.0 20210514 (Red Hat 8.5.0-22) RHEL9 Kernel: Depends on container host Compiler: gcc 11.5.0 20240719 (Red Hat 11.5.0-2) Ubuntu 20.04 Kernel: Depends on container host Compiler: gcc (Ubuntu 9.4.0-1ubuntu1~20.04.2) 9.4.0 Ubuntu 22.04 Kernel: Depends on container host Compiler: gcc (Ubuntu 11.4.0-1ubuntu1~22.04) 11.4.0 Ubuntu 24.04 Kernel: Depends on container host Compiler: gcc (Ubuntu 13.3.0-6ubuntu2~24.04) 13.3.0 Windows Server 2022 Kernel: 10.0.20348.2031 Compiler: clang 15.0.7, gcc 14.1.0 (MinGW), and MSVC VS 19.39.33521 To view detailed results, visit: https://lab.dpdk.org/results/dashboard/patchsets/32490/ UNH-IOL DPDK Community Lab To manage your email subscriptions, visit: https://lab.dpdk.org/results/dashboard/preferences/subscriptions/