From mboxrd@z Thu Jan 1 00:00:00 1970 Return-Path: Received: from mails.dpdk.org (mails.dpdk.org [217.70.189.124]) by inbox.dpdk.org (Postfix) with ESMTP id 23C5A46192 for ; Wed, 5 Feb 2025 01:28:06 +0100 (CET) Received: from mails.dpdk.org (localhost [127.0.0.1]) by mails.dpdk.org (Postfix) with ESMTP id 1D1574021E; Wed, 5 Feb 2025 01:28:06 +0100 (CET) Received: from mail-pl1-f227.google.com (mail-pl1-f227.google.com [209.85.214.227]) by mails.dpdk.org (Postfix) with ESMTP id 5B59E400EF for ; Wed, 5 Feb 2025 01:28:04 +0100 (CET) Received: by mail-pl1-f227.google.com with SMTP id d9443c01a7336-2164b662090so120981615ad.1 for ; Tue, 04 Feb 2025 16:28:04 -0800 (PST) DKIM-Signature: v=1; a=rsa-sha256; c=relaxed/relaxed; d=iol.unh.edu; s=unh-iol; t=1738715283; x=1739320083; darn=dpdk.org; h=references:in-reply-to:cc:to:from:subject:message-id:date:from:to :cc:subject:date:message-id:reply-to; bh=JCkjMTE62Zlo+77aSHThVuFJjED4Aq73MdaVYY9pq1E=; b=NUys9rjkHZsSimSW4+F93ltKn85xntCACTbdKOwsnAq1ZXMFjyAbq1QeN1NJ+OvlGX U1oeuKZeDAmmX3ULFEc0zC6yYn7CK+LRP1mYEeLxxcX1gUS2KF7M7fi9+WkvKeDcHUY+ b8VsNo+HZO3bcMx4ST3ZldSGzxDPOr1o1l4Ow= X-Google-DKIM-Signature: v=1; a=rsa-sha256; c=relaxed/relaxed; d=1e100.net; s=20230601; t=1738715283; x=1739320083; h=references:in-reply-to:cc:to:from:subject:message-id:date :x-gm-message-state:from:to:cc:subject:date:message-id:reply-to; bh=JCkjMTE62Zlo+77aSHThVuFJjED4Aq73MdaVYY9pq1E=; b=khiJLy0xjicQsBsd9k8i9iE6OixUKrR3j0OohytosvCo7DQUe9LTyklrd/uoYNGwYK xPoDEN/i25zjzXdEUPFsnQa/CQWll6yb+1yiCqquEfunYEnoGMsNzh+o+c4FRcV8s4Gz mQJuWEA/kBMPDX4lxfJSiRIM4LT7RweY2w3nDC8jLr5UHif07nTR2FHBQtAR3Ib5CBjc +AMBh9+BOFQ3ntOJlmIJhIZDIrg4f1ZJDmkZ9+VCc5SYhck7Pf0bPv5CHZ667UBhsyWU 0MEabcSfNkm663j2ng6JknFRL9C/1OCoBONned6DZMS2Eptc7NZmLa+9vlu2T2wgvdku wpRw== X-Gm-Message-State: AOJu0YwXWgpPMdjqa9nKf/ZqDoUQc/0Hcan8ICQFqHdx2/jCSTdJ77SC q8DmjbdCuSKJ7+DOLyapbITZIfEHqqWoxTx0TBFpvMTIFWV08FyZ1oTN6eMU3VsVOEARTYBVGHe zQeSgc95KQXXtnnFT2CFBNsdJaSt2yHA/rnLhuSed+XcpKUcEdz41+HV1 X-Gm-Gg: ASbGncuQu+i0XcArL/0weOqHvGkcUqS8QBbroI0FH2Rcx/BYnHXMzHWLS/9lb5g6Ado 4kfvUH5dbpaC1aGlXFk1Dmnd6dff6JuPuqb+/jCR6et01habMVYKqUTfemQ3DEu0TGWGtks6Ycn SYLQAVW0qt7U/yDCRoQ20rllJ8tBt+ogLVXG9o9aVjz4+H81To+/f1BBourdvf2dWCkKQuSe7bb jkrJVumxR6yCggd5zSjvykE0EjkGZ8yn2vBG8F0filKOdlzVCNF5grTZZFUQ8uqIkkyOrGD9UN4 RjKZBfqn6bgxchVdcT83udf2rXbafRuerkmbhp9HQA== X-Google-Smtp-Source: AGHT+IHD7kFfJl26LN2xH1r5KFO/huprsgjJYMdw0EYMgKgvilKwD/8gEYJskmKL9JBIGCYDBss4JZUYubYF X-Received: by 2002:a17:903:8c4:b0:219:e4b0:4286 with SMTP id d9443c01a7336-21f17e26cd7mr12187495ad.29.1738715282008; Tue, 04 Feb 2025 16:28:02 -0800 (PST) Received: from postal.iol.unh.edu (postal.iol.unh.edu. [2606:4100:3880:1234::84]) by smtp-relay.gmail.com with ESMTPS id d9443c01a7336-21de3325580sm5913755ad.82.2025.02.04.16.28.01 (version=TLS1_2 cipher=ECDHE-ECDSA-AES128-GCM-SHA256 bits=128/128); Tue, 04 Feb 2025 16:28:01 -0800 (PST) X-Relaying-Domain: iol.unh.edu Date: Tue, 04 Feb 2025 16:28:01 -0800 (PST) Message-ID: <67a2b091.170a0220.46df8.b28aSMTPIN_ADDED_MISSING@mx.google.com> Received: from [172.21.0.7] (unknown [172.18.0.240]) by postal.iol.unh.edu (Postfix) with ESMTP id 703E86052471; Tue, 4 Feb 2025 19:28:01 -0500 (EST) Subject: |SUCCESS| pw150893 [PATCH] net/af_packet: fix socket close on device From: dpdklab@iol.unh.edu To: Test Report Cc: dpdk-test-reports@iol.unh.edu In-Reply-To: <20250204164508.864080-1-tudor.cornea@gmail.com> References: <20250204164508.864080-1-tudor.cornea@gmail.com> Content-Type: text/plain X-BeenThere: test-report@dpdk.org X-Mailman-Version: 2.1.29 Precedence: list List-Id: automatic DPDK test reports List-Unsubscribe: , List-Archive: List-Post: List-Help: List-Subscribe: , Errors-To: test-report-bounces@dpdk.org Test-Label: iol-unit-amd64-testing Test-Status: SUCCESS http://dpdk.org/patch/150893 _Testing PASS_ Submitter: Tudor Cornea Date: Tuesday, February 04 2025 16:45:08 DPDK git baseline: Repo:dpdk Branch: master CommitID:595535be66b103f7ce3ba61939b8013032987404 150893 --> testing pass Upstream job id: Generic-Unit-Test-DPDK#311638 Test environment and result as below: +---------------------+----------------+ | Environment | dpdk_unit_test | +=====================+================+ | Debian Bullseye | PASS | +---------------------+----------------+ | Debian 12 | PASS | +---------------------+----------------+ | CentOS Stream 9 | PASS | +---------------------+----------------+ | Fedora 41 (Clang) | PASS | +---------------------+----------------+ | Fedora 41 | PASS | +---------------------+----------------+ | Fedora 40 (Clang) | PASS | +---------------------+----------------+ | Fedora 40 | PASS | +---------------------+----------------+ | RHEL8 | PASS | +---------------------+----------------+ | RHEL9 | PASS | +---------------------+----------------+ | Ubuntu 20.04 | PASS | +---------------------+----------------+ | Ubuntu 22.04 | PASS | +---------------------+----------------+ | Ubuntu 24.04 | PASS | +---------------------+----------------+ | Windows Server 2022 | PASS | +---------------------+----------------+ Debian Bullseye Kernel: Depends on container host Compiler: gcc (Debian 10.2.1-6) 10.2.1 20210110 Debian 12 Kernel: Depends on container host Compiler: gcc (Debian 12.2.0-14) 12.2.0 CentOS Stream 9 Kernel: Depends on container host Compiler: gcc 11.5.0 20240719 (Red Hat 11.5.0-2) Fedora 41 (Clang) Kernel: Depends on container host Compiler: clang 19.1.5 (Fedora 19.1.5-1.fc41) Fedora 41 Kernel: Depends on container host Compiler: gcc 14.2.1 20240912 (Red Hat 14.2.1-3) Fedora 40 (Clang) Kernel: Depends on container host Compiler: clang 18.1.8 (Fedora 18.1.8-1.fc40) Fedora 40 Kernel: Depends on container host Compiler: gcc 14.2.1 20240912 (Red Hat 14.2.1-3) RHEL8 Kernel: Depends on container host Compiler: gcc 8.5.0 20210514 (Red Hat 8.5.0-22) RHEL9 Kernel: Depends on container host Compiler: gcc 11.5.0 20240719 (Red Hat 11.5.0-2) Ubuntu 20.04 Kernel: Depends on container host Compiler: gcc (Ubuntu 9.4.0-1ubuntu1~20.04.2) 9.4.0 Ubuntu 22.04 Kernel: Depends on container host Compiler: gcc (Ubuntu 11.4.0-1ubuntu1~22.04) 11.4.0 Ubuntu 24.04 Kernel: Depends on container host Compiler: gcc (Ubuntu 13.3.0-6ubuntu2~24.04) 13.3.0 Windows Server 2022 Kernel: 10.0.20348.2031 Compiler: clang 15.0.7, gcc 14.1.0 (MinGW), and MSVC VS 19.39.33521 To view detailed results, visit: https://lab.dpdk.org/results/dashboard/patchsets/32490/ UNH-IOL DPDK Community Lab To manage your email subscriptions, visit: https://lab.dpdk.org/results/dashboard/preferences/subscriptions/