From mboxrd@z Thu Jan 1 00:00:00 1970 Return-Path: Received: from mails.dpdk.org (mails.dpdk.org [217.70.189.124]) by inbox.dpdk.org (Postfix) with ESMTP id 939F746192 for ; Wed, 5 Feb 2025 01:36:00 +0100 (CET) Received: from mails.dpdk.org (localhost [127.0.0.1]) by mails.dpdk.org (Postfix) with ESMTP id 6B03F4021E; Wed, 5 Feb 2025 01:36:00 +0100 (CET) Received: from mail-oo1-f98.google.com (mail-oo1-f98.google.com [209.85.161.98]) by mails.dpdk.org (Postfix) with ESMTP id 7A589400EF for ; Wed, 5 Feb 2025 01:35:59 +0100 (CET) Received: by mail-oo1-f98.google.com with SMTP id 006d021491bc7-5f31b3db5ecso2553972eaf.0 for ; Tue, 04 Feb 2025 16:35:59 -0800 (PST) DKIM-Signature: v=1; a=rsa-sha256; c=relaxed/relaxed; d=iol.unh.edu; s=unh-iol; t=1738715758; x=1739320558; darn=dpdk.org; h=references:in-reply-to:cc:to:from:subject:message-id:date:from:to :cc:subject:date:message-id:reply-to; bh=7ydcFXafTV/XcxARfp+jSzivgmRgz3NJDyvziD6GD8s=; b=R0kvE+eLagFUluIlf4s4KPB3LQzkXOyirYhMNf5BlnjJtRm/w1SlJ1uujRhlN1ApgA zgi6T/OmBIMf6P2dHjOWwqY9XxYIbsKa+gSsSPNsF+JTtN+JseQCL4JcAMP63ETtNmxP NkhgvbECsP/wrSuzmlVwQ8No6dDRdfHeYCnFU= X-Google-DKIM-Signature: v=1; a=rsa-sha256; c=relaxed/relaxed; d=1e100.net; s=20230601; t=1738715758; x=1739320558; h=references:in-reply-to:cc:to:from:subject:message-id:date :x-gm-message-state:from:to:cc:subject:date:message-id:reply-to; bh=7ydcFXafTV/XcxARfp+jSzivgmRgz3NJDyvziD6GD8s=; b=sjpZ+4I9Cz3RyuxpL2r2FTytzW/nm1Zs4nhEhErWZsMJonE/Evyp2DVt8CaXKDnh43 l1upInscRiln2DcnbWG9BVON2a68MAnjK0r+ZBQpQchw3iywq9q1o406A7irWMdAYVZg 6rolvnCO/yLeIn+GDUAtyoQKEW6GWlNsQ+0GgDLRT3ySkfDAiWX6tc3Lq5+NydXTDnnD RnphFMHlnIBy0GJ7+kyEMsgZ+cCJBtoN0z5gNUDnVrMY+maKfgxldemy9Rdx9IPeYVo2 OfluYuxhLCuDcrBgls1KKU+iVwdcm99PMtsApAzg3whQcWy9cxHk42JGg/q9QE2zhKl5 W80A== X-Gm-Message-State: AOJu0Yw878psRrN29DxLqrXaygUohG0kWlwWEUlSIRDp8IcF9p/C9lKV LUV1hX72LGnEszKS1jHMtT0bzWuuXlnhwquuVTd4NNmaAVXMD9rkUaj6M5HerVFLOb5vFJ31190 BPmvbIEJlEe+IbKRuCee9JXSZ4+/FMf5bTzP952fcDe/CCejqGTB+bX0E X-Gm-Gg: ASbGncsPYpsmjdvjG88YAJo9ggtgrz49fsyuqOpWgluVYaJEOq0Ra9mNIojle9w6ytZ JUVHFTmPQCnF/KwUQv2Kt4tnDVaR9TVXyJIm7ljy/NP7SvCt1KV1ce/QEdoxARM4ytV1ung3xWS M7rcK4jecVUnmPAa6FLNKpi7h8S3WxP6IdQP7x2JdeuHzmp0hsHdOHFclpdxvVdhnv8tiPnC1tM OgdEe2ZWLHNzcoH4W6JN4HIttqcm7bFEoevIXNXykdRISe3+zRGFuD+ad9ZcZ+hDHRAnRuXCFR1 goUNfUox0la/mIbp8sDNjRpYZzxLveNnsY9xyh4FIA== X-Google-Smtp-Source: AGHT+IGU/vjJHrK7bb/ZEmlFg7mEE/gRqO9FLh2L8+zyYWQlymPuJbID0BlaGUuEaF99nopAxw5clpWjvsQm X-Received: by 2002:a05:6820:151d:b0:5fa:2db5:e58d with SMTP id 006d021491bc7-5fc477749c5mr783147eaf.0.1738715758625; Tue, 04 Feb 2025 16:35:58 -0800 (PST) Received: from postal.iol.unh.edu (postal.iol.unh.edu. [2606:4100:3880:1234::84]) by smtp-relay.gmail.com with ESMTPS id 006d021491bc7-5fc104c43cbsm208943eaf.10.2025.02.04.16.35.58 (version=TLS1_2 cipher=ECDHE-ECDSA-AES128-GCM-SHA256 bits=128/128); Tue, 04 Feb 2025 16:35:58 -0800 (PST) X-Relaying-Domain: iol.unh.edu Date: Tue, 04 Feb 2025 16:35:58 -0800 (PST) Message-ID: <67a2b26e.050a0220.79773.96b9SMTPIN_ADDED_MISSING@mx.google.com> Received: from [172.21.0.5] (unknown [172.18.0.240]) by postal.iol.unh.edu (Postfix) with ESMTP id 15D186052471; Tue, 4 Feb 2025 19:35:58 -0500 (EST) Subject: |SUCCESS| pw150902 [PATCH] [v2] eal: force compilation of RTE_ASSERT From: dpdklab@iol.unh.edu To: Test Report Cc: dpdk-test-reports@iol.unh.edu In-Reply-To: <20250204194759.723484-1-stephen@networkplumber.org> References: <20250204194759.723484-1-stephen@networkplumber.org> Content-Type: text/plain X-BeenThere: test-report@dpdk.org X-Mailman-Version: 2.1.29 Precedence: list List-Id: automatic DPDK test reports List-Unsubscribe: , List-Archive: List-Post: List-Help: List-Subscribe: , Errors-To: test-report-bounces@dpdk.org Test-Label: iol-compile-amd64-testing Test-Status: SUCCESS http://dpdk.org/patch/150902 _Testing PASS_ Submitter: Stephen Hemminger Date: Tuesday, February 04 2025 19:46:09 DPDK git baseline: Repo:dpdk Branch: master CommitID:dc4ce7c2538b713e16887eb598da309bc7b4d528 150902 --> testing pass Upstream job id: Generic-VM-DPDK-Compile-Meson#33041 Test environment and result as below: +---------------------+-------------------+--------------------+ | Environment | dpdk_msvc_compile | dpdk_meson_compile | +=====================+===================+====================+ | Windows Server 2022 | PASS | SKIPPED | +---------------------+-------------------+--------------------+ | FreeBSD 13.4 | SKIPPED | PASS | +---------------------+-------------------+--------------------+ | FreeBSD 14.2 | SKIPPED | PASS | +---------------------+-------------------+--------------------+ Windows Server 2022 Kernel: 10.0.20348.2031 Compiler: clang 15.0.7, gcc 14.1.0 (MinGW), and MSVC VS 19.39.33521 FreeBSD 13.4 Kernel: 13.4-RELEASE-p1 Compiler: clang 18.1.6 FreeBSD 14.2 Kernel: 14.2-RELEASE Compiler: clang 18.1.6 To view detailed results, visit: https://lab.dpdk.org/results/dashboard/patchsets/32493/ UNH-IOL DPDK Community Lab To manage your email subscriptions, visit: https://lab.dpdk.org/results/dashboard/preferences/subscriptions/