From mboxrd@z Thu Jan 1 00:00:00 1970 Return-Path: Received: from mails.dpdk.org (mails.dpdk.org [217.70.189.124]) by inbox.dpdk.org (Postfix) with ESMTP id C207846192 for ; Wed, 5 Feb 2025 01:36:19 +0100 (CET) Received: from mails.dpdk.org (localhost [127.0.0.1]) by mails.dpdk.org (Postfix) with ESMTP id C01DD4021E; Wed, 5 Feb 2025 01:36:19 +0100 (CET) Received: from mail-il1-f225.google.com (mail-il1-f225.google.com [209.85.166.225]) by mails.dpdk.org (Postfix) with ESMTP id B090D400EF for ; Wed, 5 Feb 2025 01:36:18 +0100 (CET) Received: by mail-il1-f225.google.com with SMTP id e9e14a558f8ab-3cfc8772469so21444095ab.3 for ; Tue, 04 Feb 2025 16:36:18 -0800 (PST) DKIM-Signature: v=1; a=rsa-sha256; c=relaxed/relaxed; d=iol.unh.edu; s=unh-iol; t=1738715778; x=1739320578; darn=dpdk.org; h=references:in-reply-to:cc:to:from:subject:message-id:date:from:to :cc:subject:date:message-id:reply-to; bh=MNEU6cAPxfFcRvaa4HEaXnKQBQocuWValEK8XL34m3U=; b=e4LV+EKPQes9GctottXx0Z1rjfbD7FMKHDhmWPYfx2CJ+T5R53aNTxMkNy4qWwNo4x ek8jel18h+Pog/2wUb1vcIKv5jQQrDPJAHeplytVtsuKe9er9F3O0IOngHUr9PFBJGGj bhMDtWx2VH8T7govZbpAplUFVlqoNf2sPYbjE= X-Google-DKIM-Signature: v=1; a=rsa-sha256; c=relaxed/relaxed; d=1e100.net; s=20230601; t=1738715778; x=1739320578; h=references:in-reply-to:cc:to:from:subject:message-id:date :x-gm-message-state:from:to:cc:subject:date:message-id:reply-to; bh=MNEU6cAPxfFcRvaa4HEaXnKQBQocuWValEK8XL34m3U=; b=r992pO1iRD2qXEkP9IZ5I+pp336VwrSuU2jVJJkRHjudSFc+0K/QTKZRDkXrVGIsli 4JcAUK9QIZMa4fBc0hcg0fyTyvKiKBtL8jaYPTuVHbsIYobbcd2VZD2cHIHDcLG4AVLQ eMrqrGIVfa6qAW4Hw4kovdTz5RD4p2/CowiaRyQk2YZnaIt9t/+H0nZvgkhTz5ADEwiR 9k4bntHeUnx12tvLbfi5aJM8cbZ8KHQ+qIcjxj2O8raVbQK4KnQqXrsDuljrEECtKSPc k+l5a4Mjd4NfMxsEEoq056JTOoz8Ppd3S3nGkqU2lo+6+4n8iTtq20DnT1YVTRgSBMIH U+Gw== X-Gm-Message-State: AOJu0YwQk4RZ+resz7PtjisMUVGqJxGzuqD9Z4Q8dP4tZITpun2qzwKI bPiZfR/yNmeS2W+/vYIwYazLi/FpypSYBdJH/Y9/uM+bgD/NRxRVnZbegB9ZmnlUVL9S9r8J+te U83ki+InxFv/W1KOMxb4MFQIu35mlZvhQp4jBxvM5 X-Gm-Gg: ASbGnctyQrsEqNEeK7SZ9kcakKqC1YkWofWUVSuxBb1aENpgmOkc5DPtGAIAQCSbArK gLu9AMu3I950B/5JmhI74JS5FMrQSux20WIwy0mfdfuD+1Js5YAP3ef0wFyH9PtWMrIUvKZNeqc XpO8JImLu6x5BUrxCCvJWYTwXfzwVWY94F6Ll0h1ZP9h8BzPwQObKZiutqE3N+GWxO28bcnaGzO ZFMbeYnb/JowYrgc+qjRx95MQzX8P5W0s6/DBQcW14l05kJ/RVfLkVKHRXBEQmIIXx0SHm9Wwws V+tHuOcrI4Gl1A7LGzMNW6tVlDun1w== X-Google-Smtp-Source: AGHT+IGnWnkpOyQU+yE4cV3JPQJeQE5DjM06j+rHYYYduNQoqZyr7WyV02FJg7nrkYYLVrNbQPUL4En1YEex X-Received: by 2002:a92:cd8f:0:b0:3d0:134b:6762 with SMTP id e9e14a558f8ab-3d04f42fe5fmr8773975ab.6.1738715777942; Tue, 04 Feb 2025 16:36:17 -0800 (PST) Received: from postal.iol.unh.edu (postal.iol.unh.edu. [132.177.123.84]) by smtp-relay.gmail.com with ESMTPS id 8926c6da1cb9f-4ec745b6555sm743482173.23.2025.02.04.16.36.17 (version=TLS1_2 cipher=ECDHE-ECDSA-AES128-GCM-SHA256 bits=128/128); Tue, 04 Feb 2025 16:36:17 -0800 (PST) X-Relaying-Domain: iol.unh.edu Date: Tue, 04 Feb 2025 16:36:17 -0800 (PST) Message-ID: <67a2b281.050a0220.2dca1f.2c82SMTPIN_ADDED_MISSING@mx.google.com> Received: from [172.21.0.6] (unknown [172.18.0.240]) by postal.iol.unh.edu (Postfix) with ESMTP id 7850A6052471; Tue, 4 Feb 2025 19:36:17 -0500 (EST) Subject: |SUCCESS| pw150809-150808 [PATCH] [v3,2/2] stack: enable build with From: dpdklab@iol.unh.edu To: Test Report Cc: dpdk-test-reports@iol.unh.edu In-Reply-To: <1738634318-12876-3-git-send-email-andremue@linux.microsoft.com> References: <1738634318-12876-3-git-send-email-andremue@linux.microsoft.com> Content-Type: text/plain X-BeenThere: test-report@dpdk.org X-Mailman-Version: 2.1.29 Precedence: list List-Id: automatic DPDK test reports List-Unsubscribe: , List-Archive: List-Post: List-Help: List-Subscribe: , Errors-To: test-report-bounces@dpdk.org Test-Label: iol-compile-amd64-testing Test-Status: SUCCESS http://dpdk.org/patch/150808 _Testing PASS_ Submitter: Andre Muezerie Date: Tuesday, February 04 2025 01:58:38 DPDK git baseline: Repo:dpdk Branch: master CommitID:dc4ce7c2538b713e16887eb598da309bc7b4d528 150809-150808 --> testing pass Upstream job id: Windows-Compile-DPDK-Native#26304 Test environment and result as below: +---------------------+--------------------+------------------+-------------------+-------------------+----------------------+-------------------------+ | Environment | dpdk_meson_compile | dpdk_compile_ovs | dpdk_compile_spdk | dpdk_msvc_compile | dpdk_mingw64_compile | dpdk_llvm_clang_compile | +=====================+====================+==================+===================+===================+======================+=========================+ | CentOS Stream 9 | PASS | PASS | PASS | SKIPPED | SKIPPED | SKIPPED | +---------------------+--------------------+------------------+-------------------+-------------------+----------------------+-------------------------+ | Debian Bullseye | PASS | PASS | PASS | SKIPPED | SKIPPED | SKIPPED | +---------------------+--------------------+------------------+-------------------+-------------------+----------------------+-------------------------+ | Fedora 40 (Clang) | PASS | PASS | PASS | SKIPPED | SKIPPED | SKIPPED | +---------------------+--------------------+------------------+-------------------+-------------------+----------------------+-------------------------+ | Fedora 40 | PASS | PASS | PASS | SKIPPED | SKIPPED | SKIPPED | +---------------------+--------------------+------------------+-------------------+-------------------+----------------------+-------------------------+ | Debian 12 | PASS | PASS | PASS | SKIPPED | SKIPPED | SKIPPED | +---------------------+--------------------+------------------+-------------------+-------------------+----------------------+-------------------------+ | Fedora 41 (Clang) | PASS | PASS | PASS | SKIPPED | SKIPPED | SKIPPED | +---------------------+--------------------+------------------+-------------------+-------------------+----------------------+-------------------------+ | RHEL8 | PASS | PASS | SKIPPED | SKIPPED | SKIPPED | SKIPPED | +---------------------+--------------------+------------------+-------------------+-------------------+----------------------+-------------------------+ | RHEL9 | PASS | PASS | SKIPPED | SKIPPED | SKIPPED | SKIPPED | +---------------------+--------------------+------------------+-------------------+-------------------+----------------------+-------------------------+ | openSUSE Leap 15 | PASS | SKIPPED | SKIPPED | SKIPPED | SKIPPED | SKIPPED | +---------------------+--------------------+------------------+-------------------+-------------------+----------------------+-------------------------+ | Ubuntu 20.04 | PASS | SKIPPED | SKIPPED | SKIPPED | SKIPPED | SKIPPED | +---------------------+--------------------+------------------+-------------------+-------------------+----------------------+-------------------------+ | Ubuntu 22.04 | PASS | PASS | PASS | SKIPPED | SKIPPED | SKIPPED | +---------------------+--------------------+------------------+-------------------+-------------------+----------------------+-------------------------+ | Ubuntu 24.04 | PASS | PASS | PASS | SKIPPED | SKIPPED | SKIPPED | +---------------------+--------------------+------------------+-------------------+-------------------+----------------------+-------------------------+ | Alpine | PASS | PASS | SKIPPED | SKIPPED | SKIPPED | SKIPPED | +---------------------+--------------------+------------------+-------------------+-------------------+----------------------+-------------------------+ | FreeBSD 13.4 | PASS | SKIPPED | SKIPPED | SKIPPED | SKIPPED | SKIPPED | +---------------------+--------------------+------------------+-------------------+-------------------+----------------------+-------------------------+ | Fedora 41 | PASS | PASS | PASS | SKIPPED | SKIPPED | SKIPPED | +---------------------+--------------------+------------------+-------------------+-------------------+----------------------+-------------------------+ | FreeBSD 14.2 | PASS | SKIPPED | SKIPPED | SKIPPED | SKIPPED | SKIPPED | +---------------------+--------------------+------------------+-------------------+-------------------+----------------------+-------------------------+ | Windows Server 2022 | SKIPPED | SKIPPED | SKIPPED | PASS | PASS | PASS | +---------------------+--------------------+------------------+-------------------+-------------------+----------------------+-------------------------+ CentOS Stream 9 Kernel: Depends on container host Compiler: gcc 11.5.0 20240719 (Red Hat 11.5.0-2) Debian Bullseye Kernel: Depends on container host Compiler: gcc (Debian 10.2.1-6) 10.2.1 20210110 Fedora 40 (Clang) Kernel: Depends on container host Compiler: clang 18.1.8 (Fedora 18.1.8-1.fc40) Fedora 40 Kernel: Depends on container host Compiler: gcc 14.2.1 20240912 (Red Hat 14.2.1-3) Debian 12 Kernel: Depends on container host Compiler: gcc (Debian 12.2.0-14) 12.2.0 Fedora 41 (Clang) Kernel: Depends on container host Compiler: clang 19.1.5 (Fedora 19.1.5-1.fc41) RHEL8 Kernel: Depends on container host Compiler: gcc 8.5.0 20210514 (Red Hat 8.5.0-22) RHEL9 Kernel: Depends on container host Compiler: gcc 11.5.0 20240719 (Red Hat 11.5.0-2) openSUSE Leap 15 Kernel: Depends on container host Compiler: gcc (SUSE Linux) 7.5.0 Ubuntu 20.04 Kernel: Depends on container host Compiler: gcc (Ubuntu 9.4.0-1ubuntu1~20.04.2) 9.4.0 Ubuntu 22.04 Kernel: Depends on container host Compiler: gcc (Ubuntu 11.4.0-1ubuntu1~22.04) 11.4.0 Ubuntu 24.04 Kernel: Depends on container host Compiler: gcc (Ubuntu 13.3.0-6ubuntu2~24.04) 13.3.0 Alpine Kernel: Depends on container host Compiler: gcc (Alpine 14.2.0) 14.2.0 FreeBSD 13.4 Kernel: 13.4-RELEASE-p1 Compiler: clang 18.1.6 Fedora 41 Kernel: Depends on container host Compiler: gcc 14.2.1 20240912 (Red Hat 14.2.1-3) FreeBSD 14.2 Kernel: 14.2-RELEASE Compiler: clang 18.1.6 Windows Server 2022 Kernel: 10.0.20348.2031 Compiler: clang 15.0.7, gcc 14.1.0 (MinGW), and MSVC VS 19.39.33521 To view detailed results, visit: https://lab.dpdk.org/results/dashboard/patchsets/32485/ UNH-IOL DPDK Community Lab To manage your email subscriptions, visit: https://lab.dpdk.org/results/dashboard/preferences/subscriptions/