From mboxrd@z Thu Jan 1 00:00:00 1970 Return-Path: Received: from mails.dpdk.org (mails.dpdk.org [217.70.189.124]) by inbox.dpdk.org (Postfix) with ESMTP id 188DD46192 for ; Wed, 5 Feb 2025 01:47:01 +0100 (CET) Received: from mails.dpdk.org (localhost [127.0.0.1]) by mails.dpdk.org (Postfix) with ESMTP id 26FE04021E; Wed, 5 Feb 2025 01:47:00 +0100 (CET) Received: from mail-io1-f97.google.com (mail-io1-f97.google.com [209.85.166.97]) by mails.dpdk.org (Postfix) with ESMTP id 59D4E400EF for ; Wed, 5 Feb 2025 01:46:59 +0100 (CET) Received: by mail-io1-f97.google.com with SMTP id ca18e2360f4ac-844eac51429so464395939f.2 for ; Tue, 04 Feb 2025 16:46:59 -0800 (PST) DKIM-Signature: v=1; a=rsa-sha256; c=relaxed/relaxed; d=iol.unh.edu; s=unh-iol; t=1738716418; x=1739321218; darn=dpdk.org; h=cc:to:from:subject:message-id:date:from:to:cc:subject:date :message-id:reply-to; bh=l+gkSgDr51jbubneKgk5/Sazcz1O3HHVDcck5S24wHI=; b=TU5R1ByDE/DLe40uI5V3uy7M6zs+H3aRrOru5TPrFP96UJMDMX70xyb5DaDAzDBaX0 +ChHFEjphAYeG0yZJhzE6Ia1go5shf/60BdS8aZyTE50QRHX/nsXxlqDiSJl9Q9byoBU Fh9QDqCLNm5/lkHGNW/sVI8U9T5d4dfnu9Z1M= X-Google-DKIM-Signature: v=1; a=rsa-sha256; c=relaxed/relaxed; d=1e100.net; s=20230601; t=1738716418; x=1739321218; h=cc:to:from:subject:message-id:date:x-gm-message-state:from:to:cc :subject:date:message-id:reply-to; bh=l+gkSgDr51jbubneKgk5/Sazcz1O3HHVDcck5S24wHI=; b=a87OnLM5XHnSewoTjB4cIx+APDf2rWnRCSRQJJi/oAdTuNCfmj6TY2SrwZxck5G1G1 ZackJhJ02UDz7eM90BrFMhHL7lOeVKk2plnnAbTyd68IDoflQHScUEUhT41yv2MNcnA8 dWIkDNmxXDvm45tuOYoUbpF4Fbpk5YCjpjljlCnwvImcLJnvUqY4UXp51eGbhJS4gAIy cE0+vAEHMyB2RHqTltQ6URPPch8BZfb0/JG+ndKpFo9xYSvIy/XXzZq0Vh8cnXK2KKkM aeNvAbKPXeya+xmOYKIfZ2hQKZmP1jQ269fV0jE1b24ZDU2+r4qge9qflWjQPyH4yy+g WmOA== X-Gm-Message-State: AOJu0YytWl27+2OlmL26moO2WdZeJQ7PQ/A5SYDuEXkwFFI70XOKuFxp GlF+R5zWGamPC01e4WDYZPHf4JtKhjJ/Ivy8tESSbpIgmRbPzlqUPqlD3MprhjfYRiZYzt4tcXr LhMQzu1xlnvnStHjpGmKPLdSIhZl/rKV6QJ0nVV7Q X-Gm-Gg: ASbGncvPl7nfyTKYHfslCjUF5UMJ4QV9XEfwRc8BBT8qbZdNlRdtNNTpXd45aNcPPEj OhTcw0k9euzjYe+VoX1T4QjObb98K3NPdMlcUInclNNZ3Gj2dByT7adqqXJnJPUw8W15+V0l5VG 5uIvstdh6IZCHfmhcPKm3qdLZd6PedM7rq548L127Gciwt8aOSv1rElCQ/fh67JMg99L5d7/Pel +s34aPg5dZgC4e0umVIfVlMifnI40OkNvSs52UINcYKNgSK2H/pmTXkbNW8jIrCeEIwAsVdPgfk uo5jyw5m3EgAaYr3y3N4uJkCr5WgKA== X-Google-Smtp-Source: AGHT+IHF9AjNGn2duX0dhAPAcpeUq08qsquQkc/Q2IdkbBYJXY68/BjT+JfJHhw5w02D9/wvEL/s/Lb4lQsM X-Received: by 2002:a05:6602:408f:b0:84c:e8ce:b52e with SMTP id ca18e2360f4ac-854ea532ed5mr112564039f.13.1738716418614; Tue, 04 Feb 2025 16:46:58 -0800 (PST) Received: from postal.iol.unh.edu (postal.iol.unh.edu. [132.177.123.84]) by smtp-relay.gmail.com with ESMTPS id 8926c6da1cb9f-4ec745b6555sm744394173.23.2025.02.04.16.46.58 (version=TLS1_2 cipher=ECDHE-ECDSA-AES128-GCM-SHA256 bits=128/128); Tue, 04 Feb 2025 16:46:58 -0800 (PST) X-Relaying-Domain: iol.unh.edu Date: Tue, 04 Feb 2025 16:46:58 -0800 (PST) Message-ID: <67a2b502.050a0220.2dca1f.2d21SMTPIN_ADDED_MISSING@mx.google.com> Received: from [172.21.0.5] (unknown [172.18.0.240]) by postal.iol.unh.edu (Postfix) with ESMTP id 3E7B26052471; Tue, 4 Feb 2025 19:46:58 -0500 (EST) Subject: |SUCCESS| [GIT MASTER] 61db62498cb01da9d7d5e50586f7f260954eecb2 From: dpdklab@iol.unh.edu To: Test Report Cc: dpdk-test-reports@iol.unh.edu, Stephen Hemminger Content-Type: text/plain X-BeenThere: test-report@dpdk.org X-Mailman-Version: 2.1.29 Precedence: list List-Id: automatic DPDK test reports List-Unsubscribe: , List-Archive: List-Post: List-Help: List-Subscribe: , Errors-To: test-report-bounces@dpdk.org _Testing PASS_ Branch: dpdk-next-net 61db62498cb01da9d7d5e50586f7f260954eecb2 --> testing pass Upstream job id: Windows-Compile-DPDK-Native#26305 Test environment and result as below: +---------------------+--------------------+------------------+-------------------+-------------------+----------------------+-------------------------+ | Environment | dpdk_meson_compile | dpdk_compile_ovs | dpdk_compile_spdk | dpdk_msvc_compile | dpdk_mingw64_compile | dpdk_llvm_clang_compile | +=====================+====================+==================+===================+===================+======================+=========================+ | CentOS Stream 9 | PASS | PASS | PASS | SKIPPED | SKIPPED | SKIPPED | +---------------------+--------------------+------------------+-------------------+-------------------+----------------------+-------------------------+ | Debian Bullseye | PASS | PASS | PASS | SKIPPED | SKIPPED | SKIPPED | +---------------------+--------------------+------------------+-------------------+-------------------+----------------------+-------------------------+ | Debian 12 | PASS | PASS | PASS | SKIPPED | SKIPPED | SKIPPED | +---------------------+--------------------+------------------+-------------------+-------------------+----------------------+-------------------------+ | Fedora 40 (Clang) | PASS | PASS | PASS | SKIPPED | SKIPPED | SKIPPED | +---------------------+--------------------+------------------+-------------------+-------------------+----------------------+-------------------------+ | Fedora 40 | PASS | PASS | PASS | SKIPPED | SKIPPED | SKIPPED | +---------------------+--------------------+------------------+-------------------+-------------------+----------------------+-------------------------+ | Fedora 41 (Clang) | PASS | PASS | PASS | SKIPPED | SKIPPED | SKIPPED | +---------------------+--------------------+------------------+-------------------+-------------------+----------------------+-------------------------+ | Fedora 41 | PASS | PASS | PASS | SKIPPED | SKIPPED | SKIPPED | +---------------------+--------------------+------------------+-------------------+-------------------+----------------------+-------------------------+ | openSUSE Leap 15 | PASS | SKIPPED | SKIPPED | SKIPPED | SKIPPED | SKIPPED | +---------------------+--------------------+------------------+-------------------+-------------------+----------------------+-------------------------+ | RHEL8 | PASS | PASS | SKIPPED | SKIPPED | SKIPPED | SKIPPED | +---------------------+--------------------+------------------+-------------------+-------------------+----------------------+-------------------------+ | RHEL9 | PASS | PASS | SKIPPED | SKIPPED | SKIPPED | SKIPPED | +---------------------+--------------------+------------------+-------------------+-------------------+----------------------+-------------------------+ | Ubuntu 20.04 | PASS | SKIPPED | SKIPPED | SKIPPED | SKIPPED | SKIPPED | +---------------------+--------------------+------------------+-------------------+-------------------+----------------------+-------------------------+ | Ubuntu 24.04 | PASS | PASS | PASS | SKIPPED | SKIPPED | SKIPPED | +---------------------+--------------------+------------------+-------------------+-------------------+----------------------+-------------------------+ | Alpine | PASS | PASS | SKIPPED | SKIPPED | SKIPPED | SKIPPED | +---------------------+--------------------+------------------+-------------------+-------------------+----------------------+-------------------------+ | FreeBSD 13.4 | PASS | SKIPPED | SKIPPED | SKIPPED | SKIPPED | SKIPPED | +---------------------+--------------------+------------------+-------------------+-------------------+----------------------+-------------------------+ | FreeBSD 14.2 | PASS | SKIPPED | SKIPPED | SKIPPED | SKIPPED | SKIPPED | +---------------------+--------------------+------------------+-------------------+-------------------+----------------------+-------------------------+ | Ubuntu 22.04 | PASS | PASS | PASS | SKIPPED | SKIPPED | SKIPPED | +---------------------+--------------------+------------------+-------------------+-------------------+----------------------+-------------------------+ | Windows Server 2022 | SKIPPED | SKIPPED | SKIPPED | PASS | PASS | PASS | +---------------------+--------------------+------------------+-------------------+-------------------+----------------------+-------------------------+ CentOS Stream 9 Kernel: Depends on container host Compiler: gcc 11.5.0 20240719 (Red Hat 11.5.0-2) Debian Bullseye Kernel: Depends on container host Compiler: gcc (Debian 10.2.1-6) 10.2.1 20210110 Debian 12 Kernel: Depends on container host Compiler: gcc (Debian 12.2.0-14) 12.2.0 Fedora 40 (Clang) Kernel: Depends on container host Compiler: clang 18.1.8 (Fedora 18.1.8-1.fc40) Fedora 40 Kernel: Depends on container host Compiler: gcc 14.2.1 20240912 (Red Hat 14.2.1-3) Fedora 41 (Clang) Kernel: Depends on container host Compiler: clang 19.1.5 (Fedora 19.1.5-1.fc41) Fedora 41 Kernel: Depends on container host Compiler: gcc 14.2.1 20240912 (Red Hat 14.2.1-3) openSUSE Leap 15 Kernel: Depends on container host Compiler: gcc (SUSE Linux) 7.5.0 RHEL8 Kernel: Depends on container host Compiler: gcc 8.5.0 20210514 (Red Hat 8.5.0-22) RHEL9 Kernel: Depends on container host Compiler: gcc 11.5.0 20240719 (Red Hat 11.5.0-2) Ubuntu 20.04 Kernel: Depends on container host Compiler: gcc (Ubuntu 9.4.0-1ubuntu1~20.04.2) 9.4.0 Ubuntu 24.04 Kernel: Depends on container host Compiler: gcc (Ubuntu 13.3.0-6ubuntu2~24.04) 13.3.0 Alpine Kernel: Depends on container host Compiler: gcc (Alpine 14.2.0) 14.2.0 FreeBSD 13.4 Kernel: 13.4-RELEASE-p1 Compiler: clang 18.1.6 FreeBSD 14.2 Kernel: 14.2-RELEASE Compiler: clang 18.1.6 Ubuntu 22.04 Kernel: Depends on container host Compiler: gcc (Ubuntu 11.4.0-1ubuntu1~22.04) 11.4.0 Windows Server 2022 Kernel: 10.0.20348.2031 Compiler: clang 15.0.7, gcc 14.1.0 (MinGW), and MSVC VS 19.39.33521 To view detailed results, visit: https://lab.dpdk.org/results/dashboard/tarballs/32433/ UNH-IOL DPDK Community Lab To manage your email subscriptions, visit: https://lab.dpdk.org/results/dashboard/preferences/subscriptions/