From mboxrd@z Thu Jan 1 00:00:00 1970 Return-Path: Received: from mails.dpdk.org (mails.dpdk.org [217.70.189.124]) by inbox.dpdk.org (Postfix) with ESMTP id F3D2146192 for ; Wed, 5 Feb 2025 01:52:03 +0100 (CET) Received: from mails.dpdk.org (localhost [127.0.0.1]) by mails.dpdk.org (Postfix) with ESMTP id CB9F6402B3; Wed, 5 Feb 2025 01:52:03 +0100 (CET) Received: from mail-il1-f227.google.com (mail-il1-f227.google.com [209.85.166.227]) by mails.dpdk.org (Postfix) with ESMTP id C4691402B3 for ; Wed, 5 Feb 2025 01:52:02 +0100 (CET) Received: by mail-il1-f227.google.com with SMTP id e9e14a558f8ab-3d03ac846a7so7614515ab.2 for ; Tue, 04 Feb 2025 16:52:02 -0800 (PST) DKIM-Signature: v=1; a=rsa-sha256; c=relaxed/relaxed; d=iol.unh.edu; s=unh-iol; t=1738716722; x=1739321522; darn=dpdk.org; h=cc:to:from:subject:message-id:date:from:to:cc:subject:date :message-id:reply-to; bh=sQvPLHE1qxGFOMQYsPlatb/jM5js1sz5JFLAqVCjlJk=; b=H/fP2b04HFqP4Vqz3Mk1obPaBoU6Kc7BBYoRN5CWvp/8qlDEe9Q6FtKCnsIOXHXEKh vlVX8DBNYhVSOPdtPFtquK1FiaWzUigg4sVEqad5ItLuWNqd3AgY6l98T4uFOhawDav9 JR2UJolsUCHiBVldr6EhGWpEVfB+GQdU1rz4E= X-Google-DKIM-Signature: v=1; a=rsa-sha256; c=relaxed/relaxed; d=1e100.net; s=20230601; t=1738716722; x=1739321522; h=cc:to:from:subject:message-id:date:x-gm-message-state:from:to:cc :subject:date:message-id:reply-to; bh=sQvPLHE1qxGFOMQYsPlatb/jM5js1sz5JFLAqVCjlJk=; b=hE6RiJvBzbuetW8EsD0eS5s7v5WucEXjfZlqifbeofnVblQIOA69ykaWy1HWNolTgC mJCbPMDTv02zAvHq+qQMdq6kNlSzAuIiG1bDG5FJx2DOWuI4PxFX8G68MoDrJ/5buBdY er1mMeSrg6ro2+3+qloMwCf/MCnTs8fJrpAtTlHmjj2PZF51hL+18S5jcpIRi0BGa0NA RgraUALfZJeeQ4SAHZZkSuhcaiRsmQw3aAMFCjv8jYNzDiRpfhLJSRt2r/R7B+JNPG83 I10qC/aQ4YgyG/1R6puzGlIvWEZ2OQlgb47+79p+yDOgTY1Ts8cQbjcZSvd6boWVCuSY VMGQ== X-Gm-Message-State: AOJu0Yxcv0lErnClSdV6AqXq7Mjuyhns2+MZUXL16IjlwZYm2Wg3f2eA 8yNT4ZuNy/tNbbIp1IzzTmPMAfQjbkoKv9j1w7PX/wuarZc2tikVOebldlgNN6rxJB1RCdg4ci3 R2CJt/H05sV4tHSOF3Rrg4HtLCAjyAIS+ X-Gm-Gg: ASbGncvRf5YV0gVkmUrkZVhTy4d+yrMvL7PA0pfulvqbAasAozJujQ9xSnDCBp46/Da s8By103P8AEnOfDerzKblbPQ+4v5xU0CdwiTX+mQMd8RVbcPm57SRgcUX/ttF3l9kWbj5lALQ3X fZk9kEsXm/XAzEqT2FInXIj1lnSuZRwWbYSebTdoCqsz6/CpyyKsRwcQdomdchcXJUnFXAavjM3 LSK4sCp8/1yK4amEWI4kxk6MUyzWkBLmweTV1uQnalDUTckJiLt5b3aDCwbOx/oUeT588PmGM/k +UBhUUnlrxZqOBf+PX7iby47eyYv/Q== X-Google-Smtp-Source: AGHT+IHFYRvPmn4S3/aZVWr/CZtxluDrvAjRONxTxOcX38AGg4uhD9XeQHde2CawfDrSGaLgMwobcATB4qtz X-Received: by 2002:a05:6e02:b22:b0:3cf:fa94:cad with SMTP id e9e14a558f8ab-3d04f442d0dmr10246455ab.8.1738716722089; Tue, 04 Feb 2025 16:52:02 -0800 (PST) Received: from postal.iol.unh.edu (postal.iol.unh.edu. [132.177.123.84]) by smtp-relay.gmail.com with ESMTPS id e9e14a558f8ab-3d050bdbfaasm219915ab.28.2025.02.04.16.52.02 (version=TLS1_2 cipher=ECDHE-ECDSA-AES128-GCM-SHA256 bits=128/128); Tue, 04 Feb 2025 16:52:02 -0800 (PST) X-Relaying-Domain: iol.unh.edu Date: Tue, 04 Feb 2025 16:52:02 -0800 (PST) Message-ID: <67a2b632.050a0220.befc4.113aSMTPIN_ADDED_MISSING@mx.google.com> Received: from [172.21.0.5] (unknown [172.18.0.240]) by postal.iol.unh.edu (Postfix) with ESMTP id 883D56052471; Tue, 4 Feb 2025 19:52:01 -0500 (EST) Subject: |SUCCESS| [GIT MASTER] c66daa12e76d7b4912cfb7109a761856a7a873ab From: dpdklab@iol.unh.edu To: Test Report Cc: dpdk-test-reports@iol.unh.edu, Xueming Li , Christian Ehrhardt , Kevin Traynor , Luca Boccassi Content-Type: text/plain X-BeenThere: test-report@dpdk.org X-Mailman-Version: 2.1.29 Precedence: list List-Id: automatic DPDK test reports List-Unsubscribe: , List-Archive: List-Post: List-Help: List-Subscribe: , Errors-To: test-report-bounces@dpdk.org _Testing PASS_ Branch: tags/v23.11 c66daa12e76d7b4912cfb7109a761856a7a873ab --> testing pass Upstream job id: Windows-Compile-DPDK-Native#26306 Test environment and result as below: +---------------------+--------------------+------------------+-------------------+-------------------+----------------------+-------------------------+ | Environment | dpdk_meson_compile | dpdk_compile_ovs | dpdk_compile_spdk | dpdk_msvc_compile | dpdk_mingw64_compile | dpdk_llvm_clang_compile | +=====================+====================+==================+===================+===================+======================+=========================+ | Debian 12 | PASS | PASS | PASS | SKIPPED | SKIPPED | SKIPPED | +---------------------+--------------------+------------------+-------------------+-------------------+----------------------+-------------------------+ | Fedora 40 (Clang) | PASS | PASS | PASS | SKIPPED | SKIPPED | SKIPPED | +---------------------+--------------------+------------------+-------------------+-------------------+----------------------+-------------------------+ | CentOS Stream 9 | PASS | PASS | PASS | SKIPPED | SKIPPED | SKIPPED | +---------------------+--------------------+------------------+-------------------+-------------------+----------------------+-------------------------+ | RHEL9 | PASS | PASS | SKIPPED | SKIPPED | SKIPPED | SKIPPED | +---------------------+--------------------+------------------+-------------------+-------------------+----------------------+-------------------------+ | Ubuntu 22.04 | PASS | PASS | PASS | SKIPPED | SKIPPED | SKIPPED | +---------------------+--------------------+------------------+-------------------+-------------------+----------------------+-------------------------+ | Fedora 41 | PASS | PASS | PASS | SKIPPED | SKIPPED | SKIPPED | +---------------------+--------------------+------------------+-------------------+-------------------+----------------------+-------------------------+ | openSUSE Leap 15 | PASS | SKIPPED | SKIPPED | SKIPPED | SKIPPED | SKIPPED | +---------------------+--------------------+------------------+-------------------+-------------------+----------------------+-------------------------+ | Fedora 41 (Clang) | PASS | PASS | PASS | SKIPPED | SKIPPED | SKIPPED | +---------------------+--------------------+------------------+-------------------+-------------------+----------------------+-------------------------+ | Ubuntu 20.04 | PASS | SKIPPED | SKIPPED | SKIPPED | SKIPPED | SKIPPED | +---------------------+--------------------+------------------+-------------------+-------------------+----------------------+-------------------------+ | Fedora 40 | PASS | PASS | PASS | SKIPPED | SKIPPED | SKIPPED | +---------------------+--------------------+------------------+-------------------+-------------------+----------------------+-------------------------+ | Ubuntu 24.04 | PASS | PASS | PASS | SKIPPED | SKIPPED | SKIPPED | +---------------------+--------------------+------------------+-------------------+-------------------+----------------------+-------------------------+ | RHEL8 | PASS | PASS | SKIPPED | SKIPPED | SKIPPED | SKIPPED | +---------------------+--------------------+------------------+-------------------+-------------------+----------------------+-------------------------+ | Alpine | PASS | PASS | SKIPPED | SKIPPED | SKIPPED | SKIPPED | +---------------------+--------------------+------------------+-------------------+-------------------+----------------------+-------------------------+ | FreeBSD 13.4 | PASS | SKIPPED | SKIPPED | SKIPPED | SKIPPED | SKIPPED | +---------------------+--------------------+------------------+-------------------+-------------------+----------------------+-------------------------+ | FreeBSD 14.2 | PASS | SKIPPED | SKIPPED | SKIPPED | SKIPPED | SKIPPED | +---------------------+--------------------+------------------+-------------------+-------------------+----------------------+-------------------------+ | Debian Bullseye | PASS | PASS | PASS | SKIPPED | SKIPPED | SKIPPED | +---------------------+--------------------+------------------+-------------------+-------------------+----------------------+-------------------------+ | Windows Server 2022 | SKIPPED | SKIPPED | SKIPPED | PASS | PASS | PASS | +---------------------+--------------------+------------------+-------------------+-------------------+----------------------+-------------------------+ Debian 12 Kernel: Depends on container host Compiler: gcc (Debian 12.2.0-14) 12.2.0 Fedora 40 (Clang) Kernel: Depends on container host Compiler: clang 18.1.8 (Fedora 18.1.8-1.fc40) CentOS Stream 9 Kernel: Depends on container host Compiler: gcc 11.5.0 20240719 (Red Hat 11.5.0-2) RHEL9 Kernel: Depends on container host Compiler: gcc 11.5.0 20240719 (Red Hat 11.5.0-2) Ubuntu 22.04 Kernel: Depends on container host Compiler: gcc (Ubuntu 11.4.0-1ubuntu1~22.04) 11.4.0 Fedora 41 Kernel: Depends on container host Compiler: gcc 14.2.1 20240912 (Red Hat 14.2.1-3) openSUSE Leap 15 Kernel: Depends on container host Compiler: gcc (SUSE Linux) 7.5.0 Fedora 41 (Clang) Kernel: Depends on container host Compiler: clang 19.1.5 (Fedora 19.1.5-1.fc41) Ubuntu 20.04 Kernel: Depends on container host Compiler: gcc (Ubuntu 9.4.0-1ubuntu1~20.04.2) 9.4.0 Fedora 40 Kernel: Depends on container host Compiler: gcc 14.2.1 20240912 (Red Hat 14.2.1-3) Ubuntu 24.04 Kernel: Depends on container host Compiler: gcc (Ubuntu 13.3.0-6ubuntu2~24.04) 13.3.0 RHEL8 Kernel: Depends on container host Compiler: gcc 8.5.0 20210514 (Red Hat 8.5.0-22) Alpine Kernel: Depends on container host Compiler: gcc (Alpine 14.2.0) 14.2.0 FreeBSD 13.4 Kernel: 13.4-RELEASE-p1 Compiler: clang 18.1.6 FreeBSD 14.2 Kernel: 14.2-RELEASE Compiler: clang 18.1.6 Debian Bullseye Kernel: Depends on container host Compiler: gcc (Debian 10.2.1-6) 10.2.1 20210110 Windows Server 2022 Kernel: 10.0.20348.2031 Compiler: clang 15.0.7, gcc 14.1.0 (MinGW), and MSVC VS 19.39.33521 To view detailed results, visit: https://lab.dpdk.org/results/dashboard/tarballs/32431/ UNH-IOL DPDK Community Lab To manage your email subscriptions, visit: https://lab.dpdk.org/results/dashboard/preferences/subscriptions/