From mboxrd@z Thu Jan 1 00:00:00 1970 Return-Path: Received: from mails.dpdk.org (mails.dpdk.org [217.70.189.124]) by inbox.dpdk.org (Postfix) with ESMTP id 2A3F046193 for ; Wed, 5 Feb 2025 02:04:59 +0100 (CET) Received: from mails.dpdk.org (localhost [127.0.0.1]) by mails.dpdk.org (Postfix) with ESMTP id 051664021E; Wed, 5 Feb 2025 02:04:59 +0100 (CET) Received: from mail-io1-f97.google.com (mail-io1-f97.google.com [209.85.166.97]) by mails.dpdk.org (Postfix) with ESMTP id EF234400EF for ; Wed, 5 Feb 2025 02:04:56 +0100 (CET) Received: by mail-io1-f97.google.com with SMTP id ca18e2360f4ac-851c4ee2a37so127646939f.3 for ; Tue, 04 Feb 2025 17:04:56 -0800 (PST) DKIM-Signature: v=1; a=rsa-sha256; c=relaxed/relaxed; d=iol.unh.edu; s=unh-iol; t=1738717496; x=1739322296; darn=dpdk.org; h=cc:to:from:subject:message-id:date:from:to:cc:subject:date :message-id:reply-to; bh=xsG6d4ZvCJ5kbj4Th7LdEACF9G01BgcKucJPm1n05NE=; b=cdsx0rzgvmLd5mQwsfKwKQImoA2sTJJGtaorZb2pvNszwfEr3ASqAXNx4KeOHRKwO2 OdoKIFVnmcJqMP6AMU141ZV+4VvWfSKGXXxkc0hwrqH1tOSvx7o51F8ltCTFFVX12Deq 4eAxHlk1KpXjk5JLRWB7m+EvJsqBH8OK9UHxM= X-Google-DKIM-Signature: v=1; a=rsa-sha256; c=relaxed/relaxed; d=1e100.net; s=20230601; t=1738717496; x=1739322296; h=cc:to:from:subject:message-id:date:x-gm-message-state:from:to:cc :subject:date:message-id:reply-to; bh=xsG6d4ZvCJ5kbj4Th7LdEACF9G01BgcKucJPm1n05NE=; b=fVWIM6HdE8jm+QEoAo3EOLYwtkLiTWHXnKZF57GOqi6OPQNHKXBCYQ0zNeJ9PtYolW F4Lpi1dXsbjIFF5lKkGa2DcWnI1BxTr5B2CrSMhEMtII84TchmeP6ETEv0Hi8joij9z/ 591zw2Ec7ofcyW2fnGHB8eSx6+lSudcuo0nfLcQRqOa3Ih8yk3kBBsrQnH1cVx/4flql 5MxoDmfIPcyi4JqsqKwm/NA84bkUESJ6P02xmXbNCc7wTB28we2vCjnpL0kS50QQEo+x QnmmEtgfd69XSQ1KyKQ2Gt98O7/B6hj+V4ANbL+MvdQ5jrgyE0vZGcmWdjBa1f8Q51Lk m/2Q== X-Gm-Message-State: AOJu0YxG4wZU3X2QAdRaohUy+oMoeNN4cc4xILxEiV44CeUtonDkeDzs x9xkYxW2XyjaPBx8nID5+V8/8xe8Ia2EVXdz17zbpgJZht062kIGiY1i7DW1O632LWjnYxP7/fI exgmxtbWEmnPZj/g8rh6q+l4Fav7POJkaRDNyGjVUH8djmrMm X-Gm-Gg: ASbGnct3QTKziRL0z5unzVBmcexPO2h0rzJOfIuD9X5XwegBxhlFvZYFZxvPdYHhC1z l6antSABmh3IaHHt86sVX0j0p9m/pxE2pHLxZxO7BnRcKeaPwHkqrEg2XeB+o7dGEWoUQQi3gOR gqOgQ60upT8YBHAVHfq/d4LHf/YJndX+DIDUMHpLWrULE6tDdeimCYyYWCs6Fkvq893iSZ8wBea Rbs5fJri02Z2plR15PWdh5cAyAn6CP5HjMUuu9mHisbSyK4hKV+IQvHM+Hh+lNHBVNGXCM+eYRO 2Px5U8Lv0QT2jAgubb8/dhV+VpStx45vFf2aJ5aV7A== X-Google-Smtp-Source: AGHT+IH7bLr9XSl+7tlKW4xZ9ZitWvZ5oIF031QIR0ZD9stHEnmOZM+S7vGR4swnd9DdB2a5alI8VG4IwNeh X-Received: by 2002:a05:6602:4889:b0:83b:a47c:dbfd with SMTP id ca18e2360f4ac-854ea4380c5mr137546939f.6.1738717495834; Tue, 04 Feb 2025 17:04:55 -0800 (PST) Received: from postal.iol.unh.edu (postal.iol.unh.edu. [2606:4100:3880:1234::84]) by smtp-relay.gmail.com with ESMTPS id ca18e2360f4ac-854a1840781sm77576739f.30.2025.02.04.17.04.55 (version=TLS1_2 cipher=ECDHE-ECDSA-AES128-GCM-SHA256 bits=128/128); Tue, 04 Feb 2025 17:04:55 -0800 (PST) X-Relaying-Domain: iol.unh.edu Date: Tue, 04 Feb 2025 17:04:55 -0800 (PST) Message-ID: <67a2b937.050a0220.e873b.6020SMTPIN_ADDED_MISSING@mx.google.com> Received: from [172.21.0.5] (unknown [172.18.0.240]) by postal.iol.unh.edu (Postfix) with ESMTP id 4EBB96052471; Tue, 4 Feb 2025 20:04:55 -0500 (EST) Subject: |SUCCESS| [GIT MASTER] f2eea2f37a82bb73fb01d56350708f7d70e21379 From: dpdklab@iol.unh.edu To: Test Report Cc: dpdk-test-reports@iol.unh.edu, Xueming Li , Christian Ehrhardt , Kevin Traynor , Luca Boccassi Content-Type: text/plain X-BeenThere: test-report@dpdk.org X-Mailman-Version: 2.1.29 Precedence: list List-Id: automatic DPDK test reports List-Unsubscribe: , List-Archive: List-Post: List-Help: List-Subscribe: , Errors-To: test-report-bounces@dpdk.org _Testing PASS_ Branch: tags/v24.11 f2eea2f37a82bb73fb01d56350708f7d70e21379 --> testing pass Upstream job id: Windows-Compile-DPDK-Native#26308 Test environment and result as below: +---------------------+--------------------+------------------+-------------------+-------------------+----------------------+-------------------------+ | Environment | dpdk_meson_compile | dpdk_compile_ovs | dpdk_compile_spdk | dpdk_msvc_compile | dpdk_mingw64_compile | dpdk_llvm_clang_compile | +=====================+====================+==================+===================+===================+======================+=========================+ | Debian Bullseye | PASS | PASS | PASS | SKIPPED | SKIPPED | SKIPPED | +---------------------+--------------------+------------------+-------------------+-------------------+----------------------+-------------------------+ | CentOS Stream 9 | PASS | PASS | PASS | SKIPPED | SKIPPED | SKIPPED | +---------------------+--------------------+------------------+-------------------+-------------------+----------------------+-------------------------+ | Debian 12 | PASS | PASS | PASS | SKIPPED | SKIPPED | SKIPPED | +---------------------+--------------------+------------------+-------------------+-------------------+----------------------+-------------------------+ | Fedora 40 (Clang) | PASS | PASS | PASS | SKIPPED | SKIPPED | SKIPPED | +---------------------+--------------------+------------------+-------------------+-------------------+----------------------+-------------------------+ | Fedora 41 (Clang) | PASS | PASS | PASS | SKIPPED | SKIPPED | SKIPPED | +---------------------+--------------------+------------------+-------------------+-------------------+----------------------+-------------------------+ | openSUSE Leap 15 | PASS | SKIPPED | SKIPPED | SKIPPED | SKIPPED | SKIPPED | +---------------------+--------------------+------------------+-------------------+-------------------+----------------------+-------------------------+ | Fedora 41 | PASS | PASS | PASS | SKIPPED | SKIPPED | SKIPPED | +---------------------+--------------------+------------------+-------------------+-------------------+----------------------+-------------------------+ | RHEL8 | PASS | PASS | SKIPPED | SKIPPED | SKIPPED | SKIPPED | +---------------------+--------------------+------------------+-------------------+-------------------+----------------------+-------------------------+ | RHEL9 | PASS | PASS | SKIPPED | SKIPPED | SKIPPED | SKIPPED | +---------------------+--------------------+------------------+-------------------+-------------------+----------------------+-------------------------+ | Ubuntu 20.04 | PASS | SKIPPED | SKIPPED | SKIPPED | SKIPPED | SKIPPED | +---------------------+--------------------+------------------+-------------------+-------------------+----------------------+-------------------------+ | Ubuntu 22.04 | PASS | PASS | PASS | SKIPPED | SKIPPED | SKIPPED | +---------------------+--------------------+------------------+-------------------+-------------------+----------------------+-------------------------+ | FreeBSD 13.4 | PASS | SKIPPED | SKIPPED | SKIPPED | SKIPPED | SKIPPED | +---------------------+--------------------+------------------+-------------------+-------------------+----------------------+-------------------------+ | Ubuntu 24.04 | PASS | PASS | PASS | SKIPPED | SKIPPED | SKIPPED | +---------------------+--------------------+------------------+-------------------+-------------------+----------------------+-------------------------+ | Alpine | PASS | PASS | SKIPPED | SKIPPED | SKIPPED | SKIPPED | +---------------------+--------------------+------------------+-------------------+-------------------+----------------------+-------------------------+ | FreeBSD 14.2 | PASS | SKIPPED | SKIPPED | SKIPPED | SKIPPED | SKIPPED | +---------------------+--------------------+------------------+-------------------+-------------------+----------------------+-------------------------+ | Fedora 40 | PASS | PASS | PASS | SKIPPED | SKIPPED | SKIPPED | +---------------------+--------------------+------------------+-------------------+-------------------+----------------------+-------------------------+ | Windows Server 2022 | SKIPPED | SKIPPED | SKIPPED | PASS | PASS | PASS | +---------------------+--------------------+------------------+-------------------+-------------------+----------------------+-------------------------+ Debian Bullseye Kernel: Depends on container host Compiler: gcc (Debian 10.2.1-6) 10.2.1 20210110 CentOS Stream 9 Kernel: Depends on container host Compiler: gcc 11.5.0 20240719 (Red Hat 11.5.0-2) Debian 12 Kernel: Depends on container host Compiler: gcc (Debian 12.2.0-14) 12.2.0 Fedora 40 (Clang) Kernel: Depends on container host Compiler: clang 18.1.8 (Fedora 18.1.8-1.fc40) Fedora 41 (Clang) Kernel: Depends on container host Compiler: clang 19.1.5 (Fedora 19.1.5-1.fc41) openSUSE Leap 15 Kernel: Depends on container host Compiler: gcc (SUSE Linux) 7.5.0 Fedora 41 Kernel: Depends on container host Compiler: gcc 14.2.1 20240912 (Red Hat 14.2.1-3) RHEL8 Kernel: Depends on container host Compiler: gcc 8.5.0 20210514 (Red Hat 8.5.0-22) RHEL9 Kernel: Depends on container host Compiler: gcc 11.5.0 20240719 (Red Hat 11.5.0-2) Ubuntu 20.04 Kernel: Depends on container host Compiler: gcc (Ubuntu 9.4.0-1ubuntu1~20.04.2) 9.4.0 Ubuntu 22.04 Kernel: Depends on container host Compiler: gcc (Ubuntu 11.4.0-1ubuntu1~22.04) 11.4.0 FreeBSD 13.4 Kernel: 13.4-RELEASE-p1 Compiler: clang 18.1.6 Ubuntu 24.04 Kernel: Depends on container host Compiler: gcc (Ubuntu 13.3.0-6ubuntu2~24.04) 13.3.0 Alpine Kernel: Depends on container host Compiler: gcc (Alpine 14.2.0) 14.2.0 FreeBSD 14.2 Kernel: 14.2-RELEASE Compiler: clang 18.1.6 Fedora 40 Kernel: Depends on container host Compiler: gcc 14.2.1 20240912 (Red Hat 14.2.1-3) Windows Server 2022 Kernel: 10.0.20348.2031 Compiler: clang 15.0.7, gcc 14.1.0 (MinGW), and MSVC VS 19.39.33521 To view detailed results, visit: https://lab.dpdk.org/results/dashboard/tarballs/32430/ UNH-IOL DPDK Community Lab To manage your email subscriptions, visit: https://lab.dpdk.org/results/dashboard/preferences/subscriptions/