From mboxrd@z Thu Jan 1 00:00:00 1970 Return-Path: Received: from mails.dpdk.org (mails.dpdk.org [217.70.189.124]) by inbox.dpdk.org (Postfix) with ESMTP id BDF4E46193 for ; Wed, 5 Feb 2025 02:09:51 +0100 (CET) Received: from mails.dpdk.org (localhost [127.0.0.1]) by mails.dpdk.org (Postfix) with ESMTP id A4EA84021E; Wed, 5 Feb 2025 02:09:51 +0100 (CET) Received: from mail-io1-f99.google.com (mail-io1-f99.google.com [209.85.166.99]) by mails.dpdk.org (Postfix) with ESMTP id 34276400EF for ; Wed, 5 Feb 2025 02:09:50 +0100 (CET) Received: by mail-io1-f99.google.com with SMTP id ca18e2360f4ac-84ceaf2667aso393465539f.3 for ; Tue, 04 Feb 2025 17:09:50 -0800 (PST) DKIM-Signature: v=1; a=rsa-sha256; c=relaxed/relaxed; d=iol.unh.edu; s=unh-iol; t=1738717789; x=1739322589; darn=dpdk.org; h=references:in-reply-to:cc:to:from:subject:message-id:date:from:to :cc:subject:date:message-id:reply-to; bh=FRj5Xq9QQzw80cL8NGln+PZFppM9asis8r8EUOvn53w=; b=gAFl59/KXVRMQkrKIVYuZJBjpu8fIDbIS5c6D2zhbT0cv0s41foEIdQ4pOhM1rDa/v C+0NP0/qDnoG0x3BiCZG5ypevFHly+ddiAjNMH6P98ampo44dyEtoGc5qmn4STYkxxjQ 8/BMSKrINKX/Fl5Kl8xWnsdVQZzWX9WR5Jw/8= X-Google-DKIM-Signature: v=1; a=rsa-sha256; c=relaxed/relaxed; d=1e100.net; s=20230601; t=1738717789; x=1739322589; h=references:in-reply-to:cc:to:from:subject:message-id:date :x-gm-message-state:from:to:cc:subject:date:message-id:reply-to; bh=FRj5Xq9QQzw80cL8NGln+PZFppM9asis8r8EUOvn53w=; b=US7YPc1Bjm+sZJbYrHQAGhUCgmdQDCo3ppeQ5BiKyHgytSSZXVTN3JFrNyKud+xfFA q+fWhSza7tjUOsHK4pU+4bmN8LIe982De7VGeewFJDEqD4CylTk5k1yxiCKjaSvr4Vmp qXL+RRle8fBvZWS2N5qIwzAZvoZiInL7Fn8E3OHyMEbSMVxQLJLODCS4WwdDUc4kibql pQj2/Uu15JtdgtwdlLN1k0E/sJwTwsCdlv1XspgqDChO6ou2rdp4uw5Y/jOwj91W6hjM kECebqNPPectk7Djv0YarHQT/QkOn8WFBlodJ0+k8XyzIljHu7zyOV6aDRTUJk3p6z+h +1XQ== X-Gm-Message-State: AOJu0Yzfh2XLq9vTeWhPO5kcThSGjEA02UbWYBabEu2RR1dkrxx/2lbP aAvLbFf9zUTQBXNk+JgVawLj8cgvBRyt6yhhzyrKFLUZLLuS0QwAJqKPSes45/8ypz8GqjIpFfb 8A0BE+1Y4t6NrJ5zW0LBehzajCEK8HRaMYkK4vbixYHOdkCkbTksdyUYU X-Gm-Gg: ASbGncsCIdtmDTjuqrEJbo3k59oc5c1WquAgW5qujEt3/Jj/VnkotqwWqwqXHKYYGQ5 /1hf5g2qG4ypOq1tqWfIsIZ2M9/0SCmRsdWYFL698mekdVdmKJ/bN4YiQXVVpJcR9N2d5J6pmAA qyoz2R22MP/VeaBW2HMGSptdI0R0TxnL3345TZPZTmJuK/2uxJ6uiAic+0r2FaWxVUcGRX4V+wN YUQygMb98UQP+FWRSPMG9sVZur2Dy3d8/i97EtyUoSNMBEPQ9OjrQZJsa3zJTucG6mmPK9R0Yuq b/+xefTlO+NTfblVddou0VYVNgRRrgg0W52uoxM+fw== X-Google-Smtp-Source: AGHT+IF1QFt009OyIWW4R74VCOLZFHo+B9dibu9xcfs6/QIelAsfXkn8b0rHjdZn2aD0ilnIfjrtTcvK8jVo X-Received: by 2002:a05:6602:6cc2:b0:843:e8d0:a728 with SMTP id ca18e2360f4ac-854ea4401ebmr161754739f.4.1738717789545; Tue, 04 Feb 2025 17:09:49 -0800 (PST) Received: from postal.iol.unh.edu (postal.iol.unh.edu. [2606:4100:3880:1234::84]) by smtp-relay.gmail.com with ESMTPS id ca18e2360f4ac-854a15b964fsm76691839f.5.2025.02.04.17.09.49 (version=TLS1_2 cipher=ECDHE-ECDSA-AES128-GCM-SHA256 bits=128/128); Tue, 04 Feb 2025 17:09:49 -0800 (PST) X-Relaying-Domain: iol.unh.edu Date: Tue, 04 Feb 2025 17:09:49 -0800 (PST) Message-ID: <67a2ba5d.050a0220.23fee6.4d44SMTPIN_ADDED_MISSING@mx.google.com> Received: from [172.21.0.6] (unknown [172.18.0.240]) by postal.iol.unh.edu (Postfix) with ESMTP id 14BCA6052471; Tue, 4 Feb 2025 20:09:49 -0500 (EST) Subject: |SUCCESS| pw150893 [PATCH] net/af_packet: fix socket close on device From: dpdklab@iol.unh.edu To: Test Report Cc: dpdk-test-reports@iol.unh.edu In-Reply-To: <20250204164508.864080-1-tudor.cornea@gmail.com> References: <20250204164508.864080-1-tudor.cornea@gmail.com> Content-Type: text/plain X-BeenThere: test-report@dpdk.org X-Mailman-Version: 2.1.29 Precedence: list List-Id: automatic DPDK test reports List-Unsubscribe: , List-Archive: List-Post: List-Help: List-Subscribe: , Errors-To: test-report-bounces@dpdk.org Test-Label: iol-abi-testing Test-Status: SUCCESS http://dpdk.org/patch/150893 _Testing PASS_ Submitter: Tudor Cornea Date: Tuesday, February 04 2025 16:45:08 DPDK git baseline: Repo:dpdk Branch: master CommitID:595535be66b103f7ce3ba61939b8013032987404 150893 --> testing pass Upstream job id: Generic-DPDK-Compile-ABI#114774 Test environment and result as below: +-------------------+----------+ | Environment | abi_test | +===================+==========+ | Debian Bullseye | PASS | +-------------------+----------+ | CentOS Stream 9 | PASS | +-------------------+----------+ | Debian 12 | PASS | +-------------------+----------+ | Fedora 40 (Clang) | PASS | +-------------------+----------+ | Fedora 40 | PASS | +-------------------+----------+ | Fedora 41 (Clang) | PASS | +-------------------+----------+ | Fedora 41 | PASS | +-------------------+----------+ | openSUSE Leap 15 | PASS | +-------------------+----------+ | RHEL9 | PASS | +-------------------+----------+ | RHEL8 | PASS | +-------------------+----------+ | Ubuntu 24.04 | PASS | +-------------------+----------+ | Ubuntu 22.04 | PASS | +-------------------+----------+ Debian Bullseye Kernel: Depends on container host Compiler: gcc (Debian 10.2.1-6) 10.2.1 20210110 CentOS Stream 9 Kernel: Depends on container host Compiler: gcc 11.5.0 20240719 (Red Hat 11.5.0-2) Debian 12 Kernel: Depends on container host Compiler: gcc (Debian 12.2.0-14) 12.2.0 Fedora 40 (Clang) Kernel: Depends on container host Compiler: clang 18.1.8 (Fedora 18.1.8-1.fc40) Fedora 40 Kernel: Depends on container host Compiler: gcc 14.2.1 20240912 (Red Hat 14.2.1-3) Fedora 41 (Clang) Kernel: Depends on container host Compiler: clang 19.1.5 (Fedora 19.1.5-1.fc41) Fedora 41 Kernel: Depends on container host Compiler: gcc 14.2.1 20240912 (Red Hat 14.2.1-3) openSUSE Leap 15 Kernel: Depends on container host Compiler: gcc (SUSE Linux) 7.5.0 RHEL9 Kernel: Depends on container host Compiler: gcc 11.5.0 20240719 (Red Hat 11.5.0-2) RHEL8 Kernel: Depends on container host Compiler: gcc 8.5.0 20210514 (Red Hat 8.5.0-22) Ubuntu 24.04 Kernel: Depends on container host Compiler: gcc (Ubuntu 13.3.0-6ubuntu2~24.04) 13.3.0 Ubuntu 22.04 Kernel: Depends on container host Compiler: gcc (Ubuntu 11.4.0-1ubuntu1~22.04) 11.4.0 To view detailed results, visit: https://lab.dpdk.org/results/dashboard/patchsets/32490/ UNH-IOL DPDK Community Lab To manage your email subscriptions, visit: https://lab.dpdk.org/results/dashboard/preferences/subscriptions/